{"text_format":"1","workbook":"xlsx","n_sheets":6,"sheets":["CALC","CALCF","Información","FUTUROS ESPECIFICOS","calendario","Entrega Anticipada"],"not_rendered":{"charts":0,"images":3,"macros":1,"external_links":0,"defined_names":60,"comments":1,"pivot_tables":0},"unopened":[],"bounds":{"document_bytes":16777216,"sheet_cells":100000,"rows_first":2000,"rows_last":500,"rows_between":2000,"halvings":0,"cell_chars":16384,"cell_head_chars":4096},"cells_cut":0,"cells_raw":0,"read":"whole","date_system":"1900"}

{"sheet":"CALC","index":0,"n_rows":70,"n_cols":19,"rows_kept":70,"cut":false,"hidden":true,"merged":[]}
["Emision","DC24","Contrato",null,"Fecha Fin","Dxv","Plazo Cupon","Flujo Cupón","Amort","VP",null,"Contador","VP Acum",null,null,"Fecha Fin Fung","Fecha Fin No Fung",null,{"$f":"\"DC18\"&Información!$H$2","v":"DC18MR22"}]
["Vencimiento","MR22","Vencimiento",null,{"$f":"IF(OR($B$1=\"MR26\",$B$1=\"SP24\"),Q2,P2)","v":"2013-12-19"},{"$f":"IF(OR(E2-$B$3<=0,E2>$B$4),\"\",E2-$B$3)","v":""},null,null,null,null,null,null,null,null,null,"2013-12-19","2016-09-15",null,{"$f":"\"DC18\"&Información!$H$3","v":"DC18JN22"}]
["Fecha Valuación",{"$f":"DIA_VALUACION","v":"2022-01-04"},null,{"$f":"IF(F3=MIN($F:$F),\"VIG\",\"\")","v":""},{"$f":"IF(OR($B$1=\"MR26\",$B$1=\"SP24\"),Q3,P3)","v":"2014-06-19"},{"$f":"IF(OR(E3-$B$3<=0,E3>$B$4),\"\",E3-$B$3)","v":""},{"$f":"IF(E3-E2<0,0,E3-E2)","v":182},{"$f":"IF(F3<=0,0,$B$6/36000*G3*100)","v":5.0555555555555554},{"$f":"IF(F3=MAX($F:$F),100,0)","v":0},{"$f":"IF(F3=\"\",0,(H3+I3)/(1+$B$7*182/36000)^(F3/182))","v":0},null,{"$f":"IF(F3=\"\",\"\",IF(F3=MIN($F:$F),1,L2+1))","v":""},{"$f":"IFERROR(H3/(1+$B$11*F3/36000)+SUM($M$2:$M2),0)","v":0},null,null,"2014-06-19","2017-03-16",null,{"$f":"\"DC18\"&Información!$H$4","v":"DC18SP22"}]
["Vencimiento",{"$f":"VLOOKUP($B$1,CTOS_CASH,2,0)","v":"2024-12-05"},null,{"$f":"IF(F4=MIN($F:$F),\"VIG\",\"\")","v":""},"2014-12-18",{"$f":"IF(OR(E4-$B$3<=0,E4>$B$4),\"\",E4-$B$3)","v":""},{"$f":"IF(E4-E3<0,0,E4-E3)","v":182},5.0555555555555554,{"$f":"IF(F4=MAX($F:$F),100,0)","v":0},0,{"$f":"IFERROR(H4/(1+$B$11*F4/36000),\"\")","v":""},"",{"$f":"IFERROR(H4/(1+$B$11*F4/36000)+SUM($M$2:$M3),0)","v":0},null,null,"2014-12-18","2017-09-14"]
["Venc. Futuro",{"$f":"VLOOKUP($B$2,CTOS_FUT,2,0)","v":"2022-03-31"},null,{"$f":"IF(F5=MIN($F:$F),\"VIG\",\"\")","v":""},"2015-06-18",{"$f":"IF(OR(E5-$B$3<=0,E5>$B$4),\"\",E5-$B$3)","v":""},{"$f":"IF(E5-E4<0,0,E5-E4)","v":182},5.0555555555555554,{"$f":"IF(F5=MAX($F:$F),100,0)","v":0},0,"","",{"$f":"IFERROR(H5/(1+$B$11*F5/36000)+SUM($M$2:$M4),0)","v":0},null,null,"2015-06-18","2018-03-15",null,{"$f":"\"JN21\"&Información!$H$2","v":"JN21MR22"}]
["Tasa Cupón",{"$f":"VLOOKUP($B$1,CTOS_CASH,3,0)","v":10},null,"","2015-12-17","",182,{"$f":"IF(F6<=0,0,$B$6/36000*G6*100)","v":5.0555555555555554},0,0,{"$f":"IFERROR(H6/(1+$B$11*F6/36000),\"\")","v":""},"",{"$f":"IFERROR(H6/(1+$B$11*F6/36000)+SUM($M$2:$M5),0)","v":0},null,null,"2015-12-17","2018-09-13",null,{"$f":"\"JN21\"&Información!$H$3","v":"JN21JN22"}]
["Tasa Yield",7.1621045878762857,null,"","2016-06-16","",182,5.0555555555555554,0,0,"","",{"$f":"IFERROR(H7/(1+$B$11*F7/36000)+SUM($M$2:$M6),0)","v":0},null,null,"2016-06-16","2019-03-14",null,{"$f":"\"JN21\"&Información!$H$4","v":"JN21SP22"}]
["Precio Sucio",{"$f":"SUM($J:$J)","v":108.16289753958607},null,{"$f":"IF(F8=MIN($F:$F),\"VIG\",\"\")","v":""},"2016-12-15","",182,5.0555555555555554,0,0,"","",{"$f":"IFERROR(H8/(1+$B$11*F8/36000)+SUM($M$2:$M7),0)","v":0},null,null,"2016-12-15","2019-09-12",null,{"$f":"\"JN21\"&Información!$H$5","v":"JN21DC22"}]
["Precio Limpio",{"$f":"+B8-B10","v":107.44067531736384},null,"","2017-06-15","",182,5.0555555555555554,0,0,"","",{"$f":"IFERROR(H9/(1+$B$11*F9/36000)+SUM($M$2:$M8),0)","v":0},null,null,"2017-06-15","2020-03-12"]
["Intereses",{"$f":"100*$B$6/36000*(VLOOKUP(\"VIG\",$D:$G,4,0)-VLOOKUP(\"VIG\",$D:$G,3,0))","v":0.72222222222222221},null,"","2017-12-14","",182,5.0555555555555554,0,0,"","",{"$f":"IFERROR(H10/(1+$B$11*F10/36000)+SUM($M$2:$M9),0)","v":0},null,null,"2017-12-14","2020-09-10",null,{"$f":"\"DC24\"&Información!$H$2","v":"DC24MR22"}]
["Fondeo",{"$f":"VLOOKUP($B$2,TABLA_FONDEO,3,0)","v":5.8039420000000002},null,{"$f":"IF(F11=MIN($F:$F),\"VIG\",\"\")","v":""},"2018-06-14",{"$f":"IF(OR(E11-$B$3<=0,E11>$B$4),\"\",E11-$B$3)","v":""},182,{"$f":"IF(F11<=0,0,$B$6/36000*G11*100)","v":5.0555555555555554},0,{"$f":"IF(F11=\"\",0,(H11+I11)/(1+$B$7*182/36000)^(F11/182))","v":0},{"$f":"IFERROR(H11/(1+$B$11*F11/36000),\"\")","v":""},{"$f":"IF(F11=\"\",\"\",IF(F11=MIN($F:$F),1,L10+1))","v":""},{"$f":"IFERROR(H11/(1+$B$11*F11/36000)+SUM($M$2:$M10),0)","v":0},null,null,"2018-06-14","2021-03-11",null,{"$f":"\"DC24\"&Información!$H$3","v":"DC24JN22"}]
["Cupones",{"$f":"TRUNC(($B$5-(VLOOKUP(\"VIG\",$D:$G,2,0)-VLOOKUP(\"VIG\",$D:$G,4,0)))/180,0)","v":0},null,"","2018-12-13",{"$f":"IF(OR(E12-$B$3<=0,E12>$B$4),\"\",E12-$B$3)","v":""},182,5.0555555555555554,0,{"$f":"IF(F12=\"\",0,(H12+I12)/(1+$B$7*182/36000)^(F12/182))","v":0},{"$f":"IFERROR(H12/(1+$B$11*F12/36000),\"\")","v":""},{"$f":"IF(F12=\"\",\"\",IF(F12=MIN($F:$F),1,L11+1))","v":""},{"$f":"IFERROR(H12/(1+$B$11*F12/36000)+SUM($M$2:$M11),0)","v":0},null,null,"2018-12-13","2021-09-09",null,{"$f":"\"DC24\"&Información!$H$4","v":"DC24SP22"}]
["VP Cupón",{"$f":"IFERROR(VLOOKUP($B$12,$L:$M,2,0),0)","v":0},null,"","2019-06-13","",{"$f":"IF(E13-E12<0,0,E13-E12)","v":182},5.0555555555555554,0,{"$f":"IF(F13=\"\",0,(H13+I13)/(1+$B$7*182/36000)^(F13/182))","v":0},{"$f":"IFERROR(H13/(1+$B$11*F13/36000),\"\")","v":""},"",{"$f":"IFERROR(H13/(1+$B$11*F13/36000)+SUM($M$2:$M12),0)","v":0},null,null,"2019-06-13","2022-03-10",null,{"$f":"\"DC24\"&Información!$H$5","v":"DC24DC22"}]
["DXV FUT",{"$f":"+B5-B3","v":86},null,"","2019-12-11","",181,5.0277777777777777,0,0,"","",{"$f":"IFERROR(H14/(1+$B$11*F14/36000)+SUM($M$2:$M13),0)","v":0},null,null,"2019-12-11","2022-09-08"]
["Acarreo",{"$f":"(B8-B13)*(1+B11*B14/36000)","v":109.6625731455018},null,"","2020-06-11","",183,5.083333333333333,0,{"$f":"IF(F15=\"\",0,(H15+I15)/(1+$B$7*182/36000)^(F15/182))","v":0},"","",{"$f":"IFERROR(H15/(1+$B$11*F15/36000)+SUM($M$2:$M14),0)","v":0},null,null,"2020-06-11","2023-03-09",null,{"$f":"\"MR26\"&Información!$H$2","v":"MR26MR22"}]
["Tasa Yield",{"$f":"CALCF!B4","v":7.3282505277249337},null,"","2020-12-10","",182,5.0555555555555554,0,0,"","",{"$f":"IFERROR(H16/(1+$B$11*F16/36000)+SUM($M$2:$M15),0)","v":0},null,null,"2020-12-10","2023-09-07",null,{"$f":"\"MR26\"&Información!$H$3","v":"MR26JN22"}]
[null,null,null,"","2021-06-10","",182,5.0555555555555554,0,0,"","",{"$f":"IFERROR(H17/(1+$B$11*F17/36000)+SUM($M$2:$M16),0)","v":0},null,null,"2021-06-10","2024-03-07",null,{"$f":"\"MR26\"&Información!$H$4","v":"MR26SP22"}]
[null,null,null,"","2021-12-09","",182,5.0555555555555554,0,0,"","",{"$f":"IFERROR(H18/(1+$B$11*F18/36000)+SUM($M$2:$M17),0)","v":0},null,null,"2021-12-09","2024-09-05",null,{"$f":"\"MR26\"&Información!$H$5","v":"MR26DC22"}]
[null,null,null,"VIG","2022-06-09",156,182,5.0555555555555554,0,4.9037520434394954,4.9315256375443344,1,{"$f":"IFERROR(H19/(1+$B$11*F19/36000)+SUM($M$2:$M18),0)","v":4.9315256375443344},null,null,"2022-06-09","2025-03-06"]
[null,null,null,"","2022-12-08",338,182,5.0555555555555554,0,4.732399351294668,4.7943017484412067,2,{"$f":"IFERROR(H20/(1+$B$11*F20/36000)+SUM($M$2:$M19),0)","v":9.7258273859855411},null,null,"2022-12-08","2025-09-04",null,{"$f":"\"MY31\"&Información!$H$2","v":"MY31MR22"}]
[null,null,null,"","2023-06-08",520,182,5.0555555555555554,0,4.567034267178383,4.6645078558851925,3,{"$f":"IFERROR(H21/(1+$B$11*F21/36000)+SUM($M$2:$M20),0)","v":19.32186087941507},null,null,"2023-06-08","2026-03-05",null,{"$f":"\"MY31\"&Información!$H$3","v":"MY31JN22"}]
[null,null,null,"","2023-12-07",702,182,5.0555555555555554,0,4.4074475650233129,4.5415564195985425,4,{"$f":"IFERROR(H22/(1+$B$11*F22/36000)+SUM($M$2:$M21),0)","v":38.520770322543491},null,null,"2023-12-07",null,null,{"$f":"\"MY31\"&Información!$H$4","v":"MY31SP22"}]
[null,null,null,"","2024-06-06",884,182,5.0555555555555554,0,4.2534373297863395,4.424920256095378,5,{"$f":"IFERROR(H23/(1+$B$11*F23/36000)+SUM($M$2:$M22),0)","v":76.924904481583823},null,null,"2024-06-06",null,null,{"$f":"\"MY31\"&Información!$H$5","v":"MY31DC22"}]
[null,null,null,"","2024-12-05",1066,182,5.0555555555555554,100,85.298826982863872,4.3141249823339072,6,{"$f":"IFERROR(H24/(1+$B$11*F24/36000)+SUM($M$2:$M23),0)","v":153.73901368940619},null,null,"2024-12-05"]
[null,null,null,"","2025-06-05","",182,5.0555555555555554,0,0,"","",{"$f":"IFERROR(H25/(1+$B$11*F25/36000)+SUM($M$2:$M24),0)","v":0},null,null,"2025-06-05",null,null,{"$f":"\"NV42\"&Información!$H$2","v":"NV42MR22"}]
[null,null,null,"","2025-12-04","",182,5.0555555555555554,0,0,"","",{"$f":"IFERROR(H26/(1+$B$11*F26/36000)+SUM($M$2:$M25),0)","v":0},null,null,"2025-12-04",null,null,{"$f":"\"NV42\"&Información!$H$3","v":"NV42JN22"}]
[null,null,null,"","2026-06-04","",182,5.0555555555555554,0,0,"","",{"$f":"IFERROR(H27/(1+$B$11*F27/36000)+SUM($M$2:$M26),0)","v":0},null,null,"2026-06-04",null,null,"NV42SP18"]
[null,null,null,"","2026-12-03","",182,5.0555555555555554,0,0,"","",{"$f":"IFERROR(H28/(1+$B$11*F28/36000)+SUM($M$2:$M27),0)","v":0},null,null,"2026-12-03",null,null,{"$f":"\"NV42\"&Información!$H$5","v":"NV42DC22"}]
[null,null,null,"","2027-06-03","",182,5.0555555555555554,0,0,"","",{"$f":"IFERROR(H29/(1+$B$11*F29/36000)+SUM($M$2:$M28),0)","v":0},null,null,"2027-06-03"]
[null,null,null,"","2027-12-02","",182,5.0555555555555554,0,0,"","",{"$f":"IFERROR(H30/(1+$B$11*F30/36000)+SUM($M$2:$M29),0)","v":0},null,null,"2027-12-02",null,null,{"$f":"\"JN20\"&Información!$H$2","v":"JN20MR22"}]
[null,null,null,"","2028-06-01","",182,5.0555555555555554,0,0,"","",{"$f":"IFERROR(H31/(1+$B$11*F31/36000)+SUM($M$2:$M30),0)","v":0},null,null,"2028-06-01",null,null,{"$f":"\"JN20\"&Información!$H$3","v":"JN20JN22"}]
[null,null,null,"","2028-11-30","",182,5.0555555555555554,0,0,"","",{"$f":"IFERROR(H32/(1+$B$11*F32/36000)+SUM($M$2:$M31),0)","v":0},null,null,"2028-11-30",null,null,{"$f":"\"JN20\"&Información!$H$4","v":"JN20SP22"}]
[null,null,null,"","2029-05-31","",182,5.0555555555555554,0,0,"","",{"$f":"IFERROR(H33/(1+$B$11*F33/36000)+SUM($M$2:$M32),0)","v":0},null,null,"2029-05-31",null,null,{"$f":"\"JN20\"&Información!$H$5","v":"JN20DC22"}]
[null,null,null,"","2029-11-29",{"$f":"IF(OR(E34-$B$3<=0,E34>$B$4),\"\",E34-$B$3)","v":""},182,5.0555555555555554,0,0,"","",{"$f":"IFERROR(H34/(1+$B$11*F34/36000)+SUM($M$2:$M33),0)","v":0},null,null,"2029-11-29"]
[null,null,null,"","2030-05-30","",182,{"$f":"IF(F35<=0,0,$B$6/36000*G35*100)","v":5.0555555555555554},0,{"$f":"IF(F35=\"\",0,(H35+I35)/(1+$B$7*182/36000)^(F35/182))","v":0},"",{"$f":"IF(F35=\"\",\"\",IF(F35=MIN($F:$F),1,L34+1))","v":""},{"$f":"IFERROR(H35/(1+$B$11*F35/36000)+SUM($M$2:$M34),0)","v":0},null,null,"2030-05-30",null,null,{"$f":"\"JN22\"&Información!$H$2","v":"JN22MR22"}]
[null,null,null,"","2030-11-28","",182,5.0555555555555554,0,0,{"$f":"IFERROR(H36/(1+$B$11*F36/36000),\"\")","v":""},"",{"$f":"IFERROR(H36/(1+$B$11*F36/36000)+SUM($M$2:$M35),0)","v":0},null,null,"2030-11-28",null,null,{"$f":"\"JN22\"&Información!$H$3","v":"JN22JN22"}]
[null,null,null,"","2031-05-29","",182,5.0555555555555554,0,0,"","",{"$f":"IFERROR(H37/(1+$B$11*F37/36000)+SUM($M$2:$M36),0)","v":0},null,null,"2031-05-29",null,null,{"$f":"\"JN22\"&Información!$H$4","v":"JN22SP22"}]
[null,null,null,"","2031-11-27","",182,5.0555555555555554,0,0,"","",{"$f":"IFERROR(H38/(1+$B$11*F38/36000)+SUM($M$2:$M37),0)","v":0},null,null,"2031-11-27",null,null,{"$f":"\"JN22\"&Información!$H$5","v":"JN22DC22"}]
[null,null,null,"","2032-05-27","",182,5.0555555555555554,0,0,"","",{"$f":"IFERROR(H39/(1+$B$11*F39/36000)+SUM($M$2:$M38),0)","v":0},null,null,"2032-05-27"]
[null,null,null,"","2032-11-25","",182,5.0555555555555554,0,0,"","",{"$f":"IFERROR(H40/(1+$B$11*F40/36000)+SUM($M$2:$M39),0)","v":0},null,null,"2032-11-25",null,null,{"$f":"\"JN27\"&Información!$H$2","v":"JN27MR22"}]
[null,null,null,"","2033-05-26","",182,5.0555555555555554,0,0,"","",{"$f":"IFERROR(H41/(1+$B$11*F41/36000)+SUM($M$2:$M40),0)","v":0},null,null,"2033-05-26",null,null,{"$f":"\"JN27\"&Información!$H$3","v":"JN27JN22"}]
[null,null,null,"","2033-11-24","",182,5.0555555555555554,0,0,"","",{"$f":"IFERROR(H42/(1+$B$11*F42/36000)+SUM($M$2:$M41),0)","v":0},null,null,"2033-11-24",null,null,{"$f":"\"JN27\"&Información!$H$4","v":"JN27SP22"}]
[null,null,null,"","2034-05-25","",182,5.0555555555555554,0,0,"","",{"$f":"IFERROR(H43/(1+$B$11*F43/36000)+SUM($M$2:$M42),0)","v":0},null,null,"2034-05-25",null,null,{"$f":"\"JN27\"&Información!$H$5","v":"JN27DC22"}]
[null,null,null,"","2034-11-23","",182,5.0555555555555554,0,0,"","",{"$f":"IFERROR(H44/(1+$B$11*F44/36000)+SUM($M$2:$M43),0)","v":0},null,null,"2034-11-23"]
[null,null,null,"","2035-05-24","",182,5.0555555555555554,0,0,"","",{"$f":"IFERROR(H45/(1+$B$11*F45/36000)+SUM($M$2:$M44),0)","v":0},null,null,"2035-05-24",null,null,{"$f":"\"NV36\"&Información!$H$2","v":"NV36MR22"}]
[null,null,null,"","2035-11-22","",182,5.0555555555555554,0,0,"","",{"$f":"IFERROR(H46/(1+$B$11*F46/36000)+SUM($M$2:$M45),0)","v":0},null,null,"2035-11-22",null,null,{"$f":"\"NV36\"&Información!$H$3","v":"NV36JN22"}]
[null,null,null,"","2036-05-22","",182,5.0555555555555554,0,0,"","",{"$f":"IFERROR(H47/(1+$B$11*F47/36000)+SUM($M$2:$M46),0)","v":0},null,null,"2036-05-22",null,null,{"$f":"\"NV36\"&Información!$H$4","v":"NV36SP22"}]
[null,null,null,"","2036-11-20","",182,5.0555555555555554,0,0,"","",{"$f":"IFERROR(H48/(1+$B$11*F48/36000)+SUM($M$2:$M47),0)","v":0},null,null,"2036-11-20",null,null,{"$f":"\"NV36\"&Información!$H$5","v":"NV36DC22"}]
[null,null,null,"","2037-05-21","",182,5.0555555555555554,0,0,"","",{"$f":"IFERROR(H49/(1+$B$11*F49/36000)+SUM($M$2:$M48),0)","v":0},null,null,"2037-05-21"]
[null,null,null,{"$f":"IF(F50=MIN($F:$F),\"VIG\",\"\")","v":""},"2037-11-19","",182,5.0555555555555554,0,0,"","",{"$f":"IFERROR(H50/(1+$B$11*F50/36000)+SUM($M$2:$M49),0)","v":0},null,null,"2037-11-19",null,null,{"$f":"\"NV47\"&Información!$H$2","v":"NV47MR22"}]
[null,null,null,"","2038-05-20","",182,5.0555555555555554,0,0,"","",{"$f":"IFERROR(H51/(1+$B$11*F51/36000)+SUM($M$2:$M50),0)","v":0},null,null,"2038-05-20",null,null,{"$f":"\"NV47\"&Información!$H$3","v":"NV47JN22"}]
[null,null,null,"","2038-11-18","",182,5.0555555555555554,0,0,"","",{"$f":"IFERROR(H52/(1+$B$11*F52/36000)+SUM($M$2:$M51),0)","v":0},null,null,"2038-11-18",null,null,{"$f":"\"NV47\"&Información!$H$4","v":"NV47SP22"}]
[null,null,null,"","2039-05-19","",182,5.0555555555555554,0,0,"","",{"$f":"IFERROR(H53/(1+$B$11*F53/36000)+SUM($M$2:$M52),0)","v":0},null,null,"2039-05-19",null,null,{"$f":"\"NV47\"&Información!$H$5","v":"NV47DC22"}]
[null,null,null,"","2039-11-17","",182,5.0555555555555554,0,0,"","",{"$f":"IFERROR(H54/(1+$B$11*F54/36000)+SUM($M$2:$M53),0)","v":0},null,null,"2039-11-17"]
[null,null,null,"","2040-05-17","",182,5.0555555555555554,0,0,"","",{"$f":"IFERROR(H55/(1+$B$11*F55/36000)+SUM($M$2:$M54),0)","v":0},null,null,"2040-05-17"]
[null,null,null,"","2040-11-15","",182,5.0555555555555554,0,0,"","",{"$f":"IFERROR(H56/(1+$B$11*F56/36000)+SUM($M$2:$M55),0)","v":0},null,null,"2040-11-15"]
[null,null,null,"","2041-05-16","",182,5.0555555555555554,0,0,"","",{"$f":"IFERROR(H57/(1+$B$11*F57/36000)+SUM($M$2:$M56),0)","v":0},null,null,"2041-05-16"]
[null,null,null,"","2041-11-14","",182,5.0555555555555554,0,0,"","",{"$f":"IFERROR(H58/(1+$B$11*F58/36000)+SUM($M$2:$M57),0)","v":0},null,null,"2041-11-14"]
[null,null,null,"","2042-05-15","",182,5.0555555555555554,0,0,"","",{"$f":"IFERROR(H59/(1+$B$11*F59/36000)+SUM($M$2:$M58),0)","v":0},null,null,"2042-05-15"]
[null,null,null,"","2042-11-13",{"$f":"IF(OR(E60-$B$3<=0,E60>$B$4),\"\",E60-$B$3)","v":""},{"$f":"IF(E60-E59<0,0,E60-E59)","v":182},{"$f":"IF(F60<=0,0,$B$6/36000*G60*100)","v":5.0555555555555554},{"$f":"IF(F60=MAX($F:$F),100,0)","v":0},{"$f":"IF(F60=\"\",0,(H60+I60)/(1+$B$7*182/36000)^(F60/182))","v":0},{"$f":"IFERROR(H60/(1+$B$11*F60/36000),\"\")","v":""},{"$f":"IF(F60=\"\",\"\",IF(F60=MIN($F:$F),1,L59+1))","v":""},{"$f":"IFERROR(H60/(1+$B$11*F60/36000)+SUM($M$2:$M59),0)","v":0},null,null,"2042-11-13"]
[null,null,null,null,"2043-05-14",{"$f":"IF(OR(E61-$B$3<=0,E61>$B$4),\"\",E61-$B$3)","v":""},{"$f":"IF(E61-E60<0,0,E61-E60)","v":182},{"$f":"IF(F61<=0,0,$B$6/36000*G61*100)","v":5.0555555555555554},{"$f":"IF(F61=MAX($F:$F),100,0)","v":0},{"$f":"IF(F61=\"\",0,(H61+I61)/(1+$B$7*182/36000)^(F61/182))","v":0},{"$f":"IFERROR(H61/(1+$B$11*F61/36000),\"\")","v":""},{"$f":"IF(F61=\"\",\"\",IF(F61=MIN($F:$F),1,L60+1))","v":""},{"$f":"IFERROR(H61/(1+$B$11*F61/36000)+SUM($M$2:$M60),0)","v":0},null,null,"2043-05-14"]
[null,null,null,null,"2043-11-12","",182,5.0555555555555554,0,0,"","",{"$f":"IFERROR(H62/(1+$B$11*F62/36000)+SUM($M$2:$M61),0)","v":0},null,null,"2043-11-12"]
[null,null,null,null,"2044-05-12","",182,5.0555555555555554,0,0,"","",{"$f":"IFERROR(H63/(1+$B$11*F63/36000)+SUM($M$2:$M62),0)","v":0},null,null,"2044-05-12"]
[null,null,null,null,"2044-11-10","",182,5.0555555555555554,0,0,"","",{"$f":"IFERROR(H64/(1+$B$11*F64/36000)+SUM($M$2:$M63),0)","v":0},null,null,"2044-11-10"]
[null,null,null,null,"2045-05-11","",182,5.0555555555555554,0,0,"","",{"$f":"IFERROR(H65/(1+$B$11*F65/36000)+SUM($M$2:$M64),0)","v":0},null,null,"2045-05-11"]
[null,null,null,null,"2045-11-09","",182,5.0555555555555554,0,0,"","",{"$f":"IFERROR(H66/(1+$B$11*F66/36000)+SUM($M$2:$M65),0)","v":0},null,null,"2045-11-09"]
[null,null,null,null,{"$f":"IF(OR($B$1=\"MR26\",$B$1=\"SP24\"),Q67,P67)","v":"2046-05-10"},"",182,5.0555555555555554,0,0,"","",{"$f":"IFERROR(H67/(1+$B$11*F67/36000)+SUM($M$2:$M66),0)","v":0},null,null,"2046-05-10"]
[null,null,null,null,"2046-11-08","",182,5.0555555555555554,0,0,"","",{"$f":"IFERROR(H68/(1+$B$11*F68/36000)+SUM($M$2:$M67),0)","v":0},null,null,"2046-11-08"]
[null,null,null,null,"2047-05-09","",182,5.0555555555555554,0,0,"","",{"$f":"IFERROR(H69/(1+$B$11*F69/36000)+SUM($M$2:$M68),0)","v":0},null,null,"2047-05-09"]
[null,null,null,null,{"$f":"IF($B$1=\"MR26\",Q70,P70)","v":"2047-11-07"},"",182,5.0555555555555554,0,0,"","",{"$f":"IFERROR(H70/(1+$B$11*F70/36000)+SUM($M$2:$M69),0)","v":0},null,null,"2047-11-07"]

{"sheet":"CALCF","index":1,"n_rows":70,"n_cols":17,"rows_kept":70,"cut":false,"hidden":true,"merged":[]}
["Fecha Valuación",{"$f":"+CALC!B5","v":"2022-03-31"},null,null,"Fecha Fin","Dxv","Plazo Cupon",null,null,null,null,null,null,null,null,"Fecha Fin Fung","Fecha Fin No Fung"]
["Vencimiento",{"$f":"+CALC!B4","v":"2024-12-05"},null,null,{"$f":"IF(CALC!$B$1=\"MR26\",Q2,P2)","v":"2013-12-19"},{"$f":"IF(OR(E2-$B$1<=0,E2>$B$2),\"\",E2-$B$1)","v":""},null,null,null,null,null,null,null,null,null,"2013-12-19","2016-09-15"]
["Tasa Cupón",{"$f":"+CALC!B6","v":10},null,{"$f":"IF(F3=MIN($F:$F),\"VIG\",\"\")","v":""},{"$f":"IF(CALC!$B$1=\"MR26\",Q3,P3)","v":"2014-06-19"},"",{"$f":"IF(E3-E2<0,0,E3-E2)","v":182},null,null,null,null,null,null,null,null,"2014-06-19","2017-03-16"]
["Tasa Yield",7.3282505277249337,null,"",{"$f":"IF(CALC!$B$1=\"MR26\",Q4,P4)","v":"2014-12-18"},"",{"$f":"IF(E4-E3<0,0,E4-E3)","v":182},{"$f":"IF(F4<=0,0,IF(F4=MAX($F:$F),$B$3/36000*G4*100+100,$B$3/36000*G4*100))","v":5.0555555555555554},{"$f":"IF(F4=\"\",0,H4/(1+$B$4*182/36000)^(F4/182))","v":0},null,null,null,null,null,null,"2014-12-18","2017-09-14"]
["Precio Sucio",{"$f":"SUM(I:I)","v":109.57497598398065},null,"",{"$f":"IF(CALC!$B$1=\"MR26\",Q5,P5)","v":"2015-06-18"},"",182,{"$f":"IF(F5<=0,0,IF(F5=MAX($F:$F),$B$3/36000*G5*100+100,$B$3/36000*G5*100))","v":5.0555555555555554},{"$f":"IF(F5=\"\",0,H5/(1+$B$4*182/36000)^(F5/182))","v":0},null,null,null,null,null,null,"2015-06-18","2018-03-15"]
[null,{"$f":"+B5-CALC!B15","v":-8.7597161521145495E-2},null,"",{"$f":"IF(CALC!$B$1=\"MR26\",Q6,P6)","v":"2015-12-17"},"",182,{"$f":"IF(F6<=0,0,IF(F6=MAX($F:$F),$B$3/36000*G6*100+100,$B$3/36000*G6*100))","v":5.0555555555555554},0,null,null,null,null,null,null,"2015-12-17","2018-09-13"]
[null,null,null,"",{"$f":"IF(CALC!$B$1=\"MR26\",Q7,P7)","v":"2016-06-16"},"",182,5.0555555555555554,0,null,null,null,null,null,null,"2016-06-16","2019-03-14"]
[null,null,null,"",{"$f":"IF(CALC!$B$1=\"MR26\",Q8,P8)","v":"2016-12-15"},"",182,5.0555555555555554,0,null,null,null,null,null,null,"2016-12-15","2019-09-12"]
[null,null,null,"",{"$f":"IF(CALC!$B$1=\"MR26\",Q9,P9)","v":"2017-06-15"},"",182,5.0555555555555554,0,null,null,null,null,null,null,"2017-06-15","2020-03-12"]
[null,null,null,"",{"$f":"IF(CALC!$B$1=\"MR26\",Q10,P10)","v":"2017-12-14"},"",182,5.0555555555555554,0,null,null,null,null,null,null,"2017-12-14","2020-09-10"]
[null,null,null,"",{"$f":"IF(CALC!$B$1=\"MR26\",Q11,P11)","v":"2018-06-14"},"",182,5.0555555555555554,0,null,null,null,null,null,null,"2018-06-14","2021-03-11"]
[null,null,null,"",{"$f":"IF(CALC!$B$1=\"MR26\",Q12,P12)","v":"2018-12-13"},"",182,5.0555555555555554,0,null,null,null,null,null,null,"2018-12-13","2021-09-09"]
[null,null,null,"",{"$f":"IF(CALC!$B$1=\"MR26\",Q13,P13)","v":"2019-06-13"},"",182,5.0555555555555554,0,null,null,null,null,null,null,"2019-06-13","2022-03-10"]
[null,null,null,"",{"$f":"IF(CALC!$B$1=\"MR26\",Q14,P14)","v":"2019-12-11"},"",181,5.0277777777777777,0,null,null,null,null,null,null,"2019-12-11","2022-09-08"]
[null,null,null,"",{"$f":"IF(CALC!$B$1=\"MR26\",Q15,P15)","v":"2020-06-11"},"",183,5.083333333333333,0,null,null,null,null,null,null,"2020-06-11","2023-03-09"]
[null,null,null,"",{"$f":"IF(CALC!$B$1=\"MR26\",Q16,P16)","v":"2020-12-10"},"",182,5.0555555555555554,0,null,null,null,null,null,null,"2020-12-10","2023-09-07"]
[null,null,null,"",{"$f":"IF(CALC!$B$1=\"MR26\",Q17,P17)","v":"2021-06-10"},"",182,5.0555555555555554,0,null,null,null,null,null,null,"2021-06-10","2024-03-07"]
[null,null,null,"",{"$f":"IF(CALC!$B$1=\"MR26\",Q18,P18)","v":"2021-12-09"},"",182,5.0555555555555554,0,null,null,null,null,null,null,"2021-12-09","2024-09-05"]
[null,null,null,"VIG",{"$f":"IF(CALC!$B$1=\"MR26\",Q19,P19)","v":"2022-06-09"},70,182,5.0555555555555554,4.9853119898876264,null,null,null,null,null,null,"2022-06-09","2025-03-06"]
[null,null,null,"",{"$f":"IF(CALC!$B$1=\"MR26\",Q20,P20)","v":"2022-12-08"},252,182,5.0555555555555554,4.8072125633119667,null,null,null,null,null,null,"2022-12-08","2025-09-04"]
[null,null,null,"",{"$f":"IF(CALC!$B$1=\"MR26\",Q21,P21)","v":"2023-06-08"},434,182,5.0555555555555554,4.6354757085895653,null,null,null,null,null,null,"2023-06-08","2026-03-05"]
[null,null,null,"",{"$f":"IF(CALC!$B$1=\"MR26\",Q22,P22)","v":"2023-12-07"},616,182,5.0555555555555554,4.4698741239184701,null,null,null,null,null,null,"2023-12-07"]
[null,null,null,"",{"$f":"IF(CALC!$B$1=\"MR26\",Q23,P23)","v":"2024-06-06"},798,182,5.0555555555555554,4.310188627815104,null,null,null,null,null,null,"2024-06-06"]
[null,null,null,"",{"$f":"IF(CALC!$B$1=\"MR26\",Q24,P24)","v":"2024-12-05"},980,182,105.05555555555556,86.366912970457918,null,null,null,null,null,null,"2024-12-05"]
[null,null,null,"",{"$f":"IF(CALC!$B$1=\"MR26\",Q25,P25)","v":"2025-06-05"},"",182,5.0555555555555554,0,null,null,null,null,null,null,"2025-06-05"]
[null,null,null,"",{"$f":"IF(CALC!$B$1=\"MR26\",Q26,P26)","v":"2025-12-04"},"",182,5.0555555555555554,0,null,null,null,null,null,null,"2025-12-04"]
[null,null,null,"",{"$f":"IF(CALC!$B$1=\"MR26\",Q27,P27)","v":"2026-06-04"},"",182,5.0555555555555554,0,null,null,null,null,null,null,"2026-06-04"]
[null,null,null,"",{"$f":"IF(CALC!$B$1=\"MR26\",Q28,P28)","v":"2026-12-03"},"",182,5.0555555555555554,0,null,null,null,null,null,null,"2026-12-03"]
[null,null,null,"",{"$f":"IF(CALC!$B$1=\"MR26\",Q29,P29)","v":"2027-06-03"},"",182,5.0555555555555554,0,null,null,null,null,null,null,"2027-06-03"]
[null,null,null,"",{"$f":"IF(CALC!$B$1=\"MR26\",Q30,P30)","v":"2027-12-02"},"",182,5.0555555555555554,0,null,null,null,null,null,null,"2027-12-02"]
[null,null,null,"",{"$f":"IF(CALC!$B$1=\"MR26\",Q31,P31)","v":"2028-06-01"},"",182,5.0555555555555554,0,null,null,null,null,null,null,"2028-06-01"]
[null,null,null,"",{"$f":"IF(CALC!$B$1=\"MR26\",Q32,P32)","v":"2028-11-30"},"",182,5.0555555555555554,0,null,null,null,null,null,null,"2028-11-30"]
[null,null,null,"",{"$f":"IF(CALC!$B$1=\"MR26\",Q33,P33)","v":"2029-05-31"},"",182,5.0555555555555554,0,null,null,null,null,null,null,"2029-05-31"]
[null,null,null,"",{"$f":"IF(CALC!$B$1=\"MR26\",Q34,P34)","v":"2029-11-29"},{"$f":"IF(OR(E34-$B$1<=0,E34>$B$2),\"\",E34-$B$1)","v":""},182,5.0555555555555554,0,null,null,null,null,null,null,"2029-11-29"]
[null,null,null,{"$f":"IF(F35=MIN($F:$F),\"VIG\",\"\")","v":""},{"$f":"IF(CALC!$B$1=\"MR26\",Q35,P35)","v":"2030-05-30"},"",182,{"$f":"IF(F35<=0,0,IF(F35=MAX($F:$F),$B$3/36000*G35*100+100,$B$3/36000*G35*100))","v":5.0555555555555554},{"$f":"IF(F35=\"\",0,H35/(1+$B$4*182/36000)^(F35/182))","v":0},null,null,null,null,null,null,"2030-05-30"]
[null,null,null,"",{"$f":"IF(CALC!$B$1=\"MR26\",Q36,P36)","v":"2030-11-28"},"",182,5.0555555555555554,0,null,null,null,null,null,null,"2030-11-28"]
[null,null,null,"",{"$f":"IF(CALC!$B$1=\"MR26\",Q37,P37)","v":"2031-05-29"},"",182,5.0555555555555554,0,null,null,null,null,null,null,"2031-05-29"]
[null,null,null,"",{"$f":"IF(CALC!$B$1=\"MR26\",Q38,P38)","v":"2031-11-27"},"",182,5.0555555555555554,0,null,null,null,null,null,null,"2031-11-27"]
[null,null,null,"",{"$f":"IF(CALC!$B$1=\"MR26\",Q39,P39)","v":"2032-05-27"},"",182,5.0555555555555554,0,null,null,null,null,null,null,"2032-05-27"]
[null,null,null,"",{"$f":"IF(CALC!$B$1=\"MR26\",Q40,P40)","v":"2032-11-25"},"",182,5.0555555555555554,0,null,null,null,null,null,null,"2032-11-25"]
[null,null,null,"",{"$f":"IF(CALC!$B$1=\"MR26\",Q41,P41)","v":"2033-05-26"},"",182,5.0555555555555554,0,null,null,null,null,null,null,"2033-05-26"]
[null,null,null,"",{"$f":"IF(CALC!$B$1=\"MR26\",Q42,P42)","v":"2033-11-24"},"",182,5.0555555555555554,0,null,null,null,null,null,null,"2033-11-24"]
[null,null,null,"",{"$f":"IF(CALC!$B$1=\"MR26\",Q43,P43)","v":"2034-05-25"},"",182,5.0555555555555554,0,null,null,null,null,null,null,"2034-05-25"]
[null,null,null,"",{"$f":"IF(CALC!$B$1=\"MR26\",Q44,P44)","v":"2034-11-23"},"",182,5.0555555555555554,0,null,null,null,null,null,null,"2034-11-23"]
[null,null,null,"",{"$f":"IF(CALC!$B$1=\"MR26\",Q45,P45)","v":"2035-05-24"},"",182,5.0555555555555554,0,null,null,null,null,null,null,"2035-05-24"]
[null,null,null,"",{"$f":"IF(CALC!$B$1=\"MR26\",Q46,P46)","v":"2035-11-22"},"",182,5.0555555555555554,0,null,null,null,null,null,null,"2035-11-22"]
[null,null,null,"",{"$f":"IF(CALC!$B$1=\"MR26\",Q47,P47)","v":"2036-05-22"},"",182,5.0555555555555554,0,null,null,null,null,null,null,"2036-05-22"]
[null,null,null,"",{"$f":"IF(CALC!$B$1=\"MR26\",Q48,P48)","v":"2036-11-20"},"",182,5.0555555555555554,0,null,null,null,null,null,null,"2036-11-20"]
[null,null,null,"",{"$f":"IF(CALC!$B$1=\"MR26\",Q49,P49)","v":"2037-05-21"},"",182,5.0555555555555554,0,null,null,null,null,null,null,"2037-05-21"]
[null,null,null,"",{"$f":"IF(CALC!$B$1=\"MR26\",Q50,P50)","v":"2037-11-19"},"",182,5.0555555555555554,0,null,null,null,null,null,null,"2037-11-19"]
[null,null,null,"",{"$f":"IF(CALC!$B$1=\"MR26\",Q51,P51)","v":"2038-05-20"},"",182,5.0555555555555554,0,null,null,null,null,null,null,"2038-05-20"]
[null,null,null,"",{"$f":"IF(CALC!$B$1=\"MR26\",Q52,P52)","v":"2038-11-18"},"",182,5.0555555555555554,0,null,null,null,null,null,null,"2038-11-18"]
[null,null,null,"",{"$f":"IF(CALC!$B$1=\"MR26\",Q53,P53)","v":"2039-05-19"},"",182,5.0555555555555554,0,null,null,null,null,null,null,"2039-05-19"]
[null,null,null,"",{"$f":"IF(CALC!$B$1=\"MR26\",Q54,P54)","v":"2039-11-17"},"",182,5.0555555555555554,0,null,null,null,null,null,null,"2039-11-17"]
[null,null,null,"",{"$f":"IF(CALC!$B$1=\"MR26\",Q55,P55)","v":"2040-05-17"},"",182,5.0555555555555554,0,null,null,null,null,null,null,"2040-05-17"]
[null,null,null,"",{"$f":"IF(CALC!$B$1=\"MR26\",Q56,P56)","v":"2040-11-15"},"",182,5.0555555555555554,0,null,null,null,null,null,null,"2040-11-15"]
[null,null,null,"",{"$f":"IF(CALC!$B$1=\"MR26\",Q57,P57)","v":"2041-05-16"},"",182,5.0555555555555554,0,null,null,null,null,null,null,"2041-05-16"]
[null,null,null,"",{"$f":"IF(CALC!$B$1=\"MR26\",Q58,P58)","v":"2041-11-14"},"",182,5.0555555555555554,0,null,null,null,null,null,null,"2041-11-14"]
[null,null,null,"",{"$f":"IF(CALC!$B$1=\"MR26\",Q59,P59)","v":"2042-05-15"},"",182,5.0555555555555554,0,null,null,null,null,null,null,"2042-05-15"]
[null,null,null,"",{"$f":"IF(CALC!$B$1=\"MR26\",Q60,P60)","v":"2042-11-13"},"",182,5.0555555555555554,0,null,null,null,null,null,null,"2042-11-13"]
[null,null,null,null,{"$f":"IF(CALC!$B$1=\"MR26\",Q61,P61)","v":"2043-05-14"},{"$f":"IF(OR(E61-$B$1<=0,E61>$B$2),\"\",E61-$B$1)","v":""},{"$f":"IF(E61-E60<0,0,E61-E60)","v":182},{"$f":"IF(F61<=0,0,IF(F61=MAX($F:$F),$B$3/36000*G61*100+100,$B$3/36000*G61*100))","v":5.0555555555555554},{"$f":"IF(F61=\"\",0,H61/(1+$B$4*182/36000)^(F61/182))","v":0},null,null,null,null,null,null,"2043-05-14"]
[null,null,null,null,{"$f":"IF(CALC!$B$1=\"MR26\",Q62,P62)","v":"2043-11-12"},"",182,5.0555555555555554,0,null,null,null,null,null,null,"2043-11-12"]
[null,null,null,null,{"$f":"IF(CALC!$B$1=\"MR26\",Q63,P63)","v":"2044-05-12"},"",182,5.0555555555555554,0,null,null,null,null,null,null,"2044-05-12"]
[null,null,null,null,{"$f":"IF(CALC!$B$1=\"MR26\",Q64,P64)","v":"2044-11-10"},"",182,5.0555555555555554,0,null,null,null,null,null,null,"2044-11-10"]
[null,null,null,null,{"$f":"IF(CALC!$B$1=\"MR26\",Q65,P65)","v":"2045-05-11"},"",182,5.0555555555555554,0,null,null,null,null,null,null,"2045-05-11"]
[null,null,null,null,{"$f":"IF(CALC!$B$1=\"MR26\",Q66,P66)","v":"2045-11-09"},"",182,5.0555555555555554,0,null,null,null,null,null,null,"2045-11-09"]
[null,null,null,null,{"$f":"IF(CALC!$B$1=\"MR26\",Q67,P67)","v":"2046-05-10"},"",182,5.0555555555555554,0,null,null,null,null,null,null,"2046-05-10"]
[null,null,null,null,{"$f":"IF(CALC!$B$1=\"MR26\",Q68,P68)","v":"2046-11-08"},"",182,5.0555555555555554,0,null,null,null,null,null,null,"2046-11-08"]
[null,null,null,null,{"$f":"IF(CALC!$B$1=\"MR26\",Q69,P69)","v":"2047-05-09"},"",182,5.0555555555555554,0,null,null,null,null,null,null,"2047-05-09"]
[null,null,null,null,{"$f":"IF(CALC!$B$1=\"MR26\",Q70,P70)","v":"2047-11-07"},"",182,5.0555555555555554,0,null,null,null,null,null,null,"2047-11-07"]

{"sheet":"Información","index":2,"n_rows":2000,"n_cols":9,"rows_kept":2000,"cut":false,"hidden":false,"merged":[]}
[1,5.48,null,null,"Contrato","Vencimiento","Cupón","Contrato","Vencimiento"]
[2,5.48,null,null,"DC24","2024-12-05",10,"MR22","2022-03-31"]
[3,5.48,null,null,"MR26","2026-03-05",5.75,"JN22","2022-06-30"]
[4,5.48,null,null,"JN27","2027-06-03",7.5,"SP22","2022-09-30"]
[5,5.48,null,null,"MY29","2029-05-31",8.5,"DC22","2022-12-30"]
[6,5.48,null,null,"MY31","2031-05-29",7.75]
[7,5.48,null,null,"NV36","2036-11-20",10]
[8,5.48,null,null,"NV42","2042-11-13",7.75]
[9,5.48,null,null,"NV47","2047-11-07",8]
[10,5.48]
[11,5.48]
[12,5.48]
[13,5.48]
[14,5.48]
[15,5.4798419999999997]
[16,5.4785750000000002]
[17,5.4755599999999998]
[18,5.471495]
[19,5.4670810000000003]
[20,5.4630150000000004]
[21,5.46]
[22,5.463336]
[23,5.470002]
[24,5.4800019999999998]
[25,5.4916679999999998]
[26,5.5033339999999997]
[27,5.5133340000000004]
[28,5.52]
[29,5.52]
[30,5.5194460000000003]
[31,5.5180170000000004]
[32,5.5160640000000001]
[33,5.5139360000000002]
[34,5.5119829999999999]
[35,5.510554]
[36,5.51]
[37,5.5112829999999997]
[38,5.5148200000000003]
[39,5.5201460000000004]
[40,5.5267929999999996]
[41,5.5342950000000002]
[42,5.5421870000000002]
[43,5.55]
[44,5.5571719999999996]
[45,5.5638389999999998]
[46,5.5705830000000001]
[47,5.5779880000000004]
[48,5.5866379999999998]
[49,5.5971140000000004]
[50,5.61]
[51,5.6271430000000002]
[52,5.6483670000000004]
[53,5.6712239999999996]
[54,5.6932650000000002]
[55,5.7120410000000001]
[56,5.7251019999999997]
[57,5.73]
[58,5.73]
[59,5.73]
[60,5.73]
[61,5.73]
[62,5.73]
[63,5.73]
[64,5.73]
[65,5.73]
[66,5.73]
[67,5.73]
[68,5.73]
[69,5.73]
[70,5.73]
[71,5.73]
[72,5.7323620000000002]
[73,5.7385520000000003]
[74,5.7472300000000001]
[75,5.7570550000000003]
[76,5.766686]
[77,5.7747809999999999]
[78,5.78]
[79,5.78172]
[80,5.7811079999999997]
[81,5.7795040000000002]
[82,5.778251]
[83,5.7786879999999998]
[84,5.7821569999999998]
[85,5.79]
[86,5.8039420000000002]
[87,5.8226459999999998]
[88,5.8428570000000004]
[89,5.8613229999999996]
[90,5.8747879999999997]
[91,5.88]
[92,5.8800439999999998]
[93,5.8811669999999996]
[94,5.8841359999999998]
[95,5.8884850000000002]
[96,5.8937480000000004]
[97,5.899457]
[98,5.9051479999999996]
[99,5.9103519999999996]
[100,5.9153169999999999]
[101,5.9205569999999996]
[102,5.926005]
[103,5.931597]
[104,5.9372670000000003]
[105,5.9429480000000003]
[106,5.9485770000000002]
[107,5.9540860000000002]
[108,5.9594110000000002]
[109,5.9644849999999998]
[110,5.9692429999999996]
[111,5.9736209999999996]
[112,5.9775510000000001]
[113,5.9809679999999998]
[114,5.9840070000000001]
[115,5.9868569999999997]
[116,5.9895319999999996]
[117,5.9920470000000003]
[118,5.9944160000000002]
[119,5.9966540000000004]
[120,5.9987750000000002]
[121,6.000794]
[122,6.002726]
[123,6.0045849999999996]
[124,6.0063849999999999]
[125,6.0081420000000003]
[126,6.0098700000000003]
[127,6.0115829999999999]
[128,6.0131030000000001]
[129,6.0142949999999997]
[130,6.0152390000000002]
[131,6.0160159999999996]
[132,6.016705]
[133,6.0173860000000001]
[134,6.018141]
[135,6.0190489999999999]
[136,6.0201900000000004]
[137,6.0216440000000002]
[138,6.0234920000000001]
[139,6.0258139999999996]
[140,6.028689]
[141,6.0321990000000003]
[142,6.0361219999999998]
[143,6.0401879999999997]
[144,6.0444050000000002]
[145,6.0487789999999997]
[146,6.0533190000000001]
[147,6.0580319999999999]
[148,6.0629239999999998]
[149,6.068003]
[150,6.0732759999999999]
[151,6.0787519999999997]
[152,6.0844360000000002]
[153,6.0903359999999997]
[154,6.0964600000000004]
[155,6.1028149999999997]
[156,6.1093960000000003]
[157,6.1161750000000001]
[158,6.1231260000000001]
[159,6.130223]
[160,6.1374409999999999]
[161,6.1447510000000003]
[162,6.1521280000000003]
[163,6.1595459999999997]
[164,6.1669790000000004]
[165,6.1743990000000002]
[166,6.1817799999999998]
[167,6.1890970000000003]
[168,6.1963220000000003]
[169,6.20343]
[170,6.2109509999999997]
[171,6.2192720000000001]
[172,6.228148]
[173,6.2373380000000003]
[174,6.2465970000000004]
[175,6.2556830000000003]
[176,6.2643519999999997]
[177,6.2723620000000002]
[178,6.2794689999999997]
[179,6.2854289999999997]
[180,6.29]
[181,6.2928730000000002]
[182,6.2938710000000002]
[183,6.2938489999999998]
[184,6.2942689999999999]
[185,6.2955410000000001]
[186,6.2976150000000004]
[187,6.3004379999999998]
[188,6.3039630000000004]
[189,6.3081389999999997]
[190,6.3129160000000004]
[191,6.3182429999999998]
[192,6.3240699999999999]
[193,6.3303469999999997]
[194,6.3370259999999998]
[195,6.3440539999999999]
[196,6.3513830000000002]
[197,6.3589609999999999]
[198,6.3667400000000001]
[199,6.3746669999999996]
[200,6.3826939999999999]
[201,6.390771]
[202,6.3988480000000001]
[203,6.4068740000000002]
[204,6.4147980000000002]
[205,6.4225719999999997]
[206,6.4301450000000004]
[207,6.4374669999999998]
[208,6.4444869999999996]
[209,6.4511560000000001]
[210,6.4574239999999996]
[211,6.4632399999999999]
[212,6.4688129999999999]
[213,6.4743839999999997]
[214,6.4799530000000001]
[215,6.4855150000000004]
[216,6.4910690000000004]
[217,6.4966150000000003]
[218,6.5021500000000003]
[219,6.5076720000000003]
[220,6.5131800000000002]
[221,6.5186710000000003]
[222,6.5241439999999997]
[223,6.5295969999999999]
[224,6.5350279999999996]
[225,6.5404359999999997]
[226,6.5458179999999997]
[227,6.5511720000000002]
[228,6.5564970000000002]
[229,6.5617919999999996]
[230,6.5670529999999996]
[231,6.5722800000000001]
[232,6.5774710000000001]
[233,6.582624]
[234,6.5877350000000003]
[235,6.5928050000000002]
[236,6.5978320000000004]
[237,6.6028130000000003]
[238,6.6077469999999998]
[239,6.6126310000000004]
[240,6.6175139999999999]
[241,6.6224420000000004]
[242,6.6274059999999997]
[243,6.6323980000000002]
[244,6.6374129999999996]
[245,6.6424430000000001]
[246,6.6474789999999997]
[247,6.6525150000000002]
[248,6.6575439999999997]
[249,6.66256]
[250,6.6675519999999997]
[251,6.6725159999999999]
[252,6.6774430000000002]
[253,6.6823269999999999]
[254,6.6871590000000003]
[255,6.6919329999999997]
[256,6.6966409999999996]
[257,6.7012780000000003]
[258,6.7058330000000002]
[259,6.7103010000000003]
[260,6.7146739999999996]
[261,6.7189459999999999]
[262,6.7231079999999999]
[263,6.7271530000000004]
[264,6.7310739999999996]
[265,6.7348650000000001]
[266,6.7385159999999997]
[267,6.7420220000000004]
[268,6.7454020000000003]
[269,6.748685]
[270,6.7518710000000004]
[271,6.7549669999999997]
[272,6.7579760000000002]
[273,6.7609009999999996]
[274,6.7637450000000001]
[275,6.7665129999999998]
[276,6.769209]
[277,6.7718340000000001]
[278,6.774394]
[279,6.7768920000000001]
[280,6.7793330000000003]
[281,6.7817179999999997]
[282,6.7840439999999997]
[283,6.7863100000000003]
[284,6.7885229999999996]
[285,6.7906880000000003]
[286,6.792815]
[287,6.7949109999999999]
[288,6.796983]
[289,6.7990370000000002]
[290,6.8010809999999999]
[291,6.8031230000000003]
[292,6.8051709999999996]
[293,6.8072299999999997]
[294,6.8093079999999997]
[295,6.8114129999999999]
[296,6.8135269999999997]
[297,6.8156239999999997]
[298,6.8177079999999997]
[299,6.8197809999999999]
[300,6.8218449999999997]
[301,6.8239000000000001]
[302,6.8259489999999996]
[303,6.8279930000000002]
[304,6.8300359999999998]
[305,6.8320780000000001]
[306,6.8341209999999997]
[307,6.8361669999999997]
[308,6.8382180000000004]
[309,6.8402760000000002]
[310,6.8423420000000004]
[311,6.8444180000000001]
[312,6.8465069999999999]
[313,6.8486089999999997]
[314,6.8507280000000002]
[315,6.8528640000000003]
[316,6.8550199999999997]
[317,6.8571960000000001]
[318,6.8593950000000001]
[319,6.8616210000000004]
[320,6.8638719999999998]
[321,6.8661519999999996]
[322,6.8684620000000001]
[323,6.8708049999999998]
[324,6.8732579999999999]
[325,6.8758869999999996]
[326,6.8786719999999999]
[327,6.8815929999999996]
[328,6.8846280000000002]
[329,6.887759]
[330,6.8909649999999996]
[331,6.8942269999999999]
[332,6.8975229999999996]
[333,6.9008349999999998]
[334,6.9041420000000002]
[335,6.9074239999999998]
[336,6.9106610000000002]
[337,6.9138330000000003]
[338,6.9169200000000002]
[339,6.9199029999999997]
[340,6.9227600000000002]
[341,6.9254709999999999]
[342,6.9280179999999998]
[343,6.9303800000000004]
[344,6.9325359999999998]
[345,6.9344659999999996]
[346,6.9361509999999997]
[347,6.9375720000000003]
[348,6.9387059999999998]
[349,6.9395340000000001]
[350,6.9400380000000004]
[351,6.9401960000000003]
[352,6.9401739999999998]
[353,6.9401520000000003]
[354,6.9401299999999999]
[355,6.9401089999999996]
[356,6.9400870000000001]
[357,6.9400649999999997]
[358,6.9400430000000002]
[359,6.9400219999999999]
[360,6.94]
[361,6.94]
[362,6.94]
[363,6.94]
[364,6.94]
[365,6.9399319999999998]
[366,6.93973]
[367,6.9393960000000003]
[368,6.9389339999999997]
[369,6.9383470000000003]
[370,6.9376369999999996]
[371,6.9368069999999999]
[372,6.9358599999999999]
[373,6.9348000000000001]
[374,6.9336279999999997]
[375,6.9323490000000003]
[376,6.9309640000000003]
[377,6.9294770000000003]
[378,6.9278899999999997]
[379,6.9262069999999998]
[380,6.9244300000000001]
[381,6.9225620000000001]
[382,6.9206070000000004]
[383,6.9185670000000004]
[384,6.9164440000000003]
[385,6.9142429999999999]
[386,6.9119650000000004]
[387,6.9096140000000004]
[388,6.9071920000000002]
[389,6.9047029999999996]
[390,6.9021489999999996]
[391,6.8995329999999999]
[392,6.8968579999999999]
[393,6.8941280000000003]
[394,6.8913440000000001]
[395,6.8885100000000001]
[396,6.8856289999999998]
[397,6.8827030000000002]
[398,6.8797360000000003]
[399,6.8767300000000002]
[400,6.8736889999999997]
[401,6.8706139999999998]
[402,6.8675100000000002]
[403,6.8643789999999996]
[404,6.8612229999999998]
[405,6.858047]
[406,6.8548520000000002]
[407,6.8516409999999999]
[408,6.8484179999999997]
[409,6.845186]
[410,6.8419460000000001]
[411,6.8387029999999998]
[412,6.8354590000000002]
[413,6.832217]
[414,6.8289790000000004]
[415,6.8257490000000001]
[416,6.8225300000000004]
[417,6.8193250000000001]
[418,6.8161350000000001]
[419,6.8129660000000003]
[420,6.8098179999999999]
[421,6.8066950000000004]
[422,6.8036009999999996]
[423,6.8005370000000003]
[424,6.7975070000000004]
[425,6.7945140000000004]
[426,6.7915599999999996]
[427,6.7886490000000004]
[428,6.7857830000000003]
[429,6.7829660000000001]
[430,6.7801989999999996]
[431,6.7774869999999998]
[432,6.774832]
[433,6.7722360000000004]
[434,6.7697039999999999]
[435,6.7672369999999997]
[436,6.7673870000000003]
[437,6.767836]
[438,6.7685760000000004]
[439,6.769603]
[440,6.7709089999999996]
[441,6.7724890000000002]
[442,6.7743380000000002]
[443,6.7764490000000004]
[444,6.778816]
[445,6.781434]
[446,6.7842960000000003]
[447,6.7873970000000003]
[448,6.7907299999999999]
[449,6.7942910000000003]
[450,6.7980720000000003]
[451,6.8020690000000004]
[452,6.8062740000000002]
[453,6.810683]
[454,6.8152889999999999]
[455,6.820087]
[456,6.8250690000000001]
[457,6.8302319999999996]
[458,6.8355680000000003]
[459,6.8410719999999996]
[460,6.8467380000000002]
[461,6.8525600000000004]
[462,6.8585310000000002]
[463,6.8646469999999997]
[464,6.8709009999999999]
[465,6.8772880000000001]
[466,6.8837999999999999]
[467,6.8904339999999999]
[468,6.8971819999999999]
[469,6.9040379999999999]
[470,6.9109980000000002]
[471,6.9180539999999997]
[472,6.9252010000000004]
[473,6.9324329999999996]
[474,6.9397450000000003]
[475,6.9471290000000003]
[476,6.9545810000000001]
[477,6.9620949999999997]
[478,6.9696639999999999]
[479,6.9772819999999998]
[480,6.9849439999999996]
[481,6.9926450000000004]
[482,7.0003760000000002]
[483,7.0081340000000001]
[484,7.0159120000000001]
[485,7.0237040000000004]
[486,7.0315050000000001]
[487,7.039307]
[488,7.0471069999999996]
[489,7.0548960000000003]
[490,7.0626709999999999]
[491,7.070424]
[492,7.0781489999999998]
[493,7.0858420000000004]
[494,7.093496]
[495,7.1011050000000004]
[496,7.108663]
[497,7.1161640000000004]
[498,7.1236030000000001]
[499,7.130973]
[500,7.1382680000000001]
[501,7.1454839999999997]
[502,7.1526129999999997]
[503,7.1596500000000001]
[504,7.166588]
[505,7.1734229999999997]
[506,7.180148]
[507,7.1867570000000001]
[508,7.1932450000000001]
[509,7.1996039999999999]
[510,7.2058309999999999]
[511,7.2119169999999997]
[512,7.2178589999999998]
[513,7.223649]
[514,7.2292820000000004]
[515,7.2347520000000003]
[516,7.2400529999999996]
[517,7.2451790000000003]
[518,7.2501239999999996]
[519,7.2548830000000004]
[520,7.259449]
[521,7.2638170000000004]
[522,7.2679799999999997]
[523,7.2719329999999998]
[524,7.2756689999999997]
[525,7.2791839999999999]
[526,7.28247]
[527,7.2856269999999999]
[528,7.2887560000000002]
[529,7.2918589999999996]
[530,7.2949349999999997]
[531,7.2979839999999996]
[532,7.3010080000000004]
[533,7.3040050000000001]
[534,7.3069759999999997]
[535,7.3099220000000003]
[536,7.312843]
[537,7.3157379999999996]
[538,7.3186080000000002]
[539,7.3214540000000001]
[540,7.3242760000000002]
[541,7.3270730000000004]
[542,7.3298459999999999]
[543,7.3325950000000004]
[544,7.3353210000000004]
[545,7.3380229999999997]
[546,7.3407030000000004]
[547,7.3433590000000004]
[548,7.345993]
[549,7.3486050000000001]
[550,7.3511939999999996]
[551,7.3537610000000004]
[552,7.3563070000000002]
[553,7.3588310000000003]
[554,7.3613340000000003]
[555,7.3638159999999999]
[556,7.366276]
[557,7.3687170000000002]
[558,7.3711370000000001]
[559,7.3735359999999996]
[560,7.3759160000000001]
[561,7.3782759999999996]
[562,7.380617]
[563,7.3829380000000002]
[564,7.3852409999999997]
[565,7.387524]
[566,7.3897890000000004]
[567,7.3920360000000001]
[568,7.3942639999999997]
[569,7.3964749999999997]
[570,7.3986679999999998]
[571,7.4008430000000001]
[572,7.4030009999999997]
[573,7.4051429999999998]
[574,7.407267]
[575,7.4093749999999998]
[576,7.4114659999999999]
[577,7.4135419999999996]
[578,7.4156019999999998]
[579,7.4176450000000003]
[580,7.4196739999999997]
[581,7.4216870000000004]
[582,7.423686]
[583,7.4256690000000001]
[584,7.4276390000000001]
[585,7.4295929999999997]
[586,7.4315340000000001]
[587,7.4334610000000003]
[588,7.4353740000000004]
[589,7.4372740000000004]
[590,7.4391610000000004]
[591,7.4410350000000003]
[592,7.4428960000000002]
[593,7.4447450000000002]
[594,7.4465810000000001]
[595,7.4484050000000002]
[596,7.4502179999999996]
[597,7.4520189999999999]
[598,7.4538080000000004]
[599,7.4555870000000004]
[600,7.4573539999999996]
[601,7.459111]
[602,7.460858]
[603,7.4625940000000002]
[604,7.4643199999999998]
[605,7.4660359999999999]
[606,7.4677429999999996]
[607,7.4694409999999998]
[608,7.4711290000000004]
[609,7.4728089999999998]
[610,7.4744789999999997]
[611,7.4761420000000003]
[612,7.4777959999999997]
[613,7.4794419999999997]
[614,7.4810809999999996]
[615,7.4827120000000003]
[616,7.4843359999999999]
[617,7.4859520000000002]
[618,7.4875619999999996]
[619,7.4891649999999998]
[620,7.4907620000000001]
[621,7.4923529999999996]
[622,7.4939369999999998]
[623,7.4955160000000003]
[624,7.49709]
[625,7.4986579999999998]
[626,7.5002209999999998]
[627,7.5017800000000001]
[628,7.5033329999999996]
[629,7.5048830000000004]
[630,7.5064279999999997]
[631,7.5079690000000001]
[632,7.5095070000000002]
[633,7.5110409999999996]
[634,7.5125719999999996]
[635,7.5141]
[636,7.515625]
[637,7.5171479999999997]
[638,7.5186679999999999]
[639,7.520187]
[640,7.5217029999999996]
[641,7.5232169999999998]
[642,7.5247310000000001]
[643,7.526243]
[644,7.5277539999999998]
[645,7.5292640000000004]
[646,7.5307740000000001]
[647,7.5322829999999996]
[648,7.5337930000000002]
[649,7.5353019999999997]
[650,7.5368120000000003]
[651,7.5383230000000001]
[652,7.5398339999999999]
[653,7.5413459999999999]
[654,7.5428600000000001]
[655,7.5443749999999996]
[656,7.5458920000000003]
[657,7.5474110000000003]
[658,7.5489319999999998]
[659,7.5504559999999996]
[660,7.5519819999999998]
[661,7.5535110000000003]
[662,7.5550430000000004]
[663,7.556578]
[664,7.5581170000000002]
[665,7.5596589999999999]
[666,7.5612060000000003]
[667,7.5627570000000004]
[668,7.5643120000000001]
[669,7.5658719999999997]
[670,7.567437]
[671,7.569007]
[672,7.5705819999999999]
[673,7.5721629999999998]
[674,7.5737500000000004]
[675,7.575342]
[676,7.5769409999999997]
[677,7.5785470000000004]
[678,7.5801590000000001]
[679,7.5817779999999999]
[680,7.5834039999999998]
[681,7.5850369999999998]
[682,7.586678]
[683,7.5883269999999996]
[684,7.5899840000000003]
[685,7.5916490000000003]
[686,7.5933229999999998]
[687,7.5950059999999997]
[688,7.5966969999999998]
[689,7.5983980000000004]
[690,7.6001079999999996]
[691,7.6018270000000001]
[692,7.6035570000000003]
[693,7.6052960000000001]
[694,7.6070460000000004]
[695,7.6088069999999997]
[696,7.6105780000000003]
[697,7.6123599999999998]
[698,7.6141529999999999]
[699,7.615958]
[700,7.6177739999999998]
[701,7.6196029999999997]
[702,7.6214430000000002]
[703,7.6232959999999999]
[704,7.6251610000000003]
[705,7.6270389999999999]
[706,7.6289300000000004]
[707,7.6308350000000003]
[708,7.6327530000000001]
[709,7.6339509999999997]
[710,7.6351290000000001]
[711,7.6362860000000001]
[712,7.6374230000000001]
[713,7.6385420000000002]
[714,7.6396410000000001]
[715,7.6407210000000001]
[716,7.6417840000000004]
[717,7.6428289999999999]
[718,7.6438569999999997]
[719,7.6448679999999998]
[720,7.6458630000000003]
[721,7.6468420000000004]
[722,7.647805]
[723,7.6487540000000003]
[724,7.6496880000000003]
[725,7.6506080000000001]
[726,7.6515139999999997]
[727,7.6524070000000002]
[728,7.6532869999999997]
[729,7.6541550000000003]
[730,7.655011]
[731,7.655856]
[732,7.6566890000000001]
[733,7.6575119999999997]
[734,7.6583249999999996]
[735,7.6591279999999999]
[736,7.6599219999999999]
[737,7.6607070000000004]
[738,7.6614839999999997]
[739,7.6622519999999996]
[740,7.6630140000000004]
[741,7.6637680000000001]
[742,7.6645149999999997]
[743,7.6652570000000004]
[744,7.6659920000000001]
[745,7.6667230000000002]
[746,7.6674480000000003]
[747,7.6681689999999998]
[748,7.6688859999999996]
[749,7.6696]
[750,7.6703099999999997]
[751,7.6710180000000001]
[752,7.6717240000000002]
[753,7.6724269999999999]
[754,7.6731299999999996]
[755,7.6738309999999998]
[756,7.6745320000000001]
[757,7.6752339999999997]
[758,7.675935]
[759,7.6766370000000004]
[760,7.6773410000000002]
[761,7.6780470000000003]
[762,7.6787539999999996]
[763,7.6794640000000003]
[764,7.6801779999999997]
[765,7.6808949999999996]
[766,7.6816149999999999]
[767,7.6823399999999999]
[768,7.6830699999999998]
[769,7.6838059999999997]
[770,7.6845470000000002]
[771,7.6852939999999998]
[772,7.6860470000000003]
[773,7.6868080000000001]
[774,7.687576]
[775,7.6883520000000001]
[776,7.6891369999999997]
[777,7.6899300000000004]
[778,7.6907319999999997]
[779,7.6915440000000004]
[780,7.692367]
[781,7.6931989999999999]
[782,7.6940429999999997]
[783,7.6948980000000002]
[784,7.6957649999999997]
[785,7.6966450000000002]
[786,7.6975369999999996]
[787,7.698442]
[788,7.6993609999999997]
[789,7.7002940000000004]
[790,7.7012419999999997]
[791,7.7022040000000001]
[792,7.703182]
[793,7.7041760000000004]
[794,7.7051860000000003]
[795,7.7062119999999998]
[796,7.7072560000000001]
[797,7.7083170000000001]
[798,7.7093970000000001]
[799,7.7104949999999999]
[800,7.7116030000000002]
[801,7.7127150000000002]
[802,7.7138289999999996]
[803,7.7149460000000003]
[804,7.7160650000000004]
[805,7.717187]
[806,7.7183120000000001]
[807,7.7194399999999996]
[808,7.7205700000000004]
[809,7.7217019999999996]
[810,7.7228380000000003]
[811,7.7239750000000003]
[812,7.7251159999999999]
[813,7.7262579999999996]
[814,7.7274039999999999]
[815,7.7285510000000004]
[816,7.7297010000000004]
[817,7.7308539999999999]
[818,7.7320080000000004]
[819,7.7331649999999996]
[820,7.7343250000000001]
[821,7.735487]
[822,7.7366510000000002]
[823,7.7378169999999997]
[824,7.7389849999999996]
[825,7.7401559999999998]
[826,7.7413290000000003]
[827,7.7425040000000003]
[828,7.7436809999999996]
[829,7.7448610000000002]
[830,7.7460420000000001]
[831,7.7472250000000003]
[832,7.7484109999999999]
[833,7.7495979999999998]
[834,7.750788]
[835,7.7519790000000004]
[836,7.7531730000000003]
[837,7.7543680000000004]
[838,7.755566]
[839,7.7567649999999997]
[840,7.7579659999999997]
[841,7.759169]
[842,7.7603739999999997]
[843,7.7615800000000004]
[844,7.7627879999999996]
[845,7.763998]
[846,7.7652099999999997]
[847,7.7664239999999998]
[848,7.767639]
[849,7.7688560000000004]
[850,7.7700740000000001]
[851,7.7712940000000001]
[852,7.7725160000000004]
[853,7.773739]
[854,7.7749639999999998]
[855,7.7761899999999997]
[856,7.7774179999999999]
[857,7.7786470000000003]
[858,7.7798769999999999]
[859,7.78111]
[860,7.782343]
[861,7.7835780000000003]
[862,7.7848139999999999]
[863,7.7860519999999998]
[864,7.7872909999999997]
[865,7.7885309999999999]
[866,7.7897720000000001]
[867,7.7910149999999998]
[868,7.7922589999999996]
[869,7.7935040000000004]
[870,7.7947509999999998]
[871,7.795998]
[872,7.7972469999999996]
[873,7.7984960000000001]
[874,7.799747]
[875,7.800999]
[876,7.8022520000000002]
[877,7.8035059999999996]
[878,7.8047610000000001]
[879,7.8060159999999996]
[880,7.8072730000000004]
[881,7.8085310000000003]
[882,7.8097899999999996]
[883,7.8110489999999997]
[884,7.8123089999999999]
[885,7.8135709999999996]
[886,7.8148330000000001]
[887,7.8160949999999998]
[888,7.8173589999999997]
[889,7.8186229999999997]
[890,7.8198879999999997]
[891,7.8211539999999999]
[892,7.8224200000000002]
[893,7.8236869999999996]
[894,7.8249550000000001]
[895,7.8262229999999997]
[896,7.8274920000000003]
[897,7.8287620000000002]
[898,7.8300320000000001]
[899,7.831302]
[900,7.832573]
[901,7.833844]
[902,7.8351160000000002]
[903,7.8363880000000004]
[904,7.8376609999999998]
[905,7.8389340000000001]
[906,7.8402079999999996]
[907,7.8414809999999999]
[908,7.8427550000000004]
[909,7.8440300000000001]
[910,7.8453039999999996]
[911,7.8465790000000002]
[912,7.8478539999999999]
[913,7.8491289999999996]
[914,7.8504050000000003]
[915,7.85168]
[916,7.8529559999999998]
[917,7.8542310000000004]
[918,7.8555070000000002]
[919,7.8567830000000001]
[920,7.8580589999999999]
[921,7.8593349999999997]
[922,7.8606109999999996]
[923,7.8618870000000003]
[924,7.8631630000000001]
[925,7.8644379999999998]
[926,7.8657139999999997]
[927,7.8669890000000002]
[928,7.8682650000000001]
[929,7.8695399999999998]
[930,7.8708150000000003]
[931,7.8720889999999999]
[932,7.8733639999999996]
[933,7.874638]
[934,7.8759119999999996]
[935,7.877186]
[936,7.8784590000000003]
[937,7.8797319999999997]
[938,7.8810039999999999]
[939,7.8822760000000001]
[940,7.8835480000000002]
[941,7.8848190000000002]
[942,7.8860900000000003]
[943,7.8873600000000001]
[944,7.88863]
[945,7.8898989999999998]
[946,7.8911680000000004]
[947,7.892436]
[948,7.8937039999999996]
[949,7.8949699999999998]
[950,7.8962370000000002]
[951,7.8975020000000002]
[952,7.8987670000000003]
[953,7.9000310000000002]
[954,7.901294]
[955,7.9025569999999998]
[956,7.9038190000000004]
[957,7.9050789999999997]
[958,7.9063400000000001]
[959,7.9075990000000003]
[960,7.9088570000000002]
[961,7.9101150000000002]
[962,7.9113709999999999]
[963,7.9126269999999996]
[964,7.9138809999999999]
[965,7.9151350000000003]
[966,7.9163870000000003]
[967,7.9176390000000003]
[968,7.9188890000000001]
[969,7.9201379999999997]
[970,7.9213870000000002]
[971,7.9226340000000004]
[972,7.9238799999999996]
[973,7.9251240000000003]
[974,7.9263680000000001]
[975,7.9276099999999996]
[976,7.9288509999999999]
[977,7.930091]
[978,7.93133]
[979,7.9325669999999997]
[980,7.933802]
[981,7.9350370000000003]
[982,7.9358570000000004]
[983,7.9366690000000002]
[984,7.9374719999999996]
[985,7.9382659999999996]
[986,7.9390520000000002]
[987,7.9398299999999997]
[988,7.9405989999999997]
[989,7.9413609999999997]
[990,7.9421150000000003]
[991,7.9428609999999997]
[992,7.9435989999999999]
[993,7.944331]
[994,7.945055]
[995,7.9457709999999997]
[996,7.9464810000000003]
[997,7.9471850000000002]
[998,7.9478809999999998]
[999,7.9485710000000003]
[1000,7.949255]
[1001,7.9499329999999997]
[1002,7.9506040000000002]
[1003,7.9512700000000001]
[1004,7.9519299999999999]
[1005,7.9525839999999999]
[1006,7.953233]
[1007,7.9538770000000003]
[1008,7.9545149999999998]
[1009,7.9551489999999996]
[1010,7.9557779999999996]
[1011,7.9564009999999996]
[1012,7.9570210000000001]
[1013,7.9576359999999999]
[1014,7.9582470000000001]
[1015,7.9588530000000004]
[1016,7.9594560000000003]
[1017,7.9600549999999997]
[1018,7.9606500000000002]
[1019,7.9612420000000004]
[1020,7.96183]
[1021,7.962415]
[1022,7.9629969999999997]
[1023,7.9635759999999998]
[1024,7.9641529999999996]
[1025,7.9647269999999999]
[1026,7.9652979999999998]
[1027,7.9658670000000003]
[1028,7.9664339999999996]
[1029,7.9669980000000002]
[1030,7.9675609999999999]
[1031,7.9681220000000001]
[1032,7.9686820000000003]
[1033,7.9692400000000001]
[1034,7.9697969999999998]
[1035,7.9703530000000002]
[1036,7.9709070000000004]
[1037,7.9714609999999997]
[1038,7.9720139999999997]
[1039,7.9725669999999997]
[1040,7.9731189999999996]
[1041,7.9736710000000004]
[1042,7.9742230000000003]
[1043,7.9747750000000002]
[1044,7.9753270000000001]
[1045,7.9758800000000001]
[1046,7.9764330000000001]
[1047,7.9769860000000001]
[1048,7.9775410000000004]
[1049,7.9780959999999999]
[1050,7.9786520000000003]
[1051,7.9792100000000001]
[1052,7.9797690000000001]
[1053,7.9803300000000004]
[1054,7.9808919999999999]
[1055,7.9814559999999997]
[1056,7.9820219999999997]
[1057,7.9825910000000002]
[1058,7.983161]
[1059,7.9837340000000001]
[1060,7.9843089999999997]
[1061,7.9848879999999998]
[1062,7.9854690000000002]
[1063,7.9860530000000001]
[1064,7.9866400000000004]
[1065,7.9872310000000004]
[1066,7.987825]
[1067,7.9884219999999999]
[1068,7.9890239999999997]
[1069,7.9896289999999999]
[1070,7.9902379999999997]
[1071,7.9908520000000003]
[1072,7.9914699999999996]
[1073,7.9936059999999998]
[1074,7.9958049999999998]
[1075,7.9980669999999998]
[1076,8.0003879999999992]
[1077,8.0027679999999997]
[1078,8.0052050000000001]
[1079,8.0076979999999995]
[1080,8.0102440000000001]
[1081,8.0128419999999991]
[1082,8.0154910000000008]
[1083,8.0181889999999996]
[1084,8.0209349999999997]
[1085,8.0237259999999999]
[1086,8.0265609999999992]
[1087,8.029439]
[1088,8.0323580000000003]
[1089,8.0353159999999999]
[1090,8.0383119999999995]
[1091,8.0413429999999995]
[1092,8.0444099999999992]
[1093,8.0475089999999998]
[1094,8.0506399999999996]
[1095,8.0538000000000007]
[1096,8.0569889999999997]
[1097,8.0602040000000006]
[1098,8.0634440000000005]
[1099,8.0667069999999992]
[1100,8.0699919999999992]
[1101,8.0732970000000002]
[1102,8.0766200000000001]
[1103,8.0799599999999998]
[1104,8.0833159999999999]
[1105,8.0866849999999992]
[1106,8.0900660000000002]
[1107,8.093458]
[1108,8.0968579999999992]
[1109,8.1002659999999995]
[1110,8.1036789999999996]
[1111,8.1070969999999996]
[1112,8.1105160000000005]
[1113,8.113937]
[1114,8.1173570000000002]
[1115,8.1207740000000008]
[1116,8.1241880000000002]
[1117,8.1275949999999995]
[1118,8.1309959999999997]
[1119,8.1343879999999995]
[1120,8.1377690000000005]
[1121,8.1411379999999998]
[1122,8.1444939999999999]
[1123,8.1478339999999996]
[1124,8.1511580000000006]
[1125,8.1544629999999998]
[1126,8.1577479999999998]
[1127,8.1610119999999995]
[1128,8.1642519999999994]
[1129,8.1674670000000003]
[1130,8.1706559999999993]
[1131,8.1738169999999997]
[1132,8.1769479999999994]
[1133,8.1800470000000001]
[1134,8.1831139999999998]
[1135,8.1861460000000008]
[1136,8.1891429999999996]
[1137,8.1921009999999992]
[1138,8.1950199999999995]
[1139,8.1978980000000004]
[1140,8.2007340000000006]
[1141,8.2035260000000001]
[1142,8.2062720000000002]
[1143,8.2089700000000008]
[1144,8.2116199999999999]
[1145,8.2142189999999999]
[1146,8.2167650000000005]
[1147,8.2192589999999992]
[1148,8.2216959999999997]
[1149,8.2240769999999994]
[1150,8.2263990000000007]
[1151,8.2286610000000007]
[1152,8.2308610000000009]
[1153,8.2329980000000003]
[1154,8.2350700000000003]
[1155,8.2370750000000008]
[1156,8.2390120000000007]
[1157,8.2408789999999996]
[1158,8.2426739999999992]
[1159,8.2443969999999993]
[1160,8.2460450000000005]
[1161,8.247617]
[1162,8.2491109999999992]
[1163,8.2505249999999997]
[1164,8.2518910000000005]
[1165,8.2532420000000002]
[1166,8.2545760000000001]
[1167,8.2558939999999996]
[1168,8.2571969999999997]
[1169,8.2584839999999993]
[1170,8.2597559999999994]
[1171,8.2610130000000002]
[1172,8.2622540000000004]
[1173,8.2634810000000005]
[1174,8.2646920000000001]
[1175,8.2658889999999996]
[1176,8.2670720000000006]
[1177,8.2682400000000005]
[1178,8.2693930000000009]
[1179,8.2705330000000004]
[1180,8.2716580000000004]
[1181,8.2727690000000003]
[1182,8.2738669999999992]
[1183,8.2749509999999997]
[1184,8.2760219999999993]
[1185,8.2770790000000005]
[1186,8.2781230000000008]
[1187,8.2791530000000009]
[1188,8.2801709999999993]
[1189,8.2811760000000003]
[1190,8.2821680000000004]
[1191,8.2831480000000006]
[1192,8.2841149999999999]
[1193,8.2850699999999993]
[1194,8.2860130000000005]
[1195,8.2869430000000008]
[1196,8.2878620000000005]
[1197,8.2887690000000003]
[1198,8.2896649999999994]
[1199,8.2905479999999994]
[1200,8.2914209999999997]
[1201,8.2922820000000002]
[1202,8.2931319999999999]
[1203,8.2939710000000009]
[1204,8.2947989999999994]
[1205,8.295617]
[1206,8.296424]
[1207,8.2972199999999994]
[1208,8.2980060000000009]
[1209,8.2987819999999992]
[1210,8.2995479999999997]
[1211,8.3003040000000006]
[1212,8.3010509999999993]
[1213,8.3017869999999991]
[1214,8.3025140000000004]
[1215,8.3032319999999995]
[1216,8.303941]
[1217,8.3046399999999991]
[1218,8.3053299999999997]
[1219,8.3060120000000008]
[1220,8.3066849999999999]
[1221,8.3073490000000003]
[1222,8.3080049999999996]
[1223,8.3086520000000004]
[1224,8.309291]
[1225,8.3099229999999995]
[1226,8.3105460000000004]
[1227,8.3111619999999995]
[1228,8.3117699999999992]
[1229,8.3123699999999996]
[1230,8.3129629999999999]
[1231,8.3135490000000001]
[1232,8.3141269999999992]
[1233,8.3146989999999992]
[1234,8.3152640000000009]
[1235,8.3158220000000007]
[1236,8.3163739999999997]
[1237,8.3169190000000004]
[1238,8.3174569999999992]
[1239,8.31799]
[1240,8.3185169999999999]
[1241,8.3190369999999998]
[1242,8.3195519999999998]
[1243,8.3200610000000008]
[1244,8.3205650000000002]
[1245,8.3210630000000005]
[1246,8.3215559999999993]
[1247,8.322044]
[1248,8.3225269999999991]
[1249,8.3230059999999995]
[1250,8.3234790000000007]
[1251,8.3239479999999997]
[1252,8.3244120000000006]
[1253,8.3248719999999992]
[1254,8.3253280000000007]
[1255,8.32578]
[1256,8.3262280000000004]
[1257,8.3266720000000003]
[1258,8.3271130000000007]
[1259,8.3275500000000005]
[1260,8.3279840000000007]
[1261,8.3284140000000004]
[1262,8.3288410000000006]
[1263,8.3292660000000005]
[1264,8.3296869999999998]
[1265,8.3301060000000007]
[1266,8.3305220000000002]
[1267,8.3309359999999995]
[1268,8.3313469999999992]
[1269,8.3317560000000004]
[1270,8.3321640000000006]
[1271,8.3325689999999994]
[1272,8.3329719999999998]
[1273,8.3333739999999992]
[1274,8.3337749999999993]
[1275,8.3341740000000009]
[1276,8.3345710000000004]
[1277,8.3349679999999999]
[1278,8.3353629999999992]
[1279,8.3357580000000002]
[1280,8.3361520000000002]
[1281,8.3365460000000002]
[1282,8.3369389999999992]
[1283,8.337332]
[1284,8.3377239999999997]
[1285,8.3381170000000004]
[1286,8.3385090000000002]
[1287,8.3389019999999991]
[1288,8.3392949999999999]
[1289,8.3396889999999999]
[1290,8.3400829999999999]
[1291,8.3404779999999992]
[1292,8.3408739999999995]
[1293,8.3412710000000008]
[1294,8.3416700000000006]
[1295,8.3420690000000004]
[1296,8.3424700000000005]
[1297,8.3428719999999998]
[1298,8.3432759999999995]
[1299,8.3436819999999994]
[1300,8.3440899999999996]
[1301,8.3445]
[1302,8.3449120000000008]
[1303,8.3453269999999993]
[1304,8.3457439999999998]
[1305,8.3461630000000007]
[1306,8.3465860000000003]
[1307,8.3470110000000002]
[1308,8.3474389999999996]
[1309,8.3478709999999996]
[1310,8.3483059999999991]
[1311,8.3487439999999999]
[1312,8.3491850000000003]
[1313,8.3496310000000005]
[1314,8.3500800000000002]
[1315,8.3505330000000004]
[1316,8.3509910000000005]
[1317,8.3514520000000001]
[1318,8.3519179999999995]
[1319,8.3523879999999995]
[1320,8.3528629999999993]
[1321,8.3533430000000006]
[1322,8.353828]
[1323,8.354317]
[1324,8.3548120000000008]
[1325,8.3553119999999996]
[1326,8.3558179999999993]
[1327,8.3563290000000006]
[1328,8.3568460000000009]
[1329,8.3573679999999992]
[1330,8.3578969999999995]
[1331,8.3584320000000005]
[1332,8.3589719999999996]
[1333,8.3595199999999998]
[1334,8.3600729999999999]
[1335,8.3606339999999992]
[1336,8.3612009999999994]
[1337,8.3617749999999997]
[1338,8.3623560000000001]
[1339,8.3629440000000006]
[1340,8.3635400000000004]
[1341,8.3641419999999993]
[1342,8.3647530000000003]
[1343,8.3653709999999997]
[1344,8.3659970000000001]
[1345,8.3666309999999999]
[1346,8.3672690000000003]
[1347,8.3679070000000007]
[1348,8.3685449999999992]
[1349,8.3691829999999996]
[1350,8.369821]
[1351,8.3704590000000003]
[1352,8.3710959999999996]
[1353,8.371734]
[1354,8.3723720000000004]
[1355,8.3730100000000007]
[1356,8.3736479999999993]
[1357,8.3742859999999997]
[1358,8.374924]
[1359,8.3755620000000004]
[1360,8.3762000000000008]
[1361,8.3768379999999993]
[1362,8.3774759999999997]
[1363,8.3781140000000001]
[1364,8.3787520000000004]
[1365,8.3793900000000008]
[1366,8.3800279999999994]
[1367,8.3806659999999997]
[1368,8.3813040000000001]
[1369,8.3819409999999994]
[1370,8.3825789999999998]
[1371,8.3832170000000001]
[1372,8.3838550000000005]
[1373,8.3844930000000009]
[1374,8.3851309999999994]
[1375,8.3857689999999998]
[1376,8.3864070000000002]
[1377,8.3870450000000005]
[1378,8.3876830000000009]
[1379,8.3883209999999995]
[1380,8.3889589999999998]
[1381,8.3895970000000002]
[1382,8.3902350000000006]
[1383,8.3908729999999991]
[1384,8.3915109999999995]
[1385,8.3921489999999999]
[1386,8.3927870000000002]
[1387,8.3934239999999996]
[1388,8.3940619999999999]
[1389,8.3947000000000003]
[1390,8.3953380000000006]
[1391,8.3959759999999992]
[1392,8.3966139999999996]
[1393,8.3972519999999999]
[1394,8.3978900000000003]
[1395,8.3985280000000007]
[1396,8.3991659999999992]
[1397,8.3998039999999996]
[1398,8.400442]
[1399,8.4010800000000003]
[1400,8.4017180000000007]
[1401,8.4023559999999993]
[1402,8.4029939999999996]
[1403,8.403632]
[1404,8.4042689999999993]
[1405,8.4049069999999997]
[1406,8.405545]
[1407,8.4061830000000004]
[1408,8.4068210000000008]
[1409,8.4074589999999993]
[1410,8.4080969999999997]
[1411,8.4087350000000001]
[1412,8.4093730000000004]
[1413,8.4100110000000008]
[1414,8.4106489999999994]
[1415,8.4112869999999997]
[1416,8.4119250000000001]
[1417,8.4125630000000005]
[1418,8.4132010000000008]
[1419,8.4138389999999994]
[1420,8.4144769999999998]
[1421,8.4151150000000001]
[1422,8.4157519999999995]
[1423,8.4163899999999998]
[1424,8.4170280000000002]
[1425,8.4176660000000005]
[1426,8.4183039999999991]
[1427,8.4189419999999995]
[1428,8.4195799999999998]
[1429,8.4202180000000002]
[1430,8.4208560000000006]
[1431,8.4214939999999991]
[1432,8.4221319999999995]
[1433,8.4227699999999999]
[1434,8.4234080000000002]
[1435,8.4240460000000006]
[1436,8.4246839999999992]
[1437,8.4253219999999995]
[1438,8.4259599999999999]
[1439,8.4265969999999992]
[1440,8.4272349999999996]
[1441,8.4278729999999999]
[1442,8.4285110000000003]
[1443,8.4291490000000007]
[1444,8.4297869999999993]
[1445,8.4304249999999996]
[1446,8.431063]
[1447,8.4317010000000003]
[1448,8.4323390000000007]
[1449,8.4329769999999993]
[1450,8.4336149999999996]
[1451,8.434253]
[1452,8.4348910000000004]
[1453,8.4355290000000007]
[1454,8.4361669999999993]
[1455,8.4368049999999997]
[1456,8.437443]
[1457,8.4380799999999994]
[1458,8.4387179999999997]
[1459,8.4393560000000001]
[1460,8.4399940000000004]
[1461,8.4406320000000008]
[1462,8.4412699999999994]
[1463,8.4419079999999997]
[1464,8.4425460000000001]
[1465,8.4431840000000005]
[1466,8.4438220000000008]
[1467,8.4444599999999994]
[1468,8.4450979999999998]
[1469,8.4457360000000001]
[1470,8.4463740000000005]
[1471,8.4470120000000009]
[1472,8.4476499999999994]
[1473,8.4482879999999998]
[1474,8.4489249999999991]
[1475,8.4495629999999995]
[1476,8.4502009999999999]
[1477,8.4508390000000002]
[1478,8.4514770000000006]
[1479,8.4521149999999992]
[1480,8.4527529999999995]
[1481,8.4533909999999999]
[1482,8.4540290000000002]
[1483,8.4546670000000006]
[1484,8.4553049999999992]
[1485,8.4559429999999995]
[1486,8.4565809999999999]
[1487,8.4572190000000003]
[1488,8.4578570000000006]
[1489,8.4584949999999992]
[1490,8.4591329999999996]
[1491,8.4597709999999999]
[1492,8.4604079999999993]
[1493,8.4610459999999996]
[1494,8.461684]
[1495,8.4623220000000003]
[1496,8.4629600000000007]
[1497,8.4635979999999993]
[1498,8.4642359999999996]
[1499,8.464874]
[1500,8.4655120000000004]
[1501,8.4661500000000007]
[1502,8.4667879999999993]
[1503,8.4674259999999997]
[1504,8.468064]
[1505,8.4687020000000004]
[1506,8.4693400000000008]
[1507,8.4699779999999993]
[1508,8.4706159999999997]
[1509,8.4712530000000008]
[1510,8.4718909999999994]
[1511,8.4725289999999998]
[1512,8.4731670000000001]
[1513,8.4738050000000005]
[1514,8.4744430000000008]
[1515,8.4750809999999994]
[1516,8.4757189999999998]
[1517,8.4763570000000001]
[1518,8.4769950000000005]
[1519,8.4776330000000009]
[1520,8.4782709999999994]
[1521,8.4789089999999998]
[1522,8.4795470000000002]
[1523,8.4801850000000005]
[1524,8.4808230000000009]
[1525,8.4814609999999995]
[1526,8.4820980000000006]
[1527,8.4827359999999992]
[1528,8.484019]
[1529,8.4853240000000003]
[1530,8.4866519999999994]
[1531,8.4880019999999998]
[1532,8.4893739999999998]
[1533,8.490767]
[1534,8.4921799999999994]
[1535,8.4936129999999999]
[1536,8.4950650000000003]
[1537,8.4965360000000008]
[1538,8.4980250000000002]
[1539,8.4995320000000003]
[1540,8.5010560000000002]
[1541,8.5025969999999997]
[1542,8.5041530000000005]
[1543,8.505725]
[1544,8.5073120000000007]
[1545,8.5089129999999997]
[1546,8.5105280000000008]
[1547,8.5121559999999992]
[1548,8.5137970000000003]
[1549,8.5154499999999995]
[1550,8.5171139999999994]
[1551,8.5187899999999992]
[1552,8.5204760000000004]
[1553,8.5221719999999994]
[1554,8.5238770000000006]
[1555,8.5255910000000004]
[1556,8.5273129999999995]
[1557,8.5290429999999997]
[1558,8.53078]
[1559,8.5325240000000004]
[1560,8.5342730000000007]
[1561,8.5360289999999992]
[1562,8.5377890000000001]
[1563,8.5395529999999997]
[1564,8.5413209999999999]
[1565,8.5430930000000007]
[1566,8.544867]
[1567,8.5466429999999995]
[1568,8.5484209999999994]
[1569,8.5502009999999995]
[1570,8.5519800000000004]
[1571,8.5537600000000005]
[1572,8.5555380000000003]
[1573,8.5573160000000001]
[1574,8.5590919999999997]
[1575,8.5608660000000008]
[1576,8.5626370000000005]
[1577,8.5644039999999997]
[1578,8.5661679999999993]
[1579,8.5679269999999992]
[1580,8.5696809999999992]
[1581,8.5714290000000002]
[1582,8.5731719999999996]
[1583,8.5749069999999996]
[1584,8.5766349999999996]
[1585,8.5783559999999994]
[1586,8.5800680000000007]
[1587,8.5817709999999998]
[1588,8.5834650000000003]
[1589,8.5851489999999995]
[1590,8.5868219999999997]
[1591,8.5884839999999993]
[1592,8.5901350000000001]
[1593,8.5917729999999999]
[1594,8.5933980000000005]
[1595,8.5950100000000003]
[1596,8.5966079999999998]
[1597,8.5981919999999992]
[1598,8.5997610000000009]
[1599,8.6013140000000003]
[1600,8.6028509999999994]
[1601,8.6043710000000004]
[1602,8.605874]
[1603,8.6073599999999999]
[1604,8.6088269999999998]
[1605,8.6102749999999997]
[1606,8.6117039999999996]
[1607,8.6131119999999992]
[1608,8.6145010000000006]
[1609,8.6158680000000007]
[1610,8.6172129999999996]
[1611,8.6185360000000006]
[1612,8.6198370000000004]
[1613,8.6211140000000004]
[1614,8.6223679999999998]
[1615,8.6235970000000002]
[1616,8.6248009999999997]
[1617,8.6259789999999992]
[1618,8.6271310000000003]
[1619,8.6282630000000005]
[1620,8.6293790000000001]
[1621,8.6304800000000004]
[1622,8.6315670000000004]
[1623,8.6326400000000003]
[1624,8.6336980000000008]
[1625,8.6347439999999995]
[1626,8.6357759999999999]
[1627,8.6367949999999993]
[1628,8.6378020000000006]
[1629,8.6387959999999993]
[1630,8.6397790000000008]
[1631,8.6407509999999998]
[1632,8.6417120000000001]
[1633,8.6426619999999996]
[1634,8.6436010000000003]
[1635,8.6445310000000006]
[1636,8.6454509999999996]
[1637,8.6463619999999999]
[1638,8.6472639999999998]
[1639,8.6481569999999994]
[1640,8.6490419999999997]
[1641,8.6499190000000006]
[1642,8.6507889999999996]
[1643,8.6516520000000003]
[1644,8.6525069999999999]
[1645,8.6533569999999997]
[1646,8.6541999999999994]
[1647,8.6550370000000001]
[1648,8.6558700000000002]
[1649,8.6566969999999994]
[1650,8.6575190000000006]
[1651,8.6583369999999995]
[1652,8.6591509999999996]
[1653,8.6599620000000002]
[1654,8.6607690000000002]
[1655,8.6615730000000006]
[1656,8.6623750000000008]
[1657,8.6631739999999997]
[1658,8.6639719999999993]
[1659,8.6647680000000005]
[1660,8.6655630000000006]
[1661,8.6663569999999996]
[1662,8.6671510000000005]
[1663,8.6679440000000003]
[1664,8.6687379999999994]
[1665,8.6695329999999995]
[1666,8.6703279999999996]
[1667,8.671125]
[1668,8.6719229999999996]
[1669,8.6727229999999995]
[1670,8.6735260000000007]
[1671,8.6743319999999997]
[1672,8.6751400000000007]
[1673,8.6759520000000006]
[1674,8.6767679999999991]
[1675,8.6775880000000001]
[1676,8.6784119999999998]
[1677,8.6792409999999993]
[1678,8.6800750000000004]
[1679,8.6809150000000006]
[1680,8.6817609999999998]
[1681,8.6826129999999999]
[1682,8.6834720000000001]
[1683,8.6843369999999993]
[1684,8.6852099999999997]
[1685,8.6860900000000001]
[1686,8.6869789999999991]
[1687,8.6878759999999993]
[1688,8.6887810000000005]
[1689,8.6896959999999996]
[1690,8.6906199999999991]
[1691,8.691554]
[1692,8.6924980000000005]
[1693,8.6934520000000006]
[1694,8.6944169999999996]
[1695,8.6953940000000003]
[1696,8.6963819999999998]
[1697,8.697381]
[1698,8.6983929999999994]
[1699,8.6994179999999997]
[1700,8.7004560000000009]
[1701,8.7015060000000002]
[1702,8.7025710000000007]
[1703,8.7036490000000004]
[1704,8.7047419999999995]
[1705,8.7058499999999999]
[1706,8.7069720000000004]
[1707,8.7081099999999996]
[1708,8.7092639999999992]
[1709,8.7104339999999993]
[1710,8.7116150000000001]
[1711,8.7128040000000002]
[1712,8.7140009999999997]
[1713,8.715204]
[1714,8.7164140000000003]
[1715,8.7176310000000008]
[1716,8.7188540000000003]
[1717,8.7200839999999999]
[1718,8.7213200000000004]
[1719,8.7225619999999999]
[1720,8.7238100000000003]
[1721,8.7250639999999997]
[1722,8.726324]
[1723,8.727589]
[1724,8.7288599999999992]
[1725,8.7301350000000006]
[1726,8.7314159999999994]
[1727,8.7327019999999997]
[1728,8.7339920000000006]
[1729,8.7352869999999996]
[1730,8.7365870000000001]
[1731,8.7378900000000002]
[1732,8.739198]
[1733,8.7405100000000004]
[1734,8.7418259999999997]
[1735,8.7431450000000002]
[1736,8.7444679999999995]
[1737,8.7457949999999993]
[1738,8.7471239999999995]
[1739,8.7484570000000001]
[1740,8.7497930000000004]
[1741,8.7511310000000009]
[1742,8.7524719999999991]
[1743,8.7538160000000005]
[1744,8.7551620000000003]
[1745,8.7565100000000005]
[1746,8.7578600000000009]
[1747,8.7592119999999998]
[1748,8.7605649999999997]
[1749,8.7619209999999992]
[1750,8.7632770000000004]
[1751,8.7646350000000002]
[1752,8.7659939999999992]
[1753,8.7673539999999992]
[1754,8.7687150000000003]
[1755,8.7700770000000006]
[1756,8.7714390000000009]
[1757,8.7728009999999994]
[1758,8.7741640000000007]
[1759,8.7755259999999993]
[1760,8.7768890000000006]
[1761,8.7782509999999991]
[1762,8.7796129999999994]
[1763,8.7809749999999998]
[1764,8.7823349999999998]
[1765,8.7836949999999998]
[1766,8.7850540000000006]
[1767,8.7864120000000003]
[1768,8.7877679999999998]
[1769,8.789123]
[1770,8.790476]
[1771,8.7918280000000006]
[1772,8.793177]
[1773,8.7945250000000001]
[1774,8.795871]
[1775,8.7972140000000003]
[1776,8.7985539999999993]
[1777,8.7998919999999998]
[1778,8.8012270000000008]
[1779,8.8025590000000005]
[1780,8.8038880000000006]
[1781,8.8052139999999994]
[1782,8.8065359999999995]
[1783,8.807855]
[1784,8.8091699999999999]
[1785,8.8104809999999993]
[1786,8.811788]
[1787,8.813091]
[1788,8.8143890000000003]
[1789,8.8156829999999999]
[1790,8.8169730000000008]
[1791,8.8182569999999991]
[1792,8.8195370000000004]
[1793,8.8208120000000001]
[1794,8.8220810000000007]
[1795,8.8233449999999998]
[1796,8.8246040000000008]
[1797,8.8258569999999992]
[1798,8.8271029999999993]
[1799,8.8283439999999995]
[1800,8.8295790000000007]
[1801,8.8308110000000006]
[1802,8.8320439999999998]
[1803,8.8332770000000007]
[1804,8.8345109999999991]
[1805,8.8357449999999993]
[1806,8.8369789999999995]
[1807,8.8382140000000007]
[1808,8.8394490000000001]
[1809,8.8406850000000006]
[1810,8.84192]
[1811,8.8431560000000005]
[1812,8.8443919999999991]
[1813,8.8456279999999996]
[1814,8.8468640000000001]
[1815,8.8481000000000005]
[1816,8.8493359999999992]
[1817,8.8505719999999997]
[1818,8.8518070000000009]
[1819,8.8530420000000003]
[1820,8.8542769999999997]
[1821,8.8555119999999992]
[1822,8.8567459999999993]
[1823,8.8579799999999995]
[1824,8.8592130000000004]
[1825,8.8604459999999996]
[1826,8.8616779999999995]
[1827,8.8629099999999994]
[1828,8.864141]
[1829,8.8653709999999997]
[1830,8.8666]
[1831,8.8678290000000004]
[1832,8.8690569999999997]
[1833,8.8702830000000006]
[1834,8.8715089999999996]
[1835,8.8727339999999995]
[1836,8.8739570000000008]
[1837,8.8751800000000003]
[1838,8.8764009999999995]
[1839,8.8776209999999995]
[1840,8.8788400000000003]
[1841,8.8800570000000008]
[1842,8.8812730000000002]
[1843,8.8824880000000004]
[1844,8.8837010000000003]
[1845,8.8849129999999992]
[1846,8.8861229999999995]
[1847,8.8873309999999996]
[1848,8.8885380000000005]
[1849,8.8897429999999993]
[1850,8.8909459999999996]
[1851,8.8921469999999996]
[1852,8.8933470000000003]
[1853,8.8945439999999998]
[1854,8.89574]
[1855,8.8969330000000006]
[1856,8.8981250000000003]
[1857,8.8993140000000004]
[1858,8.9005010000000002]
[1859,8.9016859999999998]
[1860,8.9028690000000008]
[1861,8.9040490000000005]
[1862,8.905227]
[1863,8.9064029999999992]
[1864,8.9075760000000006]
[1865,8.9087460000000007]
[1866,8.9099140000000006]
[1867,8.9110800000000001]
[1868,8.9122420000000009]
[1869,8.9134019999999996]
[1870,8.9145590000000006]
[1871,8.9157139999999995]
[1872,8.9168649999999996]
[1873,8.9180139999999994]
[1874,8.9191590000000005]
[1875,8.9203019999999995]
[1876,8.9214409999999997]
[1877,8.9225779999999997]
[1878,8.9237110000000008]
[1879,8.9248410000000007]
[1880,8.925967]
[1881,8.9270910000000008]
[1882,8.9282109999999992]
[1883,8.9293270000000007]
[1884,8.9304410000000001]
[1885,8.9315499999999997]
[1886,8.9326559999999997]
[1887,8.9337590000000002]
[1888,8.9348569999999992]
[1889,8.9359520000000003]
[1890,8.9370440000000002]
[1891,8.9381310000000003]
[1892,8.9392139999999998]
[1893,8.9402930000000005]
[1894,8.9413669999999996]
[1895,8.942437]
[1896,8.9435020000000005]
[1897,8.9445639999999997]
[1898,8.9456220000000002]
[1899,8.9466750000000008]
[1900,8.9477250000000002]
[1901,8.9487719999999999]
[1902,8.9498139999999999]
[1903,8.9508539999999996]
[1904,8.9518900000000006]
[1905,8.9529230000000002]
[1906,8.9539530000000003]
[1907,8.9549800000000008]
[1908,8.9560040000000001]
[1909,8.9570249999999998]
[1910,8.9580439999999992]
[1911,8.9590599999999991]
[1912,8.9600740000000005]
[1913,8.9610859999999999]
[1914,8.9620949999999997]
[1915,8.9631030000000003]
[1916,8.9641079999999995]
[1917,8.9651119999999995]
[1918,8.9661139999999993]
[1919,8.9671149999999997]
[1920,8.9681139999999999]
[1921,8.9691109999999998]
[1922,8.9701079999999997]
[1923,8.9711029999999994]
[1924,8.9720980000000008]
[1925,8.9730910000000002]
[1926,8.9740839999999995]
[1927,8.9750759999999996]
[1928,8.9760679999999997]
[1929,8.9770590000000006]
[1930,8.9780499999999996]
[1931,8.9790410000000005]
[1932,8.9800319999999996]
[1933,8.9810219999999994]
[1934,8.9820130000000002]
[1935,8.9830050000000004]
[1936,8.9839959999999994]
[1937,8.9849879999999995]
[1938,8.9859810000000007]
[1939,8.986974]
[1940,8.9879689999999997]
[1941,8.9889639999999993]
[1942,8.98996]
[1943,8.9909579999999991]
[1944,8.9919569999999993]
[1945,8.9929570000000005]
[1946,8.9939590000000003]
[1947,8.9949619999999992]
[1948,8.9959679999999995]
[1949,8.9969750000000008]
[1950,8.9979840000000006]
[1951,8.9989950000000007]
[1952,9.0000090000000004]
[1953,9.0010250000000003]
[1954,9.0020430000000005]
[1955,9.0030640000000002]
[1956,9.0040879999999994]
[1957,9.0051140000000007]
[1958,9.0061440000000008]
[1959,9.0071759999999994]
[1960,9.0082120000000003]
[1961,9.0092510000000008]
[1962,9.0102930000000008]
[1963,9.0113389999999995]
[1964,9.0123879999999996]
[1965,9.0134410000000003]
[1966,9.0144979999999997]
[1967,9.0155589999999997]
[1968,9.0166240000000002]
[1969,9.0176929999999995]
[1970,9.0187670000000004]
[1971,9.0198450000000001]
[1972,9.0209270000000004]
[1973,9.0220140000000004]
[1974,9.0231060000000003]
[1975,9.024203]
[1976,9.0253049999999995]
[1977,9.0264120000000005]
[1978,9.0275239999999997]
[1979,9.0286410000000004]
[1980,9.0297640000000001]
[1981,9.0308930000000007]
[1982,9.0320269999999994]
[1983,9.0331650000000003]
[1984,9.0343040000000006]
[1985,9.0354430000000008]
[1986,9.0365850000000005]
[1987,9.0377270000000003]
[1988,9.0388699999999993]
[1989,9.0400150000000004]
[1990,9.0411599999999996]
[1991,9.0423069999999992]
[1992,9.0434540000000005]
[1993,9.0446030000000004]
[1994,9.0457529999999995]
[1995,9.0469039999999996]
[1996,9.0480549999999997]
[1997,9.0492080000000001]
[1998,9.0503619999999998]
[1999,9.0515170000000005]
[2000,9.0526730000000004]

{"sheet":"FUTUROS ESPECIFICOS","index":3,"n_rows":140,"n_cols":22,"rows_kept":140,"cut":false,"hidden":false,"merged":[[1,16,1,17],[3,16,3,17]]}
["Contrato","YCash Bid","YFut Bid","Bid","Ask","Y F Ask","YCash Ask","Last","Tasa Fut","Tasa Cash",null,"BID","ASK","Last","PPP",null,null,null,null,"Plazos","DXV","Fondeo"]
[{"$f":"Información!E2&Información!$H$2","v":"DC24MR22"},null,null,null,null,null,null,null,null,null,null,{"$f":"IF(RTD(\"gllinks.rtd\",,\"Mkt\",$A2,L$1)=\"--\",\"\",RTD(\"gllinks.rtd\",,\"Mkt\",$A2,L$1))","v":{"$error":"#N/A"}},{"$f":"IF(RTD(\"gllinks.rtd\",,\"Mkt\",$A2,M$1)=\"--\",\"\",RTD(\"gllinks.rtd\",,\"Mkt\",$A2,M$1))","v":{"$error":"#N/A"}},{"$f":"IF(RTD(\"gllinks.rtd\",,\"Mkt\",$A2,N$1)=\"--\",\"\",RTD(\"gllinks.rtd\",,\"Mkt\",$A2,N$1))","v":{"$error":"#N/A"}},{"$f":"IFERROR((_xll.rtdValue(\"BID QTY\",$A2,\"EMD\",\"MXN\")*M2+_xll.rtdValue(\"ASK QTY\",$A2,\"EMD\",\"MXN\")*L2)/(_xll.rtdValue(\"BID QTY\",$A2,\"EMD\",\"MXN\")+_xll.rtdValue(\"ASK QTY\",$A2,\"EMD\",\"MXN\")),\"\")","v":""},null,"Fecha Valuación",null,null,{"$f":"+Información!H2","v":"MR22"},{"$f":"VLOOKUP(T2,CTOS_FUT,2,0)-'FUTUROS ESPECIFICOS'!$Q$4","v":86},{"$f":"VLOOKUP(U2,Información!$A:$B,2,0)","v":5.8039420000000002}]
[null,null,null,null,null,null,null,null,null,null,null,{"$f":"IF(RTD(\"gllinks.rtd\",,\"Mkt\",$A3,L$1)=\"--\",\"\",RTD(\"gllinks.rtd\",,\"Mkt\",$A3,L$1))","v":{"$error":"#N/A"}},{"$f":"IF(RTD(\"gllinks.rtd\",,\"Mkt\",$A3,M$1)=\"--\",\"\",RTD(\"gllinks.rtd\",,\"Mkt\",$A3,M$1))","v":{"$error":"#N/A"}},{"$f":"IF(RTD(\"gllinks.rtd\",,\"Mkt\",$A3,N$1)=\"--\",\"\",RTD(\"gllinks.rtd\",,\"Mkt\",$A3,N$1))","v":{"$error":"#N/A"}},null,null,null,null,null,null,null,{"$f":"VLOOKUP(U3,Información!$A:$B,2,0)","v":{"$error":"#N/A"}}]
[{"$f":"Información!E2&Información!$H$3","v":"DC24JN22"},null,null,null,null,null,null,null,null,null,null,{"$f":"IF(RTD(\"gllinks.rtd\",,\"Mkt\",$A4,L$1)=\"--\",\"\",RTD(\"gllinks.rtd\",,\"Mkt\",$A4,L$1))","v":{"$error":"#N/A"}},{"$f":"IF(RTD(\"gllinks.rtd\",,\"Mkt\",$A4,M$1)=\"--\",\"\",RTD(\"gllinks.rtd\",,\"Mkt\",$A4,M$1))","v":{"$error":"#N/A"}},{"$f":"IF(RTD(\"gllinks.rtd\",,\"Mkt\",$A4,N$1)=\"--\",\"\",RTD(\"gllinks.rtd\",,\"Mkt\",$A4,N$1))","v":{"$error":"#N/A"}},{"$f":"IFERROR((_xll.rtdValue(\"BID QTY\",$A4,\"EMD\",\"MXN\")*M4+_xll.rtdValue(\"ASK QTY\",$A4,\"EMD\",\"MXN\")*L4)/(_xll.rtdValue(\"BID QTY\",$A4,\"EMD\",\"MXN\")+_xll.rtdValue(\"ASK QTY\",$A4,\"EMD\",\"MXN\")),\"\")","v":""},null,{"$f":"WORKDAY(TODAY(),2,calendario!$A$1:$A$339)","v":"2022-01-04"},null,null,{"$f":"+Información!H3","v":"JN22"},{"$f":"VLOOKUP(T4,CTOS_FUT,2,0)-'FUTUROS ESPECIFICOS'!$Q$4","v":177},{"$f":"VLOOKUP(U4,Información!$A:$B,2,0)","v":6.2723620000000002}]
[null,null,null,null,null,null,null,null,null,null,null,{"$f":"IF(RTD(\"gllinks.rtd\",,\"Mkt\",$A5,L$1)=\"--\",\"\",RTD(\"gllinks.rtd\",,\"Mkt\",$A5,L$1))","v":{"$error":"#N/A"}},{"$f":"IF(RTD(\"gllinks.rtd\",,\"Mkt\",$A5,M$1)=\"--\",\"\",RTD(\"gllinks.rtd\",,\"Mkt\",$A5,M$1))","v":{"$error":"#N/A"}},{"$f":"IF(RTD(\"gllinks.rtd\",,\"Mkt\",$A5,N$1)=\"--\",\"\",RTD(\"gllinks.rtd\",,\"Mkt\",$A5,N$1))","v":{"$error":"#N/A"}},null,null,null,null,null,null,null,{"$f":"VLOOKUP(U5,Información!$A:$B,2,0)","v":{"$error":"#N/A"}}]
[{"$f":"Información!E2&Información!$H$4","v":"DC24SP22"},null,null,null,null,null,null,null,null,null,null,{"$f":"IF(RTD(\"gllinks.rtd\",,\"Mkt\",$A6,L$1)=\"--\",\"\",RTD(\"gllinks.rtd\",,\"Mkt\",$A6,L$1))","v":{"$error":"#N/A"}},{"$f":"IF(RTD(\"gllinks.rtd\",,\"Mkt\",$A6,M$1)=\"--\",\"\",RTD(\"gllinks.rtd\",,\"Mkt\",$A6,M$1))","v":{"$error":"#N/A"}},{"$f":"IF(RTD(\"gllinks.rtd\",,\"Mkt\",$A6,N$1)=\"--\",\"\",RTD(\"gllinks.rtd\",,\"Mkt\",$A6,N$1))","v":{"$error":"#N/A"}},{"$f":"IFERROR((_xll.rtdValue(\"BID QTY\",$A6,\"EMD\",\"MXN\")*M6+_xll.rtdValue(\"ASK QTY\",$A6,\"EMD\",\"MXN\")*L6)/(_xll.rtdValue(\"BID QTY\",$A6,\"EMD\",\"MXN\")+_xll.rtdValue(\"ASK QTY\",$A6,\"EMD\",\"MXN\")),\"\")","v":""},null,null,null,null,{"$f":"+Información!H4","v":"SP22"},{"$f":"VLOOKUP(T6,CTOS_FUT,2,0)-'FUTUROS ESPECIFICOS'!$Q$4","v":269},{"$f":"VLOOKUP(U6,Información!$A:$B,2,0)","v":6.748685}]
[null,null,null,null,null,null,null,null,null,null,null,{"$f":"IF(RTD(\"gllinks.rtd\",,\"Mkt\",$A7,L$1)=\"--\",\"\",RTD(\"gllinks.rtd\",,\"Mkt\",$A7,L$1))","v":{"$error":"#N/A"}},{"$f":"IF(RTD(\"gllinks.rtd\",,\"Mkt\",$A7,M$1)=\"--\",\"\",RTD(\"gllinks.rtd\",,\"Mkt\",$A7,M$1))","v":{"$error":"#N/A"}},{"$f":"IF(RTD(\"gllinks.rtd\",,\"Mkt\",$A7,N$1)=\"--\",\"\",RTD(\"gllinks.rtd\",,\"Mkt\",$A7,N$1))","v":{"$error":"#N/A"}},null,null,null,null,null,null,null,3.59151833]
[{"$f":"Información!E2&Información!$H$5","v":"DC24DC22"},null,null,null,null,null,null,null,null,null,null,{"$f":"IF(RTD(\"gllinks.rtd\",,\"Mkt\",$A8,L$1)=\"--\",\"\",RTD(\"gllinks.rtd\",,\"Mkt\",$A8,L$1))","v":{"$error":"#N/A"}},{"$f":"IF(RTD(\"gllinks.rtd\",,\"Mkt\",$A8,M$1)=\"--\",\"\",RTD(\"gllinks.rtd\",,\"Mkt\",$A8,M$1))","v":{"$error":"#N/A"}},{"$f":"IF(RTD(\"gllinks.rtd\",,\"Mkt\",$A8,N$1)=\"--\",\"\",RTD(\"gllinks.rtd\",,\"Mkt\",$A8,N$1))","v":{"$error":"#N/A"}},{"$f":"IFERROR((_xll.rtdValue(\"BID QTY\",$A8,\"EMD\",\"MXN\")*M8+_xll.rtdValue(\"ASK QTY\",$A8,\"EMD\",\"MXN\")*L8)/(_xll.rtdValue(\"BID QTY\",$A8,\"EMD\",\"MXN\")+_xll.rtdValue(\"ASK QTY\",$A8,\"EMD\",\"MXN\")),\"\")","v":""},null,null,null,null,{"$f":"+Información!H5","v":"DC22"},{"$f":"VLOOKUP(T8,CTOS_FUT,2,0)-'FUTUROS ESPECIFICOS'!$Q$4","v":360},{"$f":"VLOOKUP(U8,Información!$A:$B,2,0)","v":6.94}]
[null,null,null,null,null,null,null,null,null,null,null,{"$f":"IF(RTD(\"gllinks.rtd\",,\"Mkt\",$A9,L$1)=\"--\",\"\",RTD(\"gllinks.rtd\",,\"Mkt\",$A9,L$1))","v":{"$error":"#N/A"}},{"$f":"IF(RTD(\"gllinks.rtd\",,\"Mkt\",$A9,M$1)=\"--\",\"\",RTD(\"gllinks.rtd\",,\"Mkt\",$A9,M$1))","v":{"$error":"#N/A"}},{"$f":"IF(RTD(\"gllinks.rtd\",,\"Mkt\",$A9,N$1)=\"--\",\"\",RTD(\"gllinks.rtd\",,\"Mkt\",$A9,N$1))","v":{"$error":"#N/A"}},null,null,null,null,null,null,null,3.6003676699999998]
[null,null,null,null,null,null,null,null,null,null,null,{"$f":"IF(RTD(\"gllinks.rtd\",,\"Mkt\",$A10,L$1)=\"--\",\"\",RTD(\"gllinks.rtd\",,\"Mkt\",$A10,L$1))","v":{"$error":"#N/A"}},{"$f":"IF(RTD(\"gllinks.rtd\",,\"Mkt\",$A10,M$1)=\"--\",\"\",RTD(\"gllinks.rtd\",,\"Mkt\",$A10,M$1))","v":{"$error":"#N/A"}},{"$f":"IF(RTD(\"gllinks.rtd\",,\"Mkt\",$A10,N$1)=\"--\",\"\",RTD(\"gllinks.rtd\",,\"Mkt\",$A10,N$1))","v":{"$error":"#N/A"}}]
[]
[{"$f":"Información!E3&Información!$H$2","v":"MR26MR22"},null,null,null,null,null,null,null,null,null,null,{"$f":"IF(RTD(\"gllinks.rtd\",,\"Mkt\",$A12,L$1)=\"--\",\"\",RTD(\"gllinks.rtd\",,\"Mkt\",$A12,L$1))","v":{"$error":"#N/A"}},{"$f":"IF(RTD(\"gllinks.rtd\",,\"Mkt\",$A12,M$1)=\"--\",\"\",RTD(\"gllinks.rtd\",,\"Mkt\",$A12,M$1))","v":{"$error":"#N/A"}},{"$f":"IF(RTD(\"gllinks.rtd\",,\"Mkt\",$A12,N$1)=\"--\",\"\",RTD(\"gllinks.rtd\",,\"Mkt\",$A12,N$1))","v":{"$error":"#N/A"}},{"$f":"IFERROR((_xll.rtdValue(\"BID QTY\",$A12,\"EMD\",\"MXN\")*M12+_xll.rtdValue(\"ASK QTY\",$A12,\"EMD\",\"MXN\")*L12)/(_xll.rtdValue(\"BID QTY\",$A12,\"EMD\",\"MXN\")+_xll.rtdValue(\"ASK QTY\",$A12,\"EMD\",\"MXN\")),\"\")","v":""}]
[null,null,null,null,null,null,null,null,null,null,null,{"$f":"IF(RTD(\"gllinks.rtd\",,\"Mkt\",$A13,L$1)=\"--\",\"\",RTD(\"gllinks.rtd\",,\"Mkt\",$A13,L$1))","v":{"$error":"#N/A"}},{"$f":"IF(RTD(\"gllinks.rtd\",,\"Mkt\",$A13,M$1)=\"--\",\"\",RTD(\"gllinks.rtd\",,\"Mkt\",$A13,M$1))","v":{"$error":"#N/A"}},{"$f":"IF(RTD(\"gllinks.rtd\",,\"Mkt\",$A13,N$1)=\"--\",\"\",RTD(\"gllinks.rtd\",,\"Mkt\",$A13,N$1))","v":{"$error":"#N/A"}}]
[{"$f":"Información!E3&Información!$H$3","v":"MR26JN22"},null,null,null,null,null,null,null,null,null,null,{"$f":"IF(RTD(\"gllinks.rtd\",,\"Mkt\",$A14,L$1)=\"--\",\"\",RTD(\"gllinks.rtd\",,\"Mkt\",$A14,L$1))","v":{"$error":"#N/A"}},{"$f":"IF(RTD(\"gllinks.rtd\",,\"Mkt\",$A14,M$1)=\"--\",\"\",RTD(\"gllinks.rtd\",,\"Mkt\",$A14,M$1))","v":{"$error":"#N/A"}},{"$f":"IF(RTD(\"gllinks.rtd\",,\"Mkt\",$A14,N$1)=\"--\",\"\",RTD(\"gllinks.rtd\",,\"Mkt\",$A14,N$1))","v":{"$error":"#N/A"}},{"$f":"IFERROR((_xll.rtdValue(\"BID QTY\",$A14,\"EMD\",\"MXN\")*M14+_xll.rtdValue(\"ASK QTY\",$A14,\"EMD\",\"MXN\")*L14)/(_xll.rtdValue(\"BID QTY\",$A14,\"EMD\",\"MXN\")+_xll.rtdValue(\"ASK QTY\",$A14,\"EMD\",\"MXN\")),\"\")","v":""}]
[null,null,null,null,null,null,null,null,null,null,null,{"$f":"IF(RTD(\"gllinks.rtd\",,\"Mkt\",$A15,L$1)=\"--\",\"\",RTD(\"gllinks.rtd\",,\"Mkt\",$A15,L$1))","v":{"$error":"#N/A"}},{"$f":"IF(RTD(\"gllinks.rtd\",,\"Mkt\",$A15,M$1)=\"--\",\"\",RTD(\"gllinks.rtd\",,\"Mkt\",$A15,M$1))","v":{"$error":"#N/A"}},{"$f":"IF(RTD(\"gllinks.rtd\",,\"Mkt\",$A15,N$1)=\"--\",\"\",RTD(\"gllinks.rtd\",,\"Mkt\",$A15,N$1))","v":{"$error":"#N/A"}}]
[{"$f":"Información!E3&Información!$H$4","v":"MR26SP22"},null,null,null,null,null,null,null,null,null,null,{"$f":"IF(RTD(\"gllinks.rtd\",,\"Mkt\",$A16,L$1)=\"--\",\"\",RTD(\"gllinks.rtd\",,\"Mkt\",$A16,L$1))","v":{"$error":"#N/A"}},{"$f":"IF(RTD(\"gllinks.rtd\",,\"Mkt\",$A16,M$1)=\"--\",\"\",RTD(\"gllinks.rtd\",,\"Mkt\",$A16,M$1))","v":{"$error":"#N/A"}},{"$f":"IF(RTD(\"gllinks.rtd\",,\"Mkt\",$A16,N$1)=\"--\",\"\",RTD(\"gllinks.rtd\",,\"Mkt\",$A16,N$1))","v":{"$error":"#N/A"}},{"$f":"IFERROR((_xll.rtdValue(\"BID QTY\",$A16,\"EMD\",\"MXN\")*M16+_xll.rtdValue(\"ASK QTY\",$A16,\"EMD\",\"MXN\")*L16)/(_xll.rtdValue(\"BID QTY\",$A16,\"EMD\",\"MXN\")+_xll.rtdValue(\"ASK QTY\",$A16,\"EMD\",\"MXN\")),\"\")","v":""}]
[null,null,null,null,null,null,null,null,null,null,null,{"$f":"IF(RTD(\"gllinks.rtd\",,\"Mkt\",$A17,L$1)=\"--\",\"\",RTD(\"gllinks.rtd\",,\"Mkt\",$A17,L$1))","v":{"$error":"#N/A"}},{"$f":"IF(RTD(\"gllinks.rtd\",,\"Mkt\",$A17,M$1)=\"--\",\"\",RTD(\"gllinks.rtd\",,\"Mkt\",$A17,M$1))","v":{"$error":"#N/A"}},{"$f":"IF(RTD(\"gllinks.rtd\",,\"Mkt\",$A17,N$1)=\"--\",\"\",RTD(\"gllinks.rtd\",,\"Mkt\",$A17,N$1))","v":{"$error":"#N/A"}}]
[{"$f":"Información!E3&Información!$H$5","v":"MR26DC22"},null,null,null,null,null,null,null,null,null,null,{"$f":"IF(RTD(\"gllinks.rtd\",,\"Mkt\",$A18,L$1)=\"--\",\"\",RTD(\"gllinks.rtd\",,\"Mkt\",$A18,L$1))","v":{"$error":"#N/A"}},{"$f":"IF(RTD(\"gllinks.rtd\",,\"Mkt\",$A18,M$1)=\"--\",\"\",RTD(\"gllinks.rtd\",,\"Mkt\",$A18,M$1))","v":{"$error":"#N/A"}},{"$f":"IF(RTD(\"gllinks.rtd\",,\"Mkt\",$A18,N$1)=\"--\",\"\",RTD(\"gllinks.rtd\",,\"Mkt\",$A18,N$1))","v":{"$error":"#N/A"}},{"$f":"IFERROR((_xll.rtdValue(\"BID QTY\",$A18,\"EMD\",\"MXN\")*M18+_xll.rtdValue(\"ASK QTY\",$A18,\"EMD\",\"MXN\")*L18)/(_xll.rtdValue(\"BID QTY\",$A18,\"EMD\",\"MXN\")+_xll.rtdValue(\"ASK QTY\",$A18,\"EMD\",\"MXN\")),\"\")","v":""}]
[]
[]
[]
[{"$f":"Información!E4&Información!$H$2","v":"JN27MR22"},null,null,null,null,null,null,null,null,null,null,{"$f":"IF(RTD(\"gllinks.rtd\",,\"Mkt\",$A22,L$1)=\"--\",\"\",RTD(\"gllinks.rtd\",,\"Mkt\",$A22,L$1))","v":{"$error":"#N/A"}},{"$f":"IF(RTD(\"gllinks.rtd\",,\"Mkt\",$A22,M$1)=\"--\",\"\",RTD(\"gllinks.rtd\",,\"Mkt\",$A22,M$1))","v":{"$error":"#N/A"}},{"$f":"IF(RTD(\"gllinks.rtd\",,\"Mkt\",$A22,N$1)=\"--\",\"\",RTD(\"gllinks.rtd\",,\"Mkt\",$A22,N$1))","v":{"$error":"#N/A"}},{"$f":"IFERROR((_xll.rtdValue(\"BID QTY\",$A22,\"EMD\",\"MXN\")*M22+_xll.rtdValue(\"ASK QTY\",$A22,\"EMD\",\"MXN\")*L22)/(_xll.rtdValue(\"BID QTY\",$A22,\"EMD\",\"MXN\")+_xll.rtdValue(\"ASK QTY\",$A22,\"EMD\",\"MXN\")),\"\")","v":""}]
[null,null,null,null,null,null,null,null,null,null,null,{"$f":"IF(RTD(\"gllinks.rtd\",,\"Mkt\",$A23,L$1)=\"--\",\"\",RTD(\"gllinks.rtd\",,\"Mkt\",$A23,L$1))","v":{"$error":"#N/A"}},{"$f":"IF(RTD(\"gllinks.rtd\",,\"Mkt\",$A23,M$1)=\"--\",\"\",RTD(\"gllinks.rtd\",,\"Mkt\",$A23,M$1))","v":{"$error":"#N/A"}},{"$f":"IF(RTD(\"gllinks.rtd\",,\"Mkt\",$A23,N$1)=\"--\",\"\",RTD(\"gllinks.rtd\",,\"Mkt\",$A23,N$1))","v":{"$error":"#N/A"}}]
[{"$f":"Información!E4&Información!$H$3","v":"JN27JN22"},null,null,null,null,null,null,null,null,null,null,{"$f":"IF(RTD(\"gllinks.rtd\",,\"Mkt\",$A24,L$1)=\"--\",\"\",RTD(\"gllinks.rtd\",,\"Mkt\",$A24,L$1))","v":{"$error":"#N/A"}},{"$f":"IF(RTD(\"gllinks.rtd\",,\"Mkt\",$A24,M$1)=\"--\",\"\",RTD(\"gllinks.rtd\",,\"Mkt\",$A24,M$1))","v":{"$error":"#N/A"}},{"$f":"IF(RTD(\"gllinks.rtd\",,\"Mkt\",$A24,N$1)=\"--\",\"\",RTD(\"gllinks.rtd\",,\"Mkt\",$A24,N$1))","v":{"$error":"#N/A"}},{"$f":"IFERROR((_xll.rtdValue(\"BID QTY\",$A24,\"EMD\",\"MXN\")*M24+_xll.rtdValue(\"ASK QTY\",$A24,\"EMD\",\"MXN\")*L24)/(_xll.rtdValue(\"BID QTY\",$A24,\"EMD\",\"MXN\")+_xll.rtdValue(\"ASK QTY\",$A24,\"EMD\",\"MXN\")),\"\")","v":""}]
[null,null,null,null,null,null,null,null,null,null,null,{"$f":"IF(RTD(\"gllinks.rtd\",,\"Mkt\",$A25,L$1)=\"--\",\"\",RTD(\"gllinks.rtd\",,\"Mkt\",$A25,L$1))","v":{"$error":"#N/A"}},{"$f":"IF(RTD(\"gllinks.rtd\",,\"Mkt\",$A25,M$1)=\"--\",\"\",RTD(\"gllinks.rtd\",,\"Mkt\",$A25,M$1))","v":{"$error":"#N/A"}},{"$f":"IF(RTD(\"gllinks.rtd\",,\"Mkt\",$A25,N$1)=\"--\",\"\",RTD(\"gllinks.rtd\",,\"Mkt\",$A25,N$1))","v":{"$error":"#N/A"}}]
[{"$f":"Información!E4&Información!$H$4","v":"JN27SP22"},null,null,null,null,null,null,null,null,null,null,{"$f":"IF(RTD(\"gllinks.rtd\",,\"Mkt\",$A26,L$1)=\"--\",\"\",RTD(\"gllinks.rtd\",,\"Mkt\",$A26,L$1))","v":{"$error":"#N/A"}},{"$f":"IF(RTD(\"gllinks.rtd\",,\"Mkt\",$A26,M$1)=\"--\",\"\",RTD(\"gllinks.rtd\",,\"Mkt\",$A26,M$1))","v":{"$error":"#N/A"}},{"$f":"IF(RTD(\"gllinks.rtd\",,\"Mkt\",$A26,N$1)=\"--\",\"\",RTD(\"gllinks.rtd\",,\"Mkt\",$A26,N$1))","v":{"$error":"#N/A"}},{"$f":"IFERROR((_xll.rtdValue(\"BID QTY\",$A26,\"EMD\",\"MXN\")*M26+_xll.rtdValue(\"ASK QTY\",$A26,\"EMD\",\"MXN\")*L26)/(_xll.rtdValue(\"BID QTY\",$A26,\"EMD\",\"MXN\")+_xll.rtdValue(\"ASK QTY\",$A26,\"EMD\",\"MXN\")),\"\")","v":""}]
[null,null,null,null,null,null,null,null,null,null,null,{"$f":"IF(RTD(\"gllinks.rtd\",,\"Mkt\",$A27,L$1)=\"--\",\"\",RTD(\"gllinks.rtd\",,\"Mkt\",$A27,L$1))","v":{"$error":"#N/A"}},{"$f":"IF(RTD(\"gllinks.rtd\",,\"Mkt\",$A27,M$1)=\"--\",\"\",RTD(\"gllinks.rtd\",,\"Mkt\",$A27,M$1))","v":{"$error":"#N/A"}},{"$f":"IF(RTD(\"gllinks.rtd\",,\"Mkt\",$A27,N$1)=\"--\",\"\",RTD(\"gllinks.rtd\",,\"Mkt\",$A27,N$1))","v":{"$error":"#N/A"}}]
[{"$f":"Información!E4&Información!$H$5","v":"JN27DC22"},null,null,null,null,null,null,null,null,null,null,{"$f":"IF(RTD(\"gllinks.rtd\",,\"Mkt\",$A28,L$1)=\"--\",\"\",RTD(\"gllinks.rtd\",,\"Mkt\",$A28,L$1))","v":{"$error":"#N/A"}},{"$f":"IF(RTD(\"gllinks.rtd\",,\"Mkt\",$A28,M$1)=\"--\",\"\",RTD(\"gllinks.rtd\",,\"Mkt\",$A28,M$1))","v":{"$error":"#N/A"}},{"$f":"IF(RTD(\"gllinks.rtd\",,\"Mkt\",$A28,N$1)=\"--\",\"\",RTD(\"gllinks.rtd\",,\"Mkt\",$A28,N$1))","v":{"$error":"#N/A"}},{"$f":"IFERROR((_xll.rtdValue(\"BID QTY\",$A28,\"EMD\",\"MXN\")*M28+_xll.rtdValue(\"ASK QTY\",$A28,\"EMD\",\"MXN\")*L28)/(_xll.rtdValue(\"BID QTY\",$A28,\"EMD\",\"MXN\")+_xll.rtdValue(\"ASK QTY\",$A28,\"EMD\",\"MXN\")),\"\")","v":""}]
[]
[]
[]
[{"$f":"Información!E5&Información!$H$2","v":"MY29MR22"},null,null,null,null,null,null,null,null,null,null,{"$f":"IF(RTD(\"gllinks.rtd\",,\"Mkt\",$A32,L$1)=\"--\",\"\",RTD(\"gllinks.rtd\",,\"Mkt\",$A32,L$1))","v":{"$error":"#N/A"}},{"$f":"IF(RTD(\"gllinks.rtd\",,\"Mkt\",$A32,M$1)=\"--\",\"\",RTD(\"gllinks.rtd\",,\"Mkt\",$A32,M$1))","v":{"$error":"#N/A"}},{"$f":"IF(RTD(\"gllinks.rtd\",,\"Mkt\",$A32,N$1)=\"--\",\"\",RTD(\"gllinks.rtd\",,\"Mkt\",$A32,N$1))","v":{"$error":"#N/A"}},{"$f":"IFERROR((_xll.rtdValue(\"BID QTY\",$A32,\"EMD\",\"MXN\")*M32+_xll.rtdValue(\"ASK QTY\",$A32,\"EMD\",\"MXN\")*L32)/(_xll.rtdValue(\"BID QTY\",$A32,\"EMD\",\"MXN\")+_xll.rtdValue(\"ASK QTY\",$A32,\"EMD\",\"MXN\")),\"\")","v":""}]
[null,null,null,null,null,null,null,null,null,null,null,{"$f":"IF(RTD(\"gllinks.rtd\",,\"Mkt\",$A33,L$1)=\"--\",\"\",RTD(\"gllinks.rtd\",,\"Mkt\",$A33,L$1))","v":{"$error":"#N/A"}},{"$f":"IF(RTD(\"gllinks.rtd\",,\"Mkt\",$A33,M$1)=\"--\",\"\",RTD(\"gllinks.rtd\",,\"Mkt\",$A33,M$1))","v":{"$error":"#N/A"}},{"$f":"IF(RTD(\"gllinks.rtd\",,\"Mkt\",$A33,N$1)=\"--\",\"\",RTD(\"gllinks.rtd\",,\"Mkt\",$A33,N$1))","v":{"$error":"#N/A"}}]
[{"$f":"Información!E5&Información!$H$3","v":"MY29JN22"},null,null,null,null,null,null,null,null,null,null,{"$f":"IF(RTD(\"gllinks.rtd\",,\"Mkt\",$A34,L$1)=\"--\",\"\",RTD(\"gllinks.rtd\",,\"Mkt\",$A34,L$1))","v":{"$error":"#N/A"}},{"$f":"IF(RTD(\"gllinks.rtd\",,\"Mkt\",$A34,M$1)=\"--\",\"\",RTD(\"gllinks.rtd\",,\"Mkt\",$A34,M$1))","v":{"$error":"#N/A"}},{"$f":"IF(RTD(\"gllinks.rtd\",,\"Mkt\",$A34,N$1)=\"--\",\"\",RTD(\"gllinks.rtd\",,\"Mkt\",$A34,N$1))","v":{"$error":"#N/A"}},{"$f":"IFERROR((_xll.rtdValue(\"BID QTY\",$A34,\"EMD\",\"MXN\")*M34+_xll.rtdValue(\"ASK QTY\",$A34,\"EMD\",\"MXN\")*L34)/(_xll.rtdValue(\"BID QTY\",$A34,\"EMD\",\"MXN\")+_xll.rtdValue(\"ASK QTY\",$A34,\"EMD\",\"MXN\")),\"\")","v":""}]
[null,null,null,null,null,null,null,null,null,null,null,{"$f":"IF(RTD(\"gllinks.rtd\",,\"Mkt\",$A35,L$1)=\"--\",\"\",RTD(\"gllinks.rtd\",,\"Mkt\",$A35,L$1))","v":{"$error":"#N/A"}},{"$f":"IF(RTD(\"gllinks.rtd\",,\"Mkt\",$A35,M$1)=\"--\",\"\",RTD(\"gllinks.rtd\",,\"Mkt\",$A35,M$1))","v":{"$error":"#N/A"}},{"$f":"IF(RTD(\"gllinks.rtd\",,\"Mkt\",$A35,N$1)=\"--\",\"\",RTD(\"gllinks.rtd\",,\"Mkt\",$A35,N$1))","v":{"$error":"#N/A"}}]
[{"$f":"Información!E5&Información!$H$4","v":"MY29SP22"},null,null,null,null,null,null,null,null,null,null,{"$f":"IF(RTD(\"gllinks.rtd\",,\"Mkt\",$A36,L$1)=\"--\",\"\",RTD(\"gllinks.rtd\",,\"Mkt\",$A36,L$1))","v":{"$error":"#N/A"}},{"$f":"IF(RTD(\"gllinks.rtd\",,\"Mkt\",$A36,M$1)=\"--\",\"\",RTD(\"gllinks.rtd\",,\"Mkt\",$A36,M$1))","v":{"$error":"#N/A"}},{"$f":"IF(RTD(\"gllinks.rtd\",,\"Mkt\",$A36,N$1)=\"--\",\"\",RTD(\"gllinks.rtd\",,\"Mkt\",$A36,N$1))","v":{"$error":"#N/A"}},{"$f":"IFERROR((_xll.rtdValue(\"BID QTY\",$A36,\"EMD\",\"MXN\")*M36+_xll.rtdValue(\"ASK QTY\",$A36,\"EMD\",\"MXN\")*L36)/(_xll.rtdValue(\"BID QTY\",$A36,\"EMD\",\"MXN\")+_xll.rtdValue(\"ASK QTY\",$A36,\"EMD\",\"MXN\")),\"\")","v":""}]
[null,null,null,null,null,null,null,null,null,null,null,{"$f":"IF(RTD(\"gllinks.rtd\",,\"Mkt\",$A37,L$1)=\"--\",\"\",RTD(\"gllinks.rtd\",,\"Mkt\",$A37,L$1))","v":{"$error":"#N/A"}},{"$f":"IF(RTD(\"gllinks.rtd\",,\"Mkt\",$A37,M$1)=\"--\",\"\",RTD(\"gllinks.rtd\",,\"Mkt\",$A37,M$1))","v":{"$error":"#N/A"}},{"$f":"IF(RTD(\"gllinks.rtd\",,\"Mkt\",$A37,N$1)=\"--\",\"\",RTD(\"gllinks.rtd\",,\"Mkt\",$A37,N$1))","v":{"$error":"#N/A"}}]
[{"$f":"Información!E5&Información!$H$5","v":"MY29DC22"},null,null,null,null,null,null,null,null,null,null,{"$f":"IF(RTD(\"gllinks.rtd\",,\"Mkt\",$A38,L$1)=\"--\",\"\",RTD(\"gllinks.rtd\",,\"Mkt\",$A38,L$1))","v":{"$error":"#N/A"}},{"$f":"IF(RTD(\"gllinks.rtd\",,\"Mkt\",$A38,M$1)=\"--\",\"\",RTD(\"gllinks.rtd\",,\"Mkt\",$A38,M$1))","v":{"$error":"#N/A"}},{"$f":"IF(RTD(\"gllinks.rtd\",,\"Mkt\",$A38,N$1)=\"--\",\"\",RTD(\"gllinks.rtd\",,\"Mkt\",$A38,N$1))","v":{"$error":"#N/A"}},{"$f":"IFERROR((_xll.rtdValue(\"BID QTY\",$A38,\"EMD\",\"MXN\")*M38+_xll.rtdValue(\"ASK QTY\",$A38,\"EMD\",\"MXN\")*L38)/(_xll.rtdValue(\"BID QTY\",$A38,\"EMD\",\"MXN\")+_xll.rtdValue(\"ASK QTY\",$A38,\"EMD\",\"MXN\")),\"\")","v":""}]
[]
[]
[]
[{"$f":"Información!E6&Información!$H$2","v":"MY31MR22"},null,null,null,null,null,null,null,null,null,null,{"$f":"IF(RTD(\"gllinks.rtd\",,\"Mkt\",$A42,L$1)=\"--\",\"\",RTD(\"gllinks.rtd\",,\"Mkt\",$A42,L$1))","v":{"$error":"#N/A"}},{"$f":"IF(RTD(\"gllinks.rtd\",,\"Mkt\",$A42,M$1)=\"--\",\"\",RTD(\"gllinks.rtd\",,\"Mkt\",$A42,M$1))","v":{"$error":"#N/A"}},{"$f":"IF(RTD(\"gllinks.rtd\",,\"Mkt\",$A42,N$1)=\"--\",\"\",RTD(\"gllinks.rtd\",,\"Mkt\",$A42,N$1))","v":{"$error":"#N/A"}},{"$f":"IFERROR((_xll.rtdValue(\"BID QTY\",$A42,\"EMD\",\"MXN\")*M42+_xll.rtdValue(\"ASK QTY\",$A42,\"EMD\",\"MXN\")*L42)/(_xll.rtdValue(\"BID QTY\",$A42,\"EMD\",\"MXN\")+_xll.rtdValue(\"ASK QTY\",$A42,\"EMD\",\"MXN\")),\"\")","v":""}]
[null,null,null,null,null,null,null,null,null,null,null,{"$f":"IF(RTD(\"gllinks.rtd\",,\"Mkt\",$A43,L$1)=\"--\",\"\",RTD(\"gllinks.rtd\",,\"Mkt\",$A43,L$1))","v":{"$error":"#N/A"}},{"$f":"IF(RTD(\"gllinks.rtd\",,\"Mkt\",$A43,M$1)=\"--\",\"\",RTD(\"gllinks.rtd\",,\"Mkt\",$A43,M$1))","v":{"$error":"#N/A"}},{"$f":"IF(RTD(\"gllinks.rtd\",,\"Mkt\",$A43,N$1)=\"--\",\"\",RTD(\"gllinks.rtd\",,\"Mkt\",$A43,N$1))","v":{"$error":"#N/A"}}]
[{"$f":"Información!E6&Información!$H$3","v":"MY31JN22"},null,null,null,null,null,null,null,null,null,null,{"$f":"IF(RTD(\"gllinks.rtd\",,\"Mkt\",$A44,L$1)=\"--\",\"\",RTD(\"gllinks.rtd\",,\"Mkt\",$A44,L$1))","v":{"$error":"#N/A"}},{"$f":"IF(RTD(\"gllinks.rtd\",,\"Mkt\",$A44,M$1)=\"--\",\"\",RTD(\"gllinks.rtd\",,\"Mkt\",$A44,M$1))","v":{"$error":"#N/A"}},{"$f":"IF(RTD(\"gllinks.rtd\",,\"Mkt\",$A44,N$1)=\"--\",\"\",RTD(\"gllinks.rtd\",,\"Mkt\",$A44,N$1))","v":{"$error":"#N/A"}},{"$f":"IFERROR((_xll.rtdValue(\"BID QTY\",$A44,\"EMD\",\"MXN\")*M44+_xll.rtdValue(\"ASK QTY\",$A44,\"EMD\",\"MXN\")*L44)/(_xll.rtdValue(\"BID QTY\",$A44,\"EMD\",\"MXN\")+_xll.rtdValue(\"ASK QTY\",$A44,\"EMD\",\"MXN\")),\"\")","v":""}]
[null,null,null,null,null,null,null,null,null,null,null,{"$f":"IF(RTD(\"gllinks.rtd\",,\"Mkt\",$A45,L$1)=\"--\",\"\",RTD(\"gllinks.rtd\",,\"Mkt\",$A45,L$1))","v":{"$error":"#N/A"}},{"$f":"IF(RTD(\"gllinks.rtd\",,\"Mkt\",$A45,M$1)=\"--\",\"\",RTD(\"gllinks.rtd\",,\"Mkt\",$A45,M$1))","v":{"$error":"#N/A"}},{"$f":"IF(RTD(\"gllinks.rtd\",,\"Mkt\",$A45,N$1)=\"--\",\"\",RTD(\"gllinks.rtd\",,\"Mkt\",$A45,N$1))","v":{"$error":"#N/A"}}]
[{"$f":"Información!E6&Información!$H$4","v":"MY31SP22"},null,null,null,null,null,null,null,null,null,null,{"$f":"IF(RTD(\"gllinks.rtd\",,\"Mkt\",$A46,L$1)=\"--\",\"\",RTD(\"gllinks.rtd\",,\"Mkt\",$A46,L$1))","v":{"$error":"#N/A"}},{"$f":"IF(RTD(\"gllinks.rtd\",,\"Mkt\",$A46,M$1)=\"--\",\"\",RTD(\"gllinks.rtd\",,\"Mkt\",$A46,M$1))","v":{"$error":"#N/A"}},{"$f":"IF(RTD(\"gllinks.rtd\",,\"Mkt\",$A46,N$1)=\"--\",\"\",RTD(\"gllinks.rtd\",,\"Mkt\",$A46,N$1))","v":{"$error":"#N/A"}},{"$f":"IFERROR((_xll.rtdValue(\"BID QTY\",$A46,\"EMD\",\"MXN\")*M46+_xll.rtdValue(\"ASK QTY\",$A46,\"EMD\",\"MXN\")*L46)/(_xll.rtdValue(\"BID QTY\",$A46,\"EMD\",\"MXN\")+_xll.rtdValue(\"ASK QTY\",$A46,\"EMD\",\"MXN\")),\"\")","v":""}]
[null,null,null,null,null,null,null,null,null,null,null,{"$f":"IF(RTD(\"gllinks.rtd\",,\"Mkt\",$A47,L$1)=\"--\",\"\",RTD(\"gllinks.rtd\",,\"Mkt\",$A47,L$1))","v":{"$error":"#N/A"}},{"$f":"IF(RTD(\"gllinks.rtd\",,\"Mkt\",$A47,M$1)=\"--\",\"\",RTD(\"gllinks.rtd\",,\"Mkt\",$A47,M$1))","v":{"$error":"#N/A"}},{"$f":"IF(RTD(\"gllinks.rtd\",,\"Mkt\",$A47,N$1)=\"--\",\"\",RTD(\"gllinks.rtd\",,\"Mkt\",$A47,N$1))","v":{"$error":"#N/A"}}]
[{"$f":"Información!E6&Información!$H$5","v":"MY31DC22"},null,null,null,null,null,null,null,null,null,null,{"$f":"IF(RTD(\"gllinks.rtd\",,\"Mkt\",$A48,L$1)=\"--\",\"\",RTD(\"gllinks.rtd\",,\"Mkt\",$A48,L$1))","v":{"$error":"#N/A"}},{"$f":"IF(RTD(\"gllinks.rtd\",,\"Mkt\",$A48,M$1)=\"--\",\"\",RTD(\"gllinks.rtd\",,\"Mkt\",$A48,M$1))","v":{"$error":"#N/A"}},{"$f":"IF(RTD(\"gllinks.rtd\",,\"Mkt\",$A48,N$1)=\"--\",\"\",RTD(\"gllinks.rtd\",,\"Mkt\",$A48,N$1))","v":{"$error":"#N/A"}},{"$f":"IFERROR((_xll.rtdValue(\"BID QTY\",$A48,\"EMD\",\"MXN\")*M48+_xll.rtdValue(\"ASK QTY\",$A48,\"EMD\",\"MXN\")*L48)/(_xll.rtdValue(\"BID QTY\",$A48,\"EMD\",\"MXN\")+_xll.rtdValue(\"ASK QTY\",$A48,\"EMD\",\"MXN\")),\"\")","v":""}]
[]
[null,null,null,null,null,null,null,null,null,null,null,null,null,null,null,null,null,116.15]
[]
[{"$f":"Información!E7&Información!$H$2","v":"NV36MR22"},null,null,null,null,null,null,null,null,null,null,{"$f":"IF(RTD(\"gllinks.rtd\",,\"Mkt\",$A52,L$1)=\"--\",\"\",RTD(\"gllinks.rtd\",,\"Mkt\",$A52,L$1))","v":{"$error":"#N/A"}},{"$f":"IF(RTD(\"gllinks.rtd\",,\"Mkt\",$A52,M$1)=\"--\",\"\",RTD(\"gllinks.rtd\",,\"Mkt\",$A52,M$1))","v":{"$error":"#N/A"}},{"$f":"IF(RTD(\"gllinks.rtd\",,\"Mkt\",$A52,N$1)=\"--\",\"\",RTD(\"gllinks.rtd\",,\"Mkt\",$A52,N$1))","v":{"$error":"#N/A"}},{"$f":"IFERROR((_xll.rtdValue(\"BID QTY\",$A52,\"EMD\",\"MXN\")*M52+_xll.rtdValue(\"ASK QTY\",$A52,\"EMD\",\"MXN\")*L52)/(_xll.rtdValue(\"BID QTY\",$A52,\"EMD\",\"MXN\")+_xll.rtdValue(\"ASK QTY\",$A52,\"EMD\",\"MXN\")),\"\")","v":""}]
[null,null,null,null,null,null,null,null,null,null,null,{"$f":"IF(RTD(\"gllinks.rtd\",,\"Mkt\",$A53,L$1)=\"--\",\"\",RTD(\"gllinks.rtd\",,\"Mkt\",$A53,L$1))","v":{"$error":"#N/A"}},{"$f":"IF(RTD(\"gllinks.rtd\",,\"Mkt\",$A53,M$1)=\"--\",\"\",RTD(\"gllinks.rtd\",,\"Mkt\",$A53,M$1))","v":{"$error":"#N/A"}},{"$f":"IF(RTD(\"gllinks.rtd\",,\"Mkt\",$A53,N$1)=\"--\",\"\",RTD(\"gllinks.rtd\",,\"Mkt\",$A53,N$1))","v":{"$error":"#N/A"}}]
[{"$f":"Información!E7&Información!$H$3","v":"NV36JN22"},null,null,null,null,null,null,null,null,null,null,{"$f":"IF(RTD(\"gllinks.rtd\",,\"Mkt\",$A54,L$1)=\"--\",\"\",RTD(\"gllinks.rtd\",,\"Mkt\",$A54,L$1))","v":{"$error":"#N/A"}},{"$f":"IF(RTD(\"gllinks.rtd\",,\"Mkt\",$A54,M$1)=\"--\",\"\",RTD(\"gllinks.rtd\",,\"Mkt\",$A54,M$1))","v":{"$error":"#N/A"}},{"$f":"IF(RTD(\"gllinks.rtd\",,\"Mkt\",$A54,N$1)=\"--\",\"\",RTD(\"gllinks.rtd\",,\"Mkt\",$A54,N$1))","v":{"$error":"#N/A"}},{"$f":"IFERROR((_xll.rtdValue(\"BID QTY\",$A54,\"EMD\",\"MXN\")*M54+_xll.rtdValue(\"ASK QTY\",$A54,\"EMD\",\"MXN\")*L54)/(_xll.rtdValue(\"BID QTY\",$A54,\"EMD\",\"MXN\")+_xll.rtdValue(\"ASK QTY\",$A54,\"EMD\",\"MXN\")),\"\")","v":""}]
[null,null,null,null,null,null,null,null,null,null,null,{"$f":"IF(RTD(\"gllinks.rtd\",,\"Mkt\",$A55,L$1)=\"--\",\"\",RTD(\"gllinks.rtd\",,\"Mkt\",$A55,L$1))","v":{"$error":"#N/A"}},{"$f":"IF(RTD(\"gllinks.rtd\",,\"Mkt\",$A55,M$1)=\"--\",\"\",RTD(\"gllinks.rtd\",,\"Mkt\",$A55,M$1))","v":{"$error":"#N/A"}},{"$f":"IF(RTD(\"gllinks.rtd\",,\"Mkt\",$A55,N$1)=\"--\",\"\",RTD(\"gllinks.rtd\",,\"Mkt\",$A55,N$1))","v":{"$error":"#N/A"}}]
[{"$f":"Información!E7&Información!$H$4","v":"NV36SP22"},null,null,null,null,null,null,null,null,null,null,{"$f":"IF(RTD(\"gllinks.rtd\",,\"Mkt\",$A56,L$1)=\"--\",\"\",RTD(\"gllinks.rtd\",,\"Mkt\",$A56,L$1))","v":{"$error":"#N/A"}},{"$f":"IF(RTD(\"gllinks.rtd\",,\"Mkt\",$A56,M$1)=\"--\",\"\",RTD(\"gllinks.rtd\",,\"Mkt\",$A56,M$1))","v":{"$error":"#N/A"}},{"$f":"IF(RTD(\"gllinks.rtd\",,\"Mkt\",$A56,N$1)=\"--\",\"\",RTD(\"gllinks.rtd\",,\"Mkt\",$A56,N$1))","v":{"$error":"#N/A"}},{"$f":"IFERROR((_xll.rtdValue(\"BID QTY\",$A56,\"EMD\",\"MXN\")*M56+_xll.rtdValue(\"ASK QTY\",$A56,\"EMD\",\"MXN\")*L56)/(_xll.rtdValue(\"BID QTY\",$A56,\"EMD\",\"MXN\")+_xll.rtdValue(\"ASK QTY\",$A56,\"EMD\",\"MXN\")),\"\")","v":""}]
[null,null,null,null,null,null,null,null,null,null,null,{"$f":"IF(RTD(\"gllinks.rtd\",,\"Mkt\",$A57,L$1)=\"--\",\"\",RTD(\"gllinks.rtd\",,\"Mkt\",$A57,L$1))","v":{"$error":"#N/A"}},{"$f":"IF(RTD(\"gllinks.rtd\",,\"Mkt\",$A57,M$1)=\"--\",\"\",RTD(\"gllinks.rtd\",,\"Mkt\",$A57,M$1))","v":{"$error":"#N/A"}},{"$f":"IF(RTD(\"gllinks.rtd\",,\"Mkt\",$A57,N$1)=\"--\",\"\",RTD(\"gllinks.rtd\",,\"Mkt\",$A57,N$1))","v":{"$error":"#N/A"}}]
[{"$f":"Información!E7&Información!$H$5","v":"NV36DC22"},null,null,null,null,null,null,null,null,null,null,{"$f":"IF(RTD(\"gllinks.rtd\",,\"Mkt\",$A58,L$1)=\"--\",\"\",RTD(\"gllinks.rtd\",,\"Mkt\",$A58,L$1))","v":{"$error":"#N/A"}},{"$f":"IF(RTD(\"gllinks.rtd\",,\"Mkt\",$A58,M$1)=\"--\",\"\",RTD(\"gllinks.rtd\",,\"Mkt\",$A58,M$1))","v":{"$error":"#N/A"}},{"$f":"IF(RTD(\"gllinks.rtd\",,\"Mkt\",$A58,N$1)=\"--\",\"\",RTD(\"gllinks.rtd\",,\"Mkt\",$A58,N$1))","v":{"$error":"#N/A"}},{"$f":"IFERROR((_xll.rtdValue(\"BID QTY\",$A58,\"EMD\",\"MXN\")*M58+_xll.rtdValue(\"ASK QTY\",$A58,\"EMD\",\"MXN\")*L58)/(_xll.rtdValue(\"BID QTY\",$A58,\"EMD\",\"MXN\")+_xll.rtdValue(\"ASK QTY\",$A58,\"EMD\",\"MXN\")),\"\")","v":""}]
[]
[null,null,null,0,0,null,null,0]
[]
[{"$f":"Información!E8&Información!$H$2","v":"NV42MR22"},null,null,null,null,null,null,null,null,null,null,{"$f":"IF(RTD(\"gllinks.rtd\",,\"Mkt\",$A62,L$1)=\"--\",\"\",RTD(\"gllinks.rtd\",,\"Mkt\",$A62,L$1))","v":{"$error":"#N/A"}},{"$f":"IF(RTD(\"gllinks.rtd\",,\"Mkt\",$A62,M$1)=\"--\",\"\",RTD(\"gllinks.rtd\",,\"Mkt\",$A62,M$1))","v":{"$error":"#N/A"}},{"$f":"IF(RTD(\"gllinks.rtd\",,\"Mkt\",$A62,N$1)=\"--\",\"\",RTD(\"gllinks.rtd\",,\"Mkt\",$A62,N$1))","v":{"$error":"#N/A"}}]
[null,null,null,null,null,null,null,null,null,null,null,{"$f":"IF(RTD(\"gllinks.rtd\",,\"Mkt\",$A63,L$1)=\"--\",\"\",RTD(\"gllinks.rtd\",,\"Mkt\",$A63,L$1))","v":{"$error":"#N/A"}},{"$f":"IF(RTD(\"gllinks.rtd\",,\"Mkt\",$A63,M$1)=\"--\",\"\",RTD(\"gllinks.rtd\",,\"Mkt\",$A63,M$1))","v":{"$error":"#N/A"}},{"$f":"IF(RTD(\"gllinks.rtd\",,\"Mkt\",$A63,N$1)=\"--\",\"\",RTD(\"gllinks.rtd\",,\"Mkt\",$A63,N$1))","v":{"$error":"#N/A"}}]
[{"$f":"Información!E8&Información!$H$3","v":"NV42JN22"},null,null,null,null,null,null,null,null,null,null,{"$f":"IF(RTD(\"gllinks.rtd\",,\"Mkt\",$A64,L$1)=\"--\",\"\",RTD(\"gllinks.rtd\",,\"Mkt\",$A64,L$1))","v":{"$error":"#N/A"}},{"$f":"IF(RTD(\"gllinks.rtd\",,\"Mkt\",$A64,M$1)=\"--\",\"\",RTD(\"gllinks.rtd\",,\"Mkt\",$A64,M$1))","v":{"$error":"#N/A"}},{"$f":"IF(RTD(\"gllinks.rtd\",,\"Mkt\",$A64,N$1)=\"--\",\"\",RTD(\"gllinks.rtd\",,\"Mkt\",$A64,N$1))","v":{"$error":"#N/A"}}]
[null,null,null,null,null,null,null,null,null,null,null,{"$f":"IF(RTD(\"gllinks.rtd\",,\"Mkt\",$A65,L$1)=\"--\",\"\",RTD(\"gllinks.rtd\",,\"Mkt\",$A65,L$1))","v":{"$error":"#N/A"}},{"$f":"IF(RTD(\"gllinks.rtd\",,\"Mkt\",$A65,M$1)=\"--\",\"\",RTD(\"gllinks.rtd\",,\"Mkt\",$A65,M$1))","v":{"$error":"#N/A"}},{"$f":"IF(RTD(\"gllinks.rtd\",,\"Mkt\",$A65,N$1)=\"--\",\"\",RTD(\"gllinks.rtd\",,\"Mkt\",$A65,N$1))","v":{"$error":"#N/A"}}]
[{"$f":"Información!E8&Información!$H$4","v":"NV42SP22"},null,null,null,null,null,null,null,null,null,null,{"$f":"IF(RTD(\"gllinks.rtd\",,\"Mkt\",$A66,L$1)=\"--\",\"\",RTD(\"gllinks.rtd\",,\"Mkt\",$A66,L$1))","v":{"$error":"#N/A"}},{"$f":"IF(RTD(\"gllinks.rtd\",,\"Mkt\",$A66,M$1)=\"--\",\"\",RTD(\"gllinks.rtd\",,\"Mkt\",$A66,M$1))","v":{"$error":"#N/A"}},{"$f":"IF(RTD(\"gllinks.rtd\",,\"Mkt\",$A66,N$1)=\"--\",\"\",RTD(\"gllinks.rtd\",,\"Mkt\",$A66,N$1))","v":{"$error":"#N/A"}},{"$f":"IFERROR((_xll.rtdValue(\"BID QTY\",$A66,\"EMD\",\"MXN\")*M66+_xll.rtdValue(\"ASK QTY\",$A66,\"EMD\",\"MXN\")*L66)/(_xll.rtdValue(\"BID QTY\",$A66,\"EMD\",\"MXN\")+_xll.rtdValue(\"ASK QTY\",$A66,\"EMD\",\"MXN\")),\"\")","v":""}]
[null,null,null,null,null,null,null,null,null,null,null,{"$f":"IF(RTD(\"gllinks.rtd\",,\"Mkt\",$A67,L$1)=\"--\",\"\",RTD(\"gllinks.rtd\",,\"Mkt\",$A67,L$1))","v":{"$error":"#N/A"}},{"$f":"IF(RTD(\"gllinks.rtd\",,\"Mkt\",$A67,M$1)=\"--\",\"\",RTD(\"gllinks.rtd\",,\"Mkt\",$A67,M$1))","v":{"$error":"#N/A"}},{"$f":"IF(RTD(\"gllinks.rtd\",,\"Mkt\",$A67,N$1)=\"--\",\"\",RTD(\"gllinks.rtd\",,\"Mkt\",$A67,N$1))","v":{"$error":"#N/A"}}]
[{"$f":"Información!E8&Información!$H$5","v":"NV42DC22"},null,null,null,null,null,null,null,null,null,null,{"$f":"IF(RTD(\"gllinks.rtd\",,\"Mkt\",$A68,L$1)=\"--\",\"\",RTD(\"gllinks.rtd\",,\"Mkt\",$A68,L$1))","v":{"$error":"#N/A"}},{"$f":"IF(RTD(\"gllinks.rtd\",,\"Mkt\",$A68,M$1)=\"--\",\"\",RTD(\"gllinks.rtd\",,\"Mkt\",$A68,M$1))","v":{"$error":"#N/A"}},{"$f":"IF(RTD(\"gllinks.rtd\",,\"Mkt\",$A68,N$1)=\"--\",\"\",RTD(\"gllinks.rtd\",,\"Mkt\",$A68,N$1))","v":{"$error":"#N/A"}},{"$f":"IFERROR((_xll.rtdValue(\"BID QTY\",$A68,\"EMD\",\"MXN\")*M68+_xll.rtdValue(\"ASK QTY\",$A68,\"EMD\",\"MXN\")*L68)/(_xll.rtdValue(\"BID QTY\",$A68,\"EMD\",\"MXN\")+_xll.rtdValue(\"ASK QTY\",$A68,\"EMD\",\"MXN\")),\"\")","v":""}]
[]
[null,null,null,0,0,null,null,0]
[]
[{"$f":"Información!E9&Información!$H$2","v":"NV47MR22"},null,null,null,null,null,null,null,null,null,null,{"$f":"IF(RTD(\"gllinks.rtd\",,\"Mkt\",$A72,L$1)=\"--\",\"\",RTD(\"gllinks.rtd\",,\"Mkt\",$A72,L$1))","v":{"$error":"#N/A"}},{"$f":"IF(RTD(\"gllinks.rtd\",,\"Mkt\",$A72,M$1)=\"--\",\"\",RTD(\"gllinks.rtd\",,\"Mkt\",$A72,M$1))","v":{"$error":"#N/A"}},{"$f":"IF(RTD(\"gllinks.rtd\",,\"Mkt\",$A72,N$1)=\"--\",\"\",RTD(\"gllinks.rtd\",,\"Mkt\",$A72,N$1))","v":{"$error":"#N/A"}},{"$f":"IFERROR((_xll.rtdValue(\"BID QTY\",$A72,\"EMD\",\"MXN\")*M72+_xll.rtdValue(\"ASK QTY\",$A72,\"EMD\",\"MXN\")*L72)/(_xll.rtdValue(\"BID QTY\",$A72,\"EMD\",\"MXN\")+_xll.rtdValue(\"ASK QTY\",$A72,\"EMD\",\"MXN\")),\"\")","v":""}]
[null,null,null,null,null,null,null,null,null,null,null,{"$f":"IF(RTD(\"gllinks.rtd\",,\"Mkt\",$A73,L$1)=\"--\",\"\",RTD(\"gllinks.rtd\",,\"Mkt\",$A73,L$1))","v":{"$error":"#N/A"}},{"$f":"IF(RTD(\"gllinks.rtd\",,\"Mkt\",$A73,M$1)=\"--\",\"\",RTD(\"gllinks.rtd\",,\"Mkt\",$A73,M$1))","v":{"$error":"#N/A"}},{"$f":"IF(RTD(\"gllinks.rtd\",,\"Mkt\",$A73,N$1)=\"--\",\"\",RTD(\"gllinks.rtd\",,\"Mkt\",$A73,N$1))","v":{"$error":"#N/A"}}]
[{"$f":"Información!E9&Información!$H$3","v":"NV47JN22"},null,null,null,null,null,null,null,null,null,null,{"$f":"IF(RTD(\"gllinks.rtd\",,\"Mkt\",$A74,L$1)=\"--\",\"\",RTD(\"gllinks.rtd\",,\"Mkt\",$A74,L$1))","v":{"$error":"#N/A"}},{"$f":"IF(RTD(\"gllinks.rtd\",,\"Mkt\",$A74,M$1)=\"--\",\"\",RTD(\"gllinks.rtd\",,\"Mkt\",$A74,M$1))","v":{"$error":"#N/A"}},{"$f":"IF(RTD(\"gllinks.rtd\",,\"Mkt\",$A74,N$1)=\"--\",\"\",RTD(\"gllinks.rtd\",,\"Mkt\",$A74,N$1))","v":{"$error":"#N/A"}},{"$f":"IFERROR((_xll.rtdValue(\"BID QTY\",$A74,\"EMD\",\"MXN\")*M74+_xll.rtdValue(\"ASK QTY\",$A74,\"EMD\",\"MXN\")*L74)/(_xll.rtdValue(\"BID QTY\",$A74,\"EMD\",\"MXN\")+_xll.rtdValue(\"ASK QTY\",$A74,\"EMD\",\"MXN\")),\"\")","v":""}]
[null,null,null,null,null,null,null,null,null,null,null,{"$f":"IF(RTD(\"gllinks.rtd\",,\"Mkt\",$A75,L$1)=\"--\",\"\",RTD(\"gllinks.rtd\",,\"Mkt\",$A75,L$1))","v":{"$error":"#N/A"}},{"$f":"IF(RTD(\"gllinks.rtd\",,\"Mkt\",$A75,M$1)=\"--\",\"\",RTD(\"gllinks.rtd\",,\"Mkt\",$A75,M$1))","v":{"$error":"#N/A"}},{"$f":"IF(RTD(\"gllinks.rtd\",,\"Mkt\",$A75,N$1)=\"--\",\"\",RTD(\"gllinks.rtd\",,\"Mkt\",$A75,N$1))","v":{"$error":"#N/A"}}]
[{"$f":"Información!E9&Información!$H$4","v":"NV47SP22"},null,null,null,null,null,null,null,null,null,null,{"$f":"IF(RTD(\"gllinks.rtd\",,\"Mkt\",$A76,L$1)=\"--\",\"\",RTD(\"gllinks.rtd\",,\"Mkt\",$A76,L$1))","v":{"$error":"#N/A"}},{"$f":"IF(RTD(\"gllinks.rtd\",,\"Mkt\",$A76,M$1)=\"--\",\"\",RTD(\"gllinks.rtd\",,\"Mkt\",$A76,M$1))","v":{"$error":"#N/A"}},{"$f":"IF(RTD(\"gllinks.rtd\",,\"Mkt\",$A76,N$1)=\"--\",\"\",RTD(\"gllinks.rtd\",,\"Mkt\",$A76,N$1))","v":{"$error":"#N/A"}},{"$f":"IFERROR((_xll.rtdValue(\"BID QTY\",$A76,\"EMD\",\"MXN\")*M76+_xll.rtdValue(\"ASK QTY\",$A76,\"EMD\",\"MXN\")*L76)/(_xll.rtdValue(\"BID QTY\",$A76,\"EMD\",\"MXN\")+_xll.rtdValue(\"ASK QTY\",$A76,\"EMD\",\"MXN\")),\"\")","v":""}]
[null,null,null,null,null,null,null,null,null,null,null,{"$f":"IF(RTD(\"gllinks.rtd\",,\"Mkt\",$A77,L$1)=\"--\",\"\",RTD(\"gllinks.rtd\",,\"Mkt\",$A77,L$1))","v":{"$error":"#N/A"}},{"$f":"IF(RTD(\"gllinks.rtd\",,\"Mkt\",$A77,M$1)=\"--\",\"\",RTD(\"gllinks.rtd\",,\"Mkt\",$A77,M$1))","v":{"$error":"#N/A"}},{"$f":"IF(RTD(\"gllinks.rtd\",,\"Mkt\",$A77,N$1)=\"--\",\"\",RTD(\"gllinks.rtd\",,\"Mkt\",$A77,N$1))","v":{"$error":"#N/A"}}]
[{"$f":"Información!E9&Información!$H$5","v":"NV47DC22"},null,null,null,null,null,null,null,null,null,null,{"$f":"IF(RTD(\"gllinks.rtd\",,\"Mkt\",$A78,L$1)=\"--\",\"\",RTD(\"gllinks.rtd\",,\"Mkt\",$A78,L$1))","v":{"$error":"#N/A"}},{"$f":"IF(RTD(\"gllinks.rtd\",,\"Mkt\",$A78,M$1)=\"--\",\"\",RTD(\"gllinks.rtd\",,\"Mkt\",$A78,M$1))","v":{"$error":"#N/A"}},{"$f":"IF(RTD(\"gllinks.rtd\",,\"Mkt\",$A78,N$1)=\"--\",\"\",RTD(\"gllinks.rtd\",,\"Mkt\",$A78,N$1))","v":{"$error":"#N/A"}},{"$f":"IFERROR((_xll.rtdValue(\"BID QTY\",$A78,\"EMD\",\"MXN\")*M78+_xll.rtdValue(\"ASK QTY\",$A78,\"EMD\",\"MXN\")*L78)/(_xll.rtdValue(\"BID QTY\",$A78,\"EMD\",\"MXN\")+_xll.rtdValue(\"ASK QTY\",$A78,\"EMD\",\"MXN\")),\"\")","v":""}]
[null,null,null,null,null,null,null,null,null,null,null,{"$f":"IF(RTD(\"gllinks.rtd\",,\"Mkt\",$A79,L$1)=\"--\",\"\",RTD(\"gllinks.rtd\",,\"Mkt\",$A79,L$1))","v":{"$error":"#N/A"}},{"$f":"IF(RTD(\"gllinks.rtd\",,\"Mkt\",$A79,M$1)=\"--\",\"\",RTD(\"gllinks.rtd\",,\"Mkt\",$A79,M$1))","v":{"$error":"#N/A"}},{"$f":"IF(RTD(\"gllinks.rtd\",,\"Mkt\",$A79,N$1)=\"--\",\"\",RTD(\"gllinks.rtd\",,\"Mkt\",$A79,N$1))","v":{"$error":"#N/A"}}]
[null,null,null,{"$error":"#N/A"},{"$error":"#N/A"},null,null,{"$error":"#N/A"},null,null,null,{"$f":"IF(RTD(\"gllinks.rtd\",,\"Mkt\",$A80,L$1)=\"--\",\"\",RTD(\"gllinks.rtd\",,\"Mkt\",$A80,L$1))","v":{"$error":"#N/A"}},{"$f":"IF(RTD(\"gllinks.rtd\",,\"Mkt\",$A80,M$1)=\"--\",\"\",RTD(\"gllinks.rtd\",,\"Mkt\",$A80,M$1))","v":{"$error":"#N/A"}},{"$f":"IF(RTD(\"gllinks.rtd\",,\"Mkt\",$A80,N$1)=\"--\",\"\",RTD(\"gllinks.rtd\",,\"Mkt\",$A80,N$1))","v":{"$error":"#N/A"}}]
[]
[null,null,null,null,null,null,null,null,null,null,null,{"$f":"IF(RTD(\"gllinks.rtd\",,\"Mkt\",$A82,L$1)=\"--\",\"\",RTD(\"gllinks.rtd\",,\"Mkt\",$A82,L$1))","v":{"$error":"#N/A"}},{"$f":"IF(RTD(\"gllinks.rtd\",,\"Mkt\",$A82,M$1)=\"--\",\"\",RTD(\"gllinks.rtd\",,\"Mkt\",$A82,M$1))","v":{"$error":"#N/A"}},{"$f":"IF(RTD(\"gllinks.rtd\",,\"Mkt\",$A82,N$1)=\"--\",\"\",RTD(\"gllinks.rtd\",,\"Mkt\",$A82,N$1))","v":{"$error":"#N/A"}},{"$f":"IFERROR((_xll.rtdValue(\"BID QTY\",$A82,\"EMD\",\"MXN\")*M82+_xll.rtdValue(\"ASK QTY\",$A82,\"EMD\",\"MXN\")*L82)/(_xll.rtdValue(\"BID QTY\",$A82,\"EMD\",\"MXN\")+_xll.rtdValue(\"ASK QTY\",$A82,\"EMD\",\"MXN\")),\"\")","v":""}]
[null,null,null,null,null,null,null,null,null,null,null,{"$f":"IF(RTD(\"gllinks.rtd\",,\"Mkt\",$A83,L$1)=\"--\",\"\",RTD(\"gllinks.rtd\",,\"Mkt\",$A83,L$1))","v":{"$error":"#N/A"}},{"$f":"IF(RTD(\"gllinks.rtd\",,\"Mkt\",$A83,M$1)=\"--\",\"\",RTD(\"gllinks.rtd\",,\"Mkt\",$A83,M$1))","v":{"$error":"#N/A"}},{"$f":"IF(RTD(\"gllinks.rtd\",,\"Mkt\",$A83,N$1)=\"--\",\"\",RTD(\"gllinks.rtd\",,\"Mkt\",$A83,N$1))","v":{"$error":"#N/A"}}]
[null,null,null,null,null,null,null,null,null,null,null,{"$f":"IF(RTD(\"gllinks.rtd\",,\"Mkt\",$A84,L$1)=\"--\",\"\",RTD(\"gllinks.rtd\",,\"Mkt\",$A84,L$1))","v":{"$error":"#N/A"}},{"$f":"IF(RTD(\"gllinks.rtd\",,\"Mkt\",$A84,M$1)=\"--\",\"\",RTD(\"gllinks.rtd\",,\"Mkt\",$A84,M$1))","v":{"$error":"#N/A"}},{"$f":"IF(RTD(\"gllinks.rtd\",,\"Mkt\",$A84,N$1)=\"--\",\"\",RTD(\"gllinks.rtd\",,\"Mkt\",$A84,N$1))","v":{"$error":"#N/A"}},{"$f":"IFERROR((_xll.rtdValue(\"BID QTY\",$A84,\"EMD\",\"MXN\")*M84+_xll.rtdValue(\"ASK QTY\",$A84,\"EMD\",\"MXN\")*L84)/(_xll.rtdValue(\"BID QTY\",$A84,\"EMD\",\"MXN\")+_xll.rtdValue(\"ASK QTY\",$A84,\"EMD\",\"MXN\")),\"\")","v":""}]
[null,null,null,null,null,null,null,null,null,null,null,{"$f":"IF(RTD(\"gllinks.rtd\",,\"Mkt\",$A85,L$1)=\"--\",\"\",RTD(\"gllinks.rtd\",,\"Mkt\",$A85,L$1))","v":{"$error":"#N/A"}},{"$f":"IF(RTD(\"gllinks.rtd\",,\"Mkt\",$A85,M$1)=\"--\",\"\",RTD(\"gllinks.rtd\",,\"Mkt\",$A85,M$1))","v":{"$error":"#N/A"}},{"$f":"IF(RTD(\"gllinks.rtd\",,\"Mkt\",$A85,N$1)=\"--\",\"\",RTD(\"gllinks.rtd\",,\"Mkt\",$A85,N$1))","v":{"$error":"#N/A"}}]
[null,null,null,null,null,null,null,null,null,null,null,{"$f":"IF(RTD(\"gllinks.rtd\",,\"Mkt\",$A86,L$1)=\"--\",\"\",RTD(\"gllinks.rtd\",,\"Mkt\",$A86,L$1))","v":{"$error":"#N/A"}},{"$f":"IF(RTD(\"gllinks.rtd\",,\"Mkt\",$A86,M$1)=\"--\",\"\",RTD(\"gllinks.rtd\",,\"Mkt\",$A86,M$1))","v":{"$error":"#N/A"}},{"$f":"IF(RTD(\"gllinks.rtd\",,\"Mkt\",$A86,N$1)=\"--\",\"\",RTD(\"gllinks.rtd\",,\"Mkt\",$A86,N$1))","v":{"$error":"#N/A"}},{"$f":"IFERROR((_xll.rtdValue(\"BID QTY\",$A86,\"EMD\",\"MXN\")*M86+_xll.rtdValue(\"ASK QTY\",$A86,\"EMD\",\"MXN\")*L86)/(_xll.rtdValue(\"BID QTY\",$A86,\"EMD\",\"MXN\")+_xll.rtdValue(\"ASK QTY\",$A86,\"EMD\",\"MXN\")),\"\")","v":""}]
[null,null,null,null,null,null,null,null,null,null,null,{"$f":"IF(RTD(\"gllinks.rtd\",,\"Mkt\",$A87,L$1)=\"--\",\"\",RTD(\"gllinks.rtd\",,\"Mkt\",$A87,L$1))","v":{"$error":"#N/A"}},{"$f":"IF(RTD(\"gllinks.rtd\",,\"Mkt\",$A87,M$1)=\"--\",\"\",RTD(\"gllinks.rtd\",,\"Mkt\",$A87,M$1))","v":{"$error":"#N/A"}},{"$f":"IF(RTD(\"gllinks.rtd\",,\"Mkt\",$A87,N$1)=\"--\",\"\",RTD(\"gllinks.rtd\",,\"Mkt\",$A87,N$1))","v":{"$error":"#N/A"}}]
[null,null,null,null,null,null,null,null,null,null,null,{"$f":"IF(RTD(\"gllinks.rtd\",,\"Mkt\",$A88,L$1)=\"--\",\"\",RTD(\"gllinks.rtd\",,\"Mkt\",$A88,L$1))","v":{"$error":"#N/A"}},{"$f":"IF(RTD(\"gllinks.rtd\",,\"Mkt\",$A88,M$1)=\"--\",\"\",RTD(\"gllinks.rtd\",,\"Mkt\",$A88,M$1))","v":{"$error":"#N/A"}},{"$f":"IF(RTD(\"gllinks.rtd\",,\"Mkt\",$A88,N$1)=\"--\",\"\",RTD(\"gllinks.rtd\",,\"Mkt\",$A88,N$1))","v":{"$error":"#N/A"}},{"$f":"IFERROR((_xll.rtdValue(\"BID QTY\",$A88,\"EMD\",\"MXN\")*M88+_xll.rtdValue(\"ASK QTY\",$A88,\"EMD\",\"MXN\")*L88)/(_xll.rtdValue(\"BID QTY\",$A88,\"EMD\",\"MXN\")+_xll.rtdValue(\"ASK QTY\",$A88,\"EMD\",\"MXN\")),\"\")","v":""}]
[]
[null,null,null,0,0,null,null,0]
[]
[null,null,null,null,null,null,null,null,null,null,null,{"$f":"IF(RTD(\"gllinks.rtd\",,\"Mkt\",$A92,L$1)=\"--\",\"\",RTD(\"gllinks.rtd\",,\"Mkt\",$A92,L$1))","v":{"$error":"#N/A"}},{"$f":"IF(RTD(\"gllinks.rtd\",,\"Mkt\",$A92,M$1)=\"--\",\"\",RTD(\"gllinks.rtd\",,\"Mkt\",$A92,M$1))","v":{"$error":"#N/A"}},{"$f":"IF(RTD(\"gllinks.rtd\",,\"Mkt\",$A92,N$1)=\"--\",\"\",RTD(\"gllinks.rtd\",,\"Mkt\",$A92,N$1))","v":{"$error":"#N/A"}},{"$f":"IFERROR((_xll.rtdValue(\"BID QTY\",$A92,\"EMD\",\"MXN\")*M92+_xll.rtdValue(\"ASK QTY\",$A92,\"EMD\",\"MXN\")*L92)/(_xll.rtdValue(\"BID QTY\",$A92,\"EMD\",\"MXN\")+_xll.rtdValue(\"ASK QTY\",$A92,\"EMD\",\"MXN\")),\"\")","v":""}]
[null,null,null,null,null,null,null,null,null,null,null,{"$f":"IF(RTD(\"gllinks.rtd\",,\"Mkt\",$A93,L$1)=\"--\",\"\",RTD(\"gllinks.rtd\",,\"Mkt\",$A93,L$1))","v":{"$error":"#N/A"}},{"$f":"IF(RTD(\"gllinks.rtd\",,\"Mkt\",$A93,M$1)=\"--\",\"\",RTD(\"gllinks.rtd\",,\"Mkt\",$A93,M$1))","v":{"$error":"#N/A"}},{"$f":"IF(RTD(\"gllinks.rtd\",,\"Mkt\",$A93,N$1)=\"--\",\"\",RTD(\"gllinks.rtd\",,\"Mkt\",$A93,N$1))","v":{"$error":"#N/A"}}]
[null,null,null,null,null,null,null,null,null,null,null,{"$f":"IF(RTD(\"gllinks.rtd\",,\"Mkt\",$A94,L$1)=\"--\",\"\",RTD(\"gllinks.rtd\",,\"Mkt\",$A94,L$1))","v":{"$error":"#N/A"}},{"$f":"IF(RTD(\"gllinks.rtd\",,\"Mkt\",$A94,M$1)=\"--\",\"\",RTD(\"gllinks.rtd\",,\"Mkt\",$A94,M$1))","v":{"$error":"#N/A"}},{"$f":"IF(RTD(\"gllinks.rtd\",,\"Mkt\",$A94,N$1)=\"--\",\"\",RTD(\"gllinks.rtd\",,\"Mkt\",$A94,N$1))","v":{"$error":"#N/A"}},{"$f":"IFERROR((_xll.rtdValue(\"BID QTY\",$A94,\"EMD\",\"MXN\")*M94+_xll.rtdValue(\"ASK QTY\",$A94,\"EMD\",\"MXN\")*L94)/(_xll.rtdValue(\"BID QTY\",$A94,\"EMD\",\"MXN\")+_xll.rtdValue(\"ASK QTY\",$A94,\"EMD\",\"MXN\")),\"\")","v":""}]
[null,null,null,null,null,null,null,null,null,null,null,{"$f":"IF(RTD(\"gllinks.rtd\",,\"Mkt\",$A95,L$1)=\"--\",\"\",RTD(\"gllinks.rtd\",,\"Mkt\",$A95,L$1))","v":{"$error":"#N/A"}},{"$f":"IF(RTD(\"gllinks.rtd\",,\"Mkt\",$A95,M$1)=\"--\",\"\",RTD(\"gllinks.rtd\",,\"Mkt\",$A95,M$1))","v":{"$error":"#N/A"}},{"$f":"IF(RTD(\"gllinks.rtd\",,\"Mkt\",$A95,N$1)=\"--\",\"\",RTD(\"gllinks.rtd\",,\"Mkt\",$A95,N$1))","v":{"$error":"#N/A"}}]
[null,null,null,null,null,null,null,null,null,null,null,{"$f":"IF(RTD(\"gllinks.rtd\",,\"Mkt\",$A96,L$1)=\"--\",\"\",RTD(\"gllinks.rtd\",,\"Mkt\",$A96,L$1))","v":{"$error":"#N/A"}},{"$f":"IF(RTD(\"gllinks.rtd\",,\"Mkt\",$A96,M$1)=\"--\",\"\",RTD(\"gllinks.rtd\",,\"Mkt\",$A96,M$1))","v":{"$error":"#N/A"}},{"$f":"IF(RTD(\"gllinks.rtd\",,\"Mkt\",$A96,N$1)=\"--\",\"\",RTD(\"gllinks.rtd\",,\"Mkt\",$A96,N$1))","v":{"$error":"#N/A"}},{"$f":"IFERROR((_xll.rtdValue(\"BID QTY\",$A96,\"EMD\",\"MXN\")*M96+_xll.rtdValue(\"ASK QTY\",$A96,\"EMD\",\"MXN\")*L96)/(_xll.rtdValue(\"BID QTY\",$A96,\"EMD\",\"MXN\")+_xll.rtdValue(\"ASK QTY\",$A96,\"EMD\",\"MXN\")),\"\")","v":""}]
[null,null,null,null,null,null,null,null,null,null,null,{"$f":"IF(RTD(\"gllinks.rtd\",,\"Mkt\",$A97,L$1)=\"--\",\"\",RTD(\"gllinks.rtd\",,\"Mkt\",$A97,L$1))","v":{"$error":"#N/A"}},{"$f":"IF(RTD(\"gllinks.rtd\",,\"Mkt\",$A97,M$1)=\"--\",\"\",RTD(\"gllinks.rtd\",,\"Mkt\",$A97,M$1))","v":{"$error":"#N/A"}},{"$f":"IF(RTD(\"gllinks.rtd\",,\"Mkt\",$A97,N$1)=\"--\",\"\",RTD(\"gllinks.rtd\",,\"Mkt\",$A97,N$1))","v":{"$error":"#N/A"}}]
[null,null,null,null,null,null,null,null,null,null,null,{"$f":"IF(RTD(\"gllinks.rtd\",,\"Mkt\",$A98,L$1)=\"--\",\"\",RTD(\"gllinks.rtd\",,\"Mkt\",$A98,L$1))","v":{"$error":"#N/A"}},{"$f":"IF(RTD(\"gllinks.rtd\",,\"Mkt\",$A98,M$1)=\"--\",\"\",RTD(\"gllinks.rtd\",,\"Mkt\",$A98,M$1))","v":{"$error":"#N/A"}},{"$f":"IF(RTD(\"gllinks.rtd\",,\"Mkt\",$A98,N$1)=\"--\",\"\",RTD(\"gllinks.rtd\",,\"Mkt\",$A98,N$1))","v":{"$error":"#N/A"}},{"$f":"IFERROR((_xll.rtdValue(\"BID QTY\",$A98,\"EMD\",\"MXN\")*M98+_xll.rtdValue(\"ASK QTY\",$A98,\"EMD\",\"MXN\")*L98)/(_xll.rtdValue(\"BID QTY\",$A98,\"EMD\",\"MXN\")+_xll.rtdValue(\"ASK QTY\",$A98,\"EMD\",\"MXN\")),\"\")","v":""}]
[]
[null,null,null,0,0,null,null,0]
[]
[null,null,null,null,null,null,null,null,null,null,null,{"$f":"IF(RTD(\"gllinks.rtd\",,\"Mkt\",$A102,L$1)=\"--\",\"\",RTD(\"gllinks.rtd\",,\"Mkt\",$A102,L$1))","v":{"$error":"#N/A"}},{"$f":"IF(RTD(\"gllinks.rtd\",,\"Mkt\",$A102,M$1)=\"--\",\"\",RTD(\"gllinks.rtd\",,\"Mkt\",$A102,M$1))","v":{"$error":"#N/A"}},{"$f":"IF(RTD(\"gllinks.rtd\",,\"Mkt\",$A102,N$1)=\"--\",\"\",RTD(\"gllinks.rtd\",,\"Mkt\",$A102,N$1))","v":{"$error":"#N/A"}},{"$f":"IFERROR((_xll.rtdValue(\"BID QTY\",$A102,\"EMD\",\"MXN\")*M102+_xll.rtdValue(\"ASK QTY\",$A102,\"EMD\",\"MXN\")*L102)/(_xll.rtdValue(\"BID QTY\",$A102,\"EMD\",\"MXN\")+_xll.rtdValue(\"ASK QTY\",$A102,\"EMD\",\"MXN\")),\"\")","v":""}]
[null,null,null,null,null,null,null,null,null,null,null,{"$f":"IF(RTD(\"gllinks.rtd\",,\"Mkt\",$A103,L$1)=\"--\",\"\",RTD(\"gllinks.rtd\",,\"Mkt\",$A103,L$1))","v":{"$error":"#N/A"}},{"$f":"IF(RTD(\"gllinks.rtd\",,\"Mkt\",$A103,M$1)=\"--\",\"\",RTD(\"gllinks.rtd\",,\"Mkt\",$A103,M$1))","v":{"$error":"#N/A"}},{"$f":"IF(RTD(\"gllinks.rtd\",,\"Mkt\",$A103,N$1)=\"--\",\"\",RTD(\"gllinks.rtd\",,\"Mkt\",$A103,N$1))","v":{"$error":"#N/A"}}]
[null,null,null,null,null,null,null,null,null,null,null,{"$f":"IF(RTD(\"gllinks.rtd\",,\"Mkt\",$A104,L$1)=\"--\",\"\",RTD(\"gllinks.rtd\",,\"Mkt\",$A104,L$1))","v":{"$error":"#N/A"}},{"$f":"IF(RTD(\"gllinks.rtd\",,\"Mkt\",$A104,M$1)=\"--\",\"\",RTD(\"gllinks.rtd\",,\"Mkt\",$A104,M$1))","v":{"$error":"#N/A"}},{"$f":"IF(RTD(\"gllinks.rtd\",,\"Mkt\",$A104,N$1)=\"--\",\"\",RTD(\"gllinks.rtd\",,\"Mkt\",$A104,N$1))","v":{"$error":"#N/A"}},{"$f":"IFERROR((_xll.rtdValue(\"BID QTY\",$A104,\"EMD\",\"MXN\")*M104+_xll.rtdValue(\"ASK QTY\",$A104,\"EMD\",\"MXN\")*L104)/(_xll.rtdValue(\"BID QTY\",$A104,\"EMD\",\"MXN\")+_xll.rtdValue(\"ASK QTY\",$A104,\"EMD\",\"MXN\")),\"\")","v":""}]
[null,null,null,null,null,null,null,null,null,null,null,{"$f":"IF(RTD(\"gllinks.rtd\",,\"Mkt\",$A105,L$1)=\"--\",\"\",RTD(\"gllinks.rtd\",,\"Mkt\",$A105,L$1))","v":{"$error":"#N/A"}},{"$f":"IF(RTD(\"gllinks.rtd\",,\"Mkt\",$A105,M$1)=\"--\",\"\",RTD(\"gllinks.rtd\",,\"Mkt\",$A105,M$1))","v":{"$error":"#N/A"}},{"$f":"IF(RTD(\"gllinks.rtd\",,\"Mkt\",$A105,N$1)=\"--\",\"\",RTD(\"gllinks.rtd\",,\"Mkt\",$A105,N$1))","v":{"$error":"#N/A"}}]
[null,null,null,null,null,null,null,null,null,null,null,{"$f":"IF(RTD(\"gllinks.rtd\",,\"Mkt\",$A106,L$1)=\"--\",\"\",RTD(\"gllinks.rtd\",,\"Mkt\",$A106,L$1))","v":{"$error":"#N/A"}},{"$f":"IF(RTD(\"gllinks.rtd\",,\"Mkt\",$A106,M$1)=\"--\",\"\",RTD(\"gllinks.rtd\",,\"Mkt\",$A106,M$1))","v":{"$error":"#N/A"}},{"$f":"IF(RTD(\"gllinks.rtd\",,\"Mkt\",$A106,N$1)=\"--\",\"\",RTD(\"gllinks.rtd\",,\"Mkt\",$A106,N$1))","v":{"$error":"#N/A"}},{"$f":"IFERROR((_xll.rtdValue(\"BID QTY\",$A106,\"EMD\",\"MXN\")*M106+_xll.rtdValue(\"ASK QTY\",$A106,\"EMD\",\"MXN\")*L106)/(_xll.rtdValue(\"BID QTY\",$A106,\"EMD\",\"MXN\")+_xll.rtdValue(\"ASK QTY\",$A106,\"EMD\",\"MXN\")),\"\")","v":""}]
[null,null,null,null,null,null,null,null,null,null,null,{"$f":"IF(RTD(\"gllinks.rtd\",,\"Mkt\",$A107,L$1)=\"--\",\"\",RTD(\"gllinks.rtd\",,\"Mkt\",$A107,L$1))","v":{"$error":"#N/A"}},{"$f":"IF(RTD(\"gllinks.rtd\",,\"Mkt\",$A107,M$1)=\"--\",\"\",RTD(\"gllinks.rtd\",,\"Mkt\",$A107,M$1))","v":{"$error":"#N/A"}},{"$f":"IF(RTD(\"gllinks.rtd\",,\"Mkt\",$A107,N$1)=\"--\",\"\",RTD(\"gllinks.rtd\",,\"Mkt\",$A107,N$1))","v":{"$error":"#N/A"}}]
[null,null,null,null,null,null,null,null,null,null,null,{"$f":"IF(RTD(\"gllinks.rtd\",,\"Mkt\",$A108,L$1)=\"--\",\"\",RTD(\"gllinks.rtd\",,\"Mkt\",$A108,L$1))","v":{"$error":"#N/A"}},{"$f":"IF(RTD(\"gllinks.rtd\",,\"Mkt\",$A108,M$1)=\"--\",\"\",RTD(\"gllinks.rtd\",,\"Mkt\",$A108,M$1))","v":{"$error":"#N/A"}},{"$f":"IF(RTD(\"gllinks.rtd\",,\"Mkt\",$A108,N$1)=\"--\",\"\",RTD(\"gllinks.rtd\",,\"Mkt\",$A108,N$1))","v":{"$error":"#N/A"}},{"$f":"IFERROR((_xll.rtdValue(\"BID QTY\",$A108,\"EMD\",\"MXN\")*M108+_xll.rtdValue(\"ASK QTY\",$A108,\"EMD\",\"MXN\")*L108)/(_xll.rtdValue(\"BID QTY\",$A108,\"EMD\",\"MXN\")+_xll.rtdValue(\"ASK QTY\",$A108,\"EMD\",\"MXN\")),\"\")","v":""}]
[]
[null,null,null,0,0,null,null,0]
[]
[null,null,null,null,null,null,null,null,null,null,null,{"$f":"IF(RTD(\"gllinks.rtd\",,\"Mkt\",$A112,L$1)=\"--\",\"\",RTD(\"gllinks.rtd\",,\"Mkt\",$A112,L$1))","v":{"$error":"#N/A"}},{"$f":"IF(RTD(\"gllinks.rtd\",,\"Mkt\",$A112,M$1)=\"--\",\"\",RTD(\"gllinks.rtd\",,\"Mkt\",$A112,M$1))","v":{"$error":"#N/A"}},{"$f":"IF(RTD(\"gllinks.rtd\",,\"Mkt\",$A112,N$1)=\"--\",\"\",RTD(\"gllinks.rtd\",,\"Mkt\",$A112,N$1))","v":{"$error":"#N/A"}}]
[null,null,null,null,null,null,null,null,null,null,null,{"$f":"IF(RTD(\"gllinks.rtd\",,\"Mkt\",$A113,L$1)=\"--\",\"\",RTD(\"gllinks.rtd\",,\"Mkt\",$A113,L$1))","v":{"$error":"#N/A"}},{"$f":"IF(RTD(\"gllinks.rtd\",,\"Mkt\",$A113,M$1)=\"--\",\"\",RTD(\"gllinks.rtd\",,\"Mkt\",$A113,M$1))","v":{"$error":"#N/A"}},{"$f":"IF(RTD(\"gllinks.rtd\",,\"Mkt\",$A113,N$1)=\"--\",\"\",RTD(\"gllinks.rtd\",,\"Mkt\",$A113,N$1))","v":{"$error":"#N/A"}}]
[null,null,null,null,null,null,null,null,null,null,null,{"$f":"IF(RTD(\"gllinks.rtd\",,\"Mkt\",$A114,L$1)=\"--\",\"\",RTD(\"gllinks.rtd\",,\"Mkt\",$A114,L$1))","v":{"$error":"#N/A"}},{"$f":"IF(RTD(\"gllinks.rtd\",,\"Mkt\",$A114,M$1)=\"--\",\"\",RTD(\"gllinks.rtd\",,\"Mkt\",$A114,M$1))","v":{"$error":"#N/A"}},{"$f":"IF(RTD(\"gllinks.rtd\",,\"Mkt\",$A114,N$1)=\"--\",\"\",RTD(\"gllinks.rtd\",,\"Mkt\",$A114,N$1))","v":{"$error":"#N/A"}}]
[null,null,null,null,null,null,null,null,null,null,null,{"$f":"IF(RTD(\"gllinks.rtd\",,\"Mkt\",$A115,L$1)=\"--\",\"\",RTD(\"gllinks.rtd\",,\"Mkt\",$A115,L$1))","v":{"$error":"#N/A"}},{"$f":"IF(RTD(\"gllinks.rtd\",,\"Mkt\",$A115,M$1)=\"--\",\"\",RTD(\"gllinks.rtd\",,\"Mkt\",$A115,M$1))","v":{"$error":"#N/A"}},{"$f":"IF(RTD(\"gllinks.rtd\",,\"Mkt\",$A115,N$1)=\"--\",\"\",RTD(\"gllinks.rtd\",,\"Mkt\",$A115,N$1))","v":{"$error":"#N/A"}}]
[null,null,null,null,null,null,null,null,null,null,null,{"$f":"IF(RTD(\"gllinks.rtd\",,\"Mkt\",$A116,L$1)=\"--\",\"\",RTD(\"gllinks.rtd\",,\"Mkt\",$A116,L$1))","v":{"$error":"#N/A"}},{"$f":"IF(RTD(\"gllinks.rtd\",,\"Mkt\",$A116,M$1)=\"--\",\"\",RTD(\"gllinks.rtd\",,\"Mkt\",$A116,M$1))","v":{"$error":"#N/A"}},{"$f":"IF(RTD(\"gllinks.rtd\",,\"Mkt\",$A116,N$1)=\"--\",\"\",RTD(\"gllinks.rtd\",,\"Mkt\",$A116,N$1))","v":{"$error":"#N/A"}},{"$f":"IFERROR((_xll.rtdValue(\"BID QTY\",$A116,\"EMD\",\"MXN\")*M116+_xll.rtdValue(\"ASK QTY\",$A116,\"EMD\",\"MXN\")*L116)/(_xll.rtdValue(\"BID QTY\",$A116,\"EMD\",\"MXN\")+_xll.rtdValue(\"ASK QTY\",$A116,\"EMD\",\"MXN\")),\"\")","v":""}]
[null,null,null,null,null,null,null,null,null,null,null,{"$f":"IF(RTD(\"gllinks.rtd\",,\"Mkt\",$A117,L$1)=\"--\",\"\",RTD(\"gllinks.rtd\",,\"Mkt\",$A117,L$1))","v":{"$error":"#N/A"}},{"$f":"IF(RTD(\"gllinks.rtd\",,\"Mkt\",$A117,M$1)=\"--\",\"\",RTD(\"gllinks.rtd\",,\"Mkt\",$A117,M$1))","v":{"$error":"#N/A"}},{"$f":"IF(RTD(\"gllinks.rtd\",,\"Mkt\",$A117,N$1)=\"--\",\"\",RTD(\"gllinks.rtd\",,\"Mkt\",$A117,N$1))","v":{"$error":"#N/A"}}]
[null,null,null,null,null,null,null,null,null,null,null,{"$f":"IF(RTD(\"gllinks.rtd\",,\"Mkt\",$A118,L$1)=\"--\",\"\",RTD(\"gllinks.rtd\",,\"Mkt\",$A118,L$1))","v":{"$error":"#N/A"}},{"$f":"IF(RTD(\"gllinks.rtd\",,\"Mkt\",$A118,M$1)=\"--\",\"\",RTD(\"gllinks.rtd\",,\"Mkt\",$A118,M$1))","v":{"$error":"#N/A"}},{"$f":"IF(RTD(\"gllinks.rtd\",,\"Mkt\",$A118,N$1)=\"--\",\"\",RTD(\"gllinks.rtd\",,\"Mkt\",$A118,N$1))","v":{"$error":"#N/A"}},{"$f":"IFERROR((_xll.rtdValue(\"BID QTY\",$A118,\"EMD\",\"MXN\")*M118+_xll.rtdValue(\"ASK QTY\",$A118,\"EMD\",\"MXN\")*L118)/(_xll.rtdValue(\"BID QTY\",$A118,\"EMD\",\"MXN\")+_xll.rtdValue(\"ASK QTY\",$A118,\"EMD\",\"MXN\")),\"\")","v":""}]
[]
[null,null,null,0,0,null,null,0]
[]
[null,null,null,null,null,null,null,null,null,null,null,{"$f":"IF(RTD(\"gllinks.rtd\",,\"Mkt\",$A122,L$1)=\"--\",\"\",RTD(\"gllinks.rtd\",,\"Mkt\",$A122,L$1))","v":{"$error":"#N/A"}},{"$f":"IF(RTD(\"gllinks.rtd\",,\"Mkt\",$A122,M$1)=\"--\",\"\",RTD(\"gllinks.rtd\",,\"Mkt\",$A122,M$1))","v":{"$error":"#N/A"}},{"$f":"IF(RTD(\"gllinks.rtd\",,\"Mkt\",$A122,N$1)=\"--\",\"\",RTD(\"gllinks.rtd\",,\"Mkt\",$A122,N$1))","v":{"$error":"#N/A"}},{"$f":"IFERROR((_xll.rtdValue(\"BID QTY\",$A122,\"EMD\",\"MXN\")*M122+_xll.rtdValue(\"ASK QTY\",$A122,\"EMD\",\"MXN\")*L122)/(_xll.rtdValue(\"BID QTY\",$A122,\"EMD\",\"MXN\")+_xll.rtdValue(\"ASK QTY\",$A122,\"EMD\",\"MXN\")),\"\")","v":""}]
[null,null,null,null,null,null,null,null,null,null,null,{"$f":"IF(RTD(\"gllinks.rtd\",,\"Mkt\",$A123,L$1)=\"--\",\"\",RTD(\"gllinks.rtd\",,\"Mkt\",$A123,L$1))","v":{"$error":"#N/A"}},{"$f":"IF(RTD(\"gllinks.rtd\",,\"Mkt\",$A123,M$1)=\"--\",\"\",RTD(\"gllinks.rtd\",,\"Mkt\",$A123,M$1))","v":{"$error":"#N/A"}},{"$f":"IF(RTD(\"gllinks.rtd\",,\"Mkt\",$A123,N$1)=\"--\",\"\",RTD(\"gllinks.rtd\",,\"Mkt\",$A123,N$1))","v":{"$error":"#N/A"}}]
[null,null,null,null,null,null,null,null,null,null,null,{"$f":"IF(RTD(\"gllinks.rtd\",,\"Mkt\",$A124,L$1)=\"--\",\"\",RTD(\"gllinks.rtd\",,\"Mkt\",$A124,L$1))","v":{"$error":"#N/A"}},{"$f":"IF(RTD(\"gllinks.rtd\",,\"Mkt\",$A124,M$1)=\"--\",\"\",RTD(\"gllinks.rtd\",,\"Mkt\",$A124,M$1))","v":{"$error":"#N/A"}},{"$f":"IF(RTD(\"gllinks.rtd\",,\"Mkt\",$A124,N$1)=\"--\",\"\",RTD(\"gllinks.rtd\",,\"Mkt\",$A124,N$1))","v":{"$error":"#N/A"}},{"$f":"IFERROR((_xll.rtdValue(\"BID QTY\",$A124,\"EMD\",\"MXN\")*M124+_xll.rtdValue(\"ASK QTY\",$A124,\"EMD\",\"MXN\")*L124)/(_xll.rtdValue(\"BID QTY\",$A124,\"EMD\",\"MXN\")+_xll.rtdValue(\"ASK QTY\",$A124,\"EMD\",\"MXN\")),\"\")","v":""}]
[null,null,null,null,null,null,null,null,null,null,null,{"$f":"IF(RTD(\"gllinks.rtd\",,\"Mkt\",$A125,L$1)=\"--\",\"\",RTD(\"gllinks.rtd\",,\"Mkt\",$A125,L$1))","v":{"$error":"#N/A"}},{"$f":"IF(RTD(\"gllinks.rtd\",,\"Mkt\",$A125,M$1)=\"--\",\"\",RTD(\"gllinks.rtd\",,\"Mkt\",$A125,M$1))","v":{"$error":"#N/A"}},{"$f":"IF(RTD(\"gllinks.rtd\",,\"Mkt\",$A125,N$1)=\"--\",\"\",RTD(\"gllinks.rtd\",,\"Mkt\",$A125,N$1))","v":{"$error":"#N/A"}}]
[null,null,null,null,null,null,null,null,null,null,null,{"$f":"IF(RTD(\"gllinks.rtd\",,\"Mkt\",$A126,L$1)=\"--\",\"\",RTD(\"gllinks.rtd\",,\"Mkt\",$A126,L$1))","v":{"$error":"#N/A"}},{"$f":"IF(RTD(\"gllinks.rtd\",,\"Mkt\",$A126,M$1)=\"--\",\"\",RTD(\"gllinks.rtd\",,\"Mkt\",$A126,M$1))","v":{"$error":"#N/A"}},{"$f":"IF(RTD(\"gllinks.rtd\",,\"Mkt\",$A126,N$1)=\"--\",\"\",RTD(\"gllinks.rtd\",,\"Mkt\",$A126,N$1))","v":{"$error":"#N/A"}},{"$f":"IFERROR((_xll.rtdValue(\"BID QTY\",$A126,\"EMD\",\"MXN\")*M126+_xll.rtdValue(\"ASK QTY\",$A126,\"EMD\",\"MXN\")*L126)/(_xll.rtdValue(\"BID QTY\",$A126,\"EMD\",\"MXN\")+_xll.rtdValue(\"ASK QTY\",$A126,\"EMD\",\"MXN\")),\"\")","v":""}]
[null,null,null,null,null,null,null,null,null,null,null,{"$f":"IF(RTD(\"gllinks.rtd\",,\"Mkt\",$A127,L$1)=\"--\",\"\",RTD(\"gllinks.rtd\",,\"Mkt\",$A127,L$1))","v":{"$error":"#N/A"}},{"$f":"IF(RTD(\"gllinks.rtd\",,\"Mkt\",$A127,M$1)=\"--\",\"\",RTD(\"gllinks.rtd\",,\"Mkt\",$A127,M$1))","v":{"$error":"#N/A"}},{"$f":"IF(RTD(\"gllinks.rtd\",,\"Mkt\",$A127,N$1)=\"--\",\"\",RTD(\"gllinks.rtd\",,\"Mkt\",$A127,N$1))","v":{"$error":"#N/A"}}]
[null,null,null,null,null,null,null,null,null,null,null,{"$f":"IF(RTD(\"gllinks.rtd\",,\"Mkt\",$A128,L$1)=\"--\",\"\",RTD(\"gllinks.rtd\",,\"Mkt\",$A128,L$1))","v":{"$error":"#N/A"}},{"$f":"IF(RTD(\"gllinks.rtd\",,\"Mkt\",$A128,M$1)=\"--\",\"\",RTD(\"gllinks.rtd\",,\"Mkt\",$A128,M$1))","v":{"$error":"#N/A"}},{"$f":"IF(RTD(\"gllinks.rtd\",,\"Mkt\",$A128,N$1)=\"--\",\"\",RTD(\"gllinks.rtd\",,\"Mkt\",$A128,N$1))","v":{"$error":"#N/A"}},{"$f":"IFERROR((_xll.rtdValue(\"BID QTY\",$A128,\"EMD\",\"MXN\")*M128+_xll.rtdValue(\"ASK QTY\",$A128,\"EMD\",\"MXN\")*L128)/(_xll.rtdValue(\"BID QTY\",$A128,\"EMD\",\"MXN\")+_xll.rtdValue(\"ASK QTY\",$A128,\"EMD\",\"MXN\")),\"\")","v":""}]
[null,null,null,null,null,null,null,null,null,null,null,{"$f":"IF(RTD(\"gllinks.rtd\",,\"Mkt\",$A129,L$1)=\"--\",\"\",RTD(\"gllinks.rtd\",,\"Mkt\",$A129,L$1))","v":{"$error":"#N/A"}},{"$f":"IF(RTD(\"gllinks.rtd\",,\"Mkt\",$A129,M$1)=\"--\",\"\",RTD(\"gllinks.rtd\",,\"Mkt\",$A129,M$1))","v":{"$error":"#N/A"}},{"$f":"IF(RTD(\"gllinks.rtd\",,\"Mkt\",$A129,N$1)=\"--\",\"\",RTD(\"gllinks.rtd\",,\"Mkt\",$A129,N$1))","v":{"$error":"#N/A"}}]
[null,null,null,{"$error":"#N/A"},{"$error":"#N/A"},null,null,{"$error":"#N/A"},null,null,null,{"$f":"IF(RTD(\"gllinks.rtd\",,\"Mkt\",$A130,L$1)=\"--\",\"\",RTD(\"gllinks.rtd\",,\"Mkt\",$A130,L$1))","v":{"$error":"#N/A"}},{"$f":"IF(RTD(\"gllinks.rtd\",,\"Mkt\",$A130,M$1)=\"--\",\"\",RTD(\"gllinks.rtd\",,\"Mkt\",$A130,M$1))","v":{"$error":"#N/A"}},{"$f":"IF(RTD(\"gllinks.rtd\",,\"Mkt\",$A130,N$1)=\"--\",\"\",RTD(\"gllinks.rtd\",,\"Mkt\",$A130,N$1))","v":{"$error":"#N/A"}}]
[]
[null,null,null,null,null,null,null,null,null,null,null,{"$f":"IF(RTD(\"gllinks.rtd\",,\"Mkt\",$A132,L$1)=\"--\",\"\",RTD(\"gllinks.rtd\",,\"Mkt\",$A132,L$1))","v":{"$error":"#N/A"}},{"$f":"IF(RTD(\"gllinks.rtd\",,\"Mkt\",$A132,M$1)=\"--\",\"\",RTD(\"gllinks.rtd\",,\"Mkt\",$A132,M$1))","v":{"$error":"#N/A"}},{"$f":"IF(RTD(\"gllinks.rtd\",,\"Mkt\",$A132,N$1)=\"--\",\"\",RTD(\"gllinks.rtd\",,\"Mkt\",$A132,N$1))","v":{"$error":"#N/A"}},{"$f":"IFERROR((_xll.rtdValue(\"BID QTY\",$A132,\"EMD\",\"MXN\")*M132+_xll.rtdValue(\"ASK QTY\",$A132,\"EMD\",\"MXN\")*L132)/(_xll.rtdValue(\"BID QTY\",$A132,\"EMD\",\"MXN\")+_xll.rtdValue(\"ASK QTY\",$A132,\"EMD\",\"MXN\")),\"\")","v":""}]
[null,null,null,null,null,null,null,null,null,null,null,{"$f":"IF(RTD(\"gllinks.rtd\",,\"Mkt\",$A133,L$1)=\"--\",\"\",RTD(\"gllinks.rtd\",,\"Mkt\",$A133,L$1))","v":{"$error":"#N/A"}},{"$f":"IF(RTD(\"gllinks.rtd\",,\"Mkt\",$A133,M$1)=\"--\",\"\",RTD(\"gllinks.rtd\",,\"Mkt\",$A133,M$1))","v":{"$error":"#N/A"}},{"$f":"IF(RTD(\"gllinks.rtd\",,\"Mkt\",$A133,N$1)=\"--\",\"\",RTD(\"gllinks.rtd\",,\"Mkt\",$A133,N$1))","v":{"$error":"#N/A"}}]
[null,null,null,null,null,null,null,null,null,null,null,{"$f":"IF(RTD(\"gllinks.rtd\",,\"Mkt\",$A134,L$1)=\"--\",\"\",RTD(\"gllinks.rtd\",,\"Mkt\",$A134,L$1))","v":{"$error":"#N/A"}},{"$f":"IF(RTD(\"gllinks.rtd\",,\"Mkt\",$A134,M$1)=\"--\",\"\",RTD(\"gllinks.rtd\",,\"Mkt\",$A134,M$1))","v":{"$error":"#N/A"}},{"$f":"IF(RTD(\"gllinks.rtd\",,\"Mkt\",$A134,N$1)=\"--\",\"\",RTD(\"gllinks.rtd\",,\"Mkt\",$A134,N$1))","v":{"$error":"#N/A"}},{"$f":"IFERROR((_xll.rtdValue(\"BID QTY\",$A134,\"EMD\",\"MXN\")*M134+_xll.rtdValue(\"ASK QTY\",$A134,\"EMD\",\"MXN\")*L134)/(_xll.rtdValue(\"BID QTY\",$A134,\"EMD\",\"MXN\")+_xll.rtdValue(\"ASK QTY\",$A134,\"EMD\",\"MXN\")),\"\")","v":""}]
[null,null,null,null,null,null,null,null,null,null,null,{"$f":"IF(RTD(\"gllinks.rtd\",,\"Mkt\",$A135,L$1)=\"--\",\"\",RTD(\"gllinks.rtd\",,\"Mkt\",$A135,L$1))","v":{"$error":"#N/A"}},{"$f":"IF(RTD(\"gllinks.rtd\",,\"Mkt\",$A135,M$1)=\"--\",\"\",RTD(\"gllinks.rtd\",,\"Mkt\",$A135,M$1))","v":{"$error":"#N/A"}},{"$f":"IF(RTD(\"gllinks.rtd\",,\"Mkt\",$A135,N$1)=\"--\",\"\",RTD(\"gllinks.rtd\",,\"Mkt\",$A135,N$1))","v":{"$error":"#N/A"}}]
[null,null,null,null,null,null,null,null,null,null,null,{"$f":"IF(RTD(\"gllinks.rtd\",,\"Mkt\",$A136,L$1)=\"--\",\"\",RTD(\"gllinks.rtd\",,\"Mkt\",$A136,L$1))","v":{"$error":"#N/A"}},{"$f":"IF(RTD(\"gllinks.rtd\",,\"Mkt\",$A136,M$1)=\"--\",\"\",RTD(\"gllinks.rtd\",,\"Mkt\",$A136,M$1))","v":{"$error":"#N/A"}},{"$f":"IF(RTD(\"gllinks.rtd\",,\"Mkt\",$A136,N$1)=\"--\",\"\",RTD(\"gllinks.rtd\",,\"Mkt\",$A136,N$1))","v":{"$error":"#N/A"}},{"$f":"IFERROR((_xll.rtdValue(\"BID QTY\",$A136,\"EMD\",\"MXN\")*M136+_xll.rtdValue(\"ASK QTY\",$A136,\"EMD\",\"MXN\")*L136)/(_xll.rtdValue(\"BID QTY\",$A136,\"EMD\",\"MXN\")+_xll.rtdValue(\"ASK QTY\",$A136,\"EMD\",\"MXN\")),\"\")","v":""}]
[null,null,null,null,null,null,null,null,null,null,null,{"$f":"IF(RTD(\"gllinks.rtd\",,\"Mkt\",$A137,L$1)=\"--\",\"\",RTD(\"gllinks.rtd\",,\"Mkt\",$A137,L$1))","v":{"$error":"#N/A"}},{"$f":"IF(RTD(\"gllinks.rtd\",,\"Mkt\",$A137,M$1)=\"--\",\"\",RTD(\"gllinks.rtd\",,\"Mkt\",$A137,M$1))","v":{"$error":"#N/A"}},{"$f":"IF(RTD(\"gllinks.rtd\",,\"Mkt\",$A137,N$1)=\"--\",\"\",RTD(\"gllinks.rtd\",,\"Mkt\",$A137,N$1))","v":{"$error":"#N/A"}}]
[null,null,null,null,null,null,null,null,null,null,null,{"$f":"IF(RTD(\"gllinks.rtd\",,\"Mkt\",$A138,L$1)=\"--\",\"\",RTD(\"gllinks.rtd\",,\"Mkt\",$A138,L$1))","v":{"$error":"#N/A"}},{"$f":"IF(RTD(\"gllinks.rtd\",,\"Mkt\",$A138,M$1)=\"--\",\"\",RTD(\"gllinks.rtd\",,\"Mkt\",$A138,M$1))","v":{"$error":"#N/A"}},{"$f":"IF(RTD(\"gllinks.rtd\",,\"Mkt\",$A138,N$1)=\"--\",\"\",RTD(\"gllinks.rtd\",,\"Mkt\",$A138,N$1))","v":{"$error":"#N/A"}},{"$f":"IFERROR((_xll.rtdValue(\"BID QTY\",$A138,\"EMD\",\"MXN\")*M138+_xll.rtdValue(\"ASK QTY\",$A138,\"EMD\",\"MXN\")*L138)/(_xll.rtdValue(\"BID QTY\",$A138,\"EMD\",\"MXN\")+_xll.rtdValue(\"ASK QTY\",$A138,\"EMD\",\"MXN\")),\"\")","v":""}]
[]
[null,null,null,0,0,null,null,0]

{"sheet":"calendario","index":4,"n_rows":339,"n_cols":1,"rows_kept":339,"cut":false,"hidden":true,"merged":[]}
["2015-01-01"]
["2015-02-02"]
["2015-03-16"]
["2015-04-02"]
["2015-04-03"]
["2015-05-01"]
["2015-09-16"]
["2015-11-02"]
["2015-11-16"]
["2015-12-25"]
["2016-01-01"]
["2016-02-01"]
["2016-03-21"]
["2016-03-24"]
["2016-03-25"]
["2016-09-16"]
["2016-11-02"]
["2016-11-21"]
["2016-12-12"]
["2017-02-06"]
["2017-03-20"]
["2017-04-13"]
["2017-04-14"]
["2017-05-01"]
["2017-11-02"]
["2017-11-20"]
["2017-12-12"]
["2017-12-25"]
["2018-01-01"]
["2018-02-05"]
["2018-03-19"]
["2018-03-29"]
["2018-03-30"]
["2018-05-01"]
["2018-11-02"]
["2018-11-19"]
["2018-12-12"]
["2018-12-25"]
["2019-01-01"]
["2019-02-04"]
["2019-03-18"]
["2019-04-18"]
["2019-04-19"]
["2019-05-01"]
["2019-09-16"]
["2019-11-18"]
["2019-12-12"]
["2019-12-25"]
["2020-01-01"]
["2020-02-03"]
["2020-03-16"]
["2020-04-09"]
["2020-04-10"]
["2020-05-01"]
["2020-09-16"]
["2020-11-02"]
["2020-11-16"]
["2020-12-25"]
["2021-01-01"]
["2021-02-01"]
["2021-03-15"]
["2021-04-01"]
["2021-04-02"]
["2021-09-16"]
["2021-11-02"]
["2021-11-15"]
["2022-02-07"]
["2022-03-21"]
["2022-04-14"]
["2022-04-15"]
["2022-09-16"]
["2022-11-02"]
["2022-11-21"]
["2022-12-12"]
["2023-02-06"]
["2023-03-20"]
["2023-04-06"]
["2023-04-07"]
["2023-05-01"]
["2023-11-02"]
["2023-11-20"]
["2023-12-12"]
["2023-12-25"]
["2024-01-01"]
["2024-02-05"]
["2024-03-18"]
["2024-03-28"]
["2024-03-29"]
["2024-05-01"]
["2024-09-16"]
["2024-11-18"]
["2024-12-12"]
["2024-12-25"]
["2025-01-01"]
["2025-02-03"]
["2025-03-17"]
["2025-04-17"]
["2025-04-18"]
["2025-05-01"]
["2025-09-16"]
["2025-11-17"]
["2025-12-12"]
["2025-12-25"]
["2026-01-01"]
["2026-02-02"]
["2026-03-16"]
["2026-04-02"]
["2026-04-03"]
["2026-05-01"]
["2026-09-16"]
["2026-11-02"]
["2026-11-16"]
["2026-12-25"]
["2027-01-01"]
["2027-02-01"]
["2027-03-15"]
["2027-03-25"]
["2027-03-26"]
["2027-09-16"]
["2027-11-02"]
["2027-11-15"]
["2028-02-07"]
["2028-03-20"]
["2028-04-13"]
["2028-04-14"]
["2028-05-01"]
["2028-11-02"]
["2028-11-20"]
["2028-12-12"]
["2028-12-25"]
["2029-01-01"]
["2029-02-05"]
["2029-03-19"]
["2029-03-29"]
["2029-03-30"]
["2029-05-01"]
["2029-11-02"]
["2029-11-19"]
["2029-12-12"]
["2029-12-25"]
["2030-01-01"]
["2030-02-04"]
["2030-03-18"]
["2030-04-18"]
["2030-04-19"]
["2030-05-01"]
["2030-09-16"]
["2030-11-18"]
["2030-12-12"]
["2030-12-25"]
["2031-01-01"]
["2031-02-03"]
["2031-03-17"]
["2031-04-10"]
["2031-04-11"]
["2031-05-01"]
["2031-09-16"]
["2031-11-17"]
["2031-12-12"]
["2031-12-25"]
["2032-01-01"]
["2032-02-02"]
["2032-03-15"]
["2032-03-25"]
["2032-03-26"]
["2032-09-16"]
["2032-11-02"]
["2032-11-15"]
["2033-02-07"]
["2033-03-21"]
["2033-04-14"]
["2033-04-15"]
["2033-09-16"]
["2033-11-02"]
["2033-11-21"]
["2033-12-12"]
["2034-02-06"]
["2034-03-20"]
["2034-04-06"]
["2034-04-07"]
["2034-05-01"]
["2034-11-02"]
["2034-11-20"]
["2034-12-12"]
["2034-12-25"]
["2035-01-01"]
["2035-02-05"]
["2035-03-19"]
["2035-03-22"]
["2035-03-23"]
["2035-05-01"]
["2035-11-02"]
["2035-11-19"]
["2035-12-12"]
["2035-12-25"]
["2036-01-01"]
["2036-02-04"]
["2036-03-17"]
["2036-04-10"]
["2036-04-11"]
["2036-05-01"]
["2036-09-16"]
["2036-11-17"]
["2036-12-01"]
["2036-12-12"]
["2036-12-25"]
["2037-01-01"]
["2037-02-02"]
["2037-03-16"]
["2037-04-02"]
["2037-04-03"]
["2037-05-01"]
["2037-09-16"]
["2037-11-02"]
["2037-11-16"]
["2037-12-25"]
["2038-01-01"]
["2038-02-01"]
["2038-03-15"]
["2038-04-22"]
["2038-04-23"]
["2038-09-16"]
["2038-11-02"]
["2038-11-15"]
["2039-02-07"]
["2039-03-21"]
["2039-04-07"]
["2039-04-08"]
["2039-09-16"]
["2039-11-02"]
["2039-11-21"]
["2039-12-12"]
["2040-02-06"]
["2040-03-19"]
["2040-03-29"]
["2040-03-30"]
["2040-05-01"]
["2040-11-02"]
["2040-11-19"]
["2040-12-12"]
["2040-12-25"]
["2041-01-01"]
["2041-02-04"]
["2041-03-18"]
["2041-04-18"]
["2041-04-19"]
["2041-05-01"]
["2041-09-16"]
["2041-11-18"]
["2041-12-12"]
["2041-12-25"]
["2042-01-01"]
["2042-02-03"]
["2042-03-17"]
["2042-04-03"]
["2042-04-04"]
["2042-05-01"]
["2042-09-16"]
["2042-11-17"]
["2042-12-01"]
["2042-12-12"]
["2042-12-25"]
["2043-01-01"]
["2043-02-02"]
["2043-03-16"]
["2043-03-26"]
["2043-03-27"]
["2043-05-01"]
["2043-09-16"]
["2043-11-02"]
["2043-11-16"]
["2043-12-25"]
["2044-01-01"]
["2044-02-01"]
["2044-03-21"]
["2044-04-14"]
["2044-04-15"]
["2044-09-16"]
["2044-11-02"]
["2044-11-21"]
["2044-12-12"]
["2044-12-12"]
["2045-02-06"]
["2045-03-20"]
["2045-04-06"]
["2045-04-07"]
["2045-05-01"]
["2045-11-02"]
["2045-11-20"]
["2045-12-12"]
["2045-12-25"]
["2046-01-01"]
["2046-02-05"]
["2046-03-19"]
["2046-03-22"]
["2046-03-23"]
["2046-05-01"]
["2046-11-02"]
["2046-11-19"]
["2046-12-12"]
["2046-12-25"]
["2047-01-01"]
["2047-02-04"]
["2047-03-18"]
["2047-04-11"]
["2047-04-12"]
["2047-05-01"]
["2047-09-16"]
["2047-11-18"]
["2047-12-12"]
["2047-12-25"]
["2048-01-01"]
["2048-02-03"]
["2048-03-16"]
["2048-04-02"]
["2048-04-03"]
["2048-05-01"]
["2048-09-16"]
["2048-11-02"]
["2048-11-16"]
["2048-12-01"]
["2048-12-25"]
["2049-01-01"]
["2049-02-01"]
["2049-03-15"]
["2049-04-15"]
["2049-04-16"]
["2049-09-16"]
["2049-11-02"]
["2049-11-15"]
["2049-12-12"]
["2050-02-07"]
["2050-03-21"]
["2050-04-07"]
["2050-04-08"]
["2050-09-16"]
["2050-11-02"]
["2050-11-21"]
["2050-12-12"]

{"sheet":"Entrega Anticipada","index":5,"n_rows":17,"n_cols":3,"rows_kept":17,"cut":false,"hidden":true,"merged":[]}
[]
[]
[]
[]
[null,"Fecha entrega",{"$f":"CALC!B3","v":"2022-01-04"}]
[null,"Precio Liquidación ",116.2]
[null,"Dias x vencer",1]
[null,"VP Cupón vig",{"$f":"CALC!B13","v":0}]
[null,"Tasa Fondeo",{"$f":"CALC!B11","v":5.8039420000000002}]
[]
[null,"Si se entrega el bono antes de que corte cupón"]
[]
[null,"Precio Entrega",{"$f":"C6/(1+C9*C7/36000)+C8","v":116.18126918478238}]
[]
[null,"Si se entrega el bono en el corte de cupón o despué"]
[]
[null,"Precio Entrega",{"$f":"C6/(1+C9*C7/36000)","v":116.18126918478238}]